BEGIN:VCALENDAR
VERSION:2.0
PRODID:-//Hound&#039;s Rest LLC - ECPv6.15.17.1//NONSGML v1.0//EN
CALSCALE:GREGORIAN
METHOD:PUBLISH
X-WR-CALNAME:Hound&#039;s Rest LLC
X-ORIGINAL-URL:https://houndsrest.com
X-WR-CALDESC:Events for Hound&#039;s Rest LLC
REFRESH-INTERVAL;VALUE=DURATION:PT1H
X-Robots-Tag:noindex
X-PUBLISHED-TTL:PT1H
BEGIN:VTIMEZONE
TZID:America/Chicago
BEGIN:DAYLIGHT
TZOFFSETFROM:-0600
TZOFFSETTO:-0500
TZNAME:CDT
DTSTART:20250309T080000
END:DAYLIGHT
BEGIN:STANDARD
TZOFFSETFROM:-0500
TZOFFSETTO:-0600
TZNAME:CST
DTSTART:20251102T070000
END:STANDARD
BEGIN:DAYLIGHT
TZOFFSETFROM:-0600
TZOFFSETTO:-0500
TZNAME:CDT
DTSTART:20260308T080000
END:DAYLIGHT
BEGIN:STANDARD
TZOFFSETFROM:-0500
TZOFFSETTO:-0600
TZNAME:CST
DTSTART:20261101T070000
END:STANDARD
BEGIN:DAYLIGHT
TZOFFSETFROM:-0600
TZOFFSETTO:-0500
TZNAME:CDT
DTSTART:20270314T080000
END:DAYLIGHT
BEGIN:STANDARD
TZOFFSETFROM:-0500
TZOFFSETTO:-0600
TZNAME:CST
DTSTART:20271107T070000
END:STANDARD
END:VTIMEZONE
BEGIN:VEVENT
DTSTART;TZID=America/Chicago:20260915T190000
DTEND;TZID=America/Chicago:20260915T210000
DTSTAMP:20260420T011227
CREATED:20260420T015859Z
LAST-MODIFIED:20260420T020033Z
UID:10000847-1789498800-1789506000@houndsrest.com
SUMMARY:Lyrics Unleashed
DESCRIPTION:Hound’s Rest is excited to collaborate with Sound Bridge to offer a live music series featuring only original performances and songwriting! This event will occur every Tuesday at Hound’s Rest from 7-9pm. Join us for a night of great music\, local libations and great company. Sound Bridge is a local\, Women owned\, Non-Profit that supports the promotion of original artists and songwriters. This series is also supported by City of Champaign through their Sound Check Program helping to support live music in Downtown Champaign.
URL:https://houndsrest.com/event/lyrics-unleashed-5-11/2026-09-15/
LOCATION:IL
CATEGORIES:Live music
ATTACH;FMTTYPE=application/pdf:https://houndsrest.com/wp-content/uploads/2025/09/Lyrics-Unleashed.pdf.pdf
END:VEVENT
BEGIN:VEVENT
DTSTART;TZID=America/Chicago:20260916T190000
DTEND;TZID=America/Chicago:20260916T233000
DTSTAMP:20260420T011227
CREATED:20240929T184201Z
LAST-MODIFIED:20240929T184201Z
UID:10000628-1789585200-1789601400@houndsrest.com
SUMMARY:Cocktail Flight Night at Hound's Court!
DESCRIPTION:Come out to partake in a flight! Varying offerings will come weekly.
URL:https://houndsrest.com/event/cocktail-flight-night-at-hounds-court/2026-09-16/
LOCATION:Hound’s Court\, 120 N Neil St\, Champaign\, IL\, 61822\, United States
CATEGORIES:Featuring Alcohol
ATTACH;FMTTYPE=image/jpeg:https://houndsrest.com/wp-content/uploads/2024/09/image0.jpeg
END:VEVENT
BEGIN:VEVENT
DTSTART;TZID=America/Chicago:20260920T190000
DTEND;TZID=America/Chicago:20260920T200000
DTSTAMP:20260420T011227
CREATED:20260420T022029Z
LAST-MODIFIED:20260420T022032Z
UID:10000104-1789930800-1789934400@houndsrest.com
SUMMARY:Trivia Night at Hound's Court!
DESCRIPTION:Come join us for Trivia every Sunday at Hound’s Court\, the 2025 News-Gazette People’s Choice winner for best Trivia in C-U! Join your host Monty as you test your knowledge in the ultimate trivia battle! \nIt’s free to play and you can win gift certificates for each round as well as for being the overall winning team! 6 rounds total! \nMaximum number of players per team is 5 to be in the running for gift certificates. Phone use results in disqualification. \nWe’ll see you there!
URL:https://houndsrest.com/event/trivia-night-at-hounds-court-2/2026-09-20/
LOCATION:Hound’s Court\, 120 N Neil St\, Champaign\, IL\, 61822\, United States
CATEGORIES:Trivia
ATTACH;FMTTYPE=image/jpeg:https://houndsrest.com/wp-content/uploads/2024/09/360_F_253816768_HCShTG3B5MLGS4HN3Rt4ZGkFx5sGXxwe.jpg
END:VEVENT
BEGIN:VEVENT
DTSTART;TZID=America/Chicago:20260922T190000
DTEND;TZID=America/Chicago:20260922T210000
DTSTAMP:20260420T011227
CREATED:20260420T015859Z
LAST-MODIFIED:20260420T020033Z
UID:10000848-1790103600-1790110800@houndsrest.com
SUMMARY:Lyrics Unleashed
DESCRIPTION:Hound’s Rest is excited to collaborate with Sound Bridge to offer a live music series featuring only original performances and songwriting! This event will occur every Tuesday at Hound’s Rest from 7-9pm. Join us for a night of great music\, local libations and great company. Sound Bridge is a local\, Women owned\, Non-Profit that supports the promotion of original artists and songwriters. This series is also supported by City of Champaign through their Sound Check Program helping to support live music in Downtown Champaign.
URL:https://houndsrest.com/event/lyrics-unleashed-5-11/2026-09-22/
LOCATION:IL
CATEGORIES:Live music
ATTACH;FMTTYPE=application/pdf:https://houndsrest.com/wp-content/uploads/2025/09/Lyrics-Unleashed.pdf.pdf
END:VEVENT
BEGIN:VEVENT
DTSTART;TZID=America/Chicago:20260923T190000
DTEND;TZID=America/Chicago:20260923T233000
DTSTAMP:20260420T011227
CREATED:20240929T184201Z
LAST-MODIFIED:20240929T184201Z
UID:10000629-1790190000-1790206200@houndsrest.com
SUMMARY:Cocktail Flight Night at Hound's Court!
DESCRIPTION:Come out to partake in a flight! Varying offerings will come weekly.
URL:https://houndsrest.com/event/cocktail-flight-night-at-hounds-court/2026-09-23/
LOCATION:Hound’s Court\, 120 N Neil St\, Champaign\, IL\, 61822\, United States
CATEGORIES:Featuring Alcohol
ATTACH;FMTTYPE=image/jpeg:https://houndsrest.com/wp-content/uploads/2024/09/image0.jpeg
END:VEVENT
BEGIN:VEVENT
DTSTART;TZID=America/Chicago:20260927T190000
DTEND;TZID=America/Chicago:20260927T200000
DTSTAMP:20260420T011227
CREATED:20260420T022029Z
LAST-MODIFIED:20260420T022032Z
UID:10000105-1790535600-1790539200@houndsrest.com
SUMMARY:Trivia Night at Hound's Court!
DESCRIPTION:Come join us for Trivia every Sunday at Hound’s Court\, the 2025 News-Gazette People’s Choice winner for best Trivia in C-U! Join your host Monty as you test your knowledge in the ultimate trivia battle! \nIt’s free to play and you can win gift certificates for each round as well as for being the overall winning team! 6 rounds total! \nMaximum number of players per team is 5 to be in the running for gift certificates. Phone use results in disqualification. \nWe’ll see you there!
URL:https://houndsrest.com/event/trivia-night-at-hounds-court-2/2026-09-27/
LOCATION:Hound’s Court\, 120 N Neil St\, Champaign\, IL\, 61822\, United States
CATEGORIES:Trivia
ATTACH;FMTTYPE=image/jpeg:https://houndsrest.com/wp-content/uploads/2024/09/360_F_253816768_HCShTG3B5MLGS4HN3Rt4ZGkFx5sGXxwe.jpg
END:VEVENT
BEGIN:VEVENT
DTSTART;TZID=America/Chicago:20260929T190000
DTEND;TZID=America/Chicago:20260929T210000
DTSTAMP:20260420T011227
CREATED:20260420T015859Z
LAST-MODIFIED:20260420T020033Z
UID:10000849-1790708400-1790715600@houndsrest.com
SUMMARY:Lyrics Unleashed
DESCRIPTION:Hound’s Rest is excited to collaborate with Sound Bridge to offer a live music series featuring only original performances and songwriting! This event will occur every Tuesday at Hound’s Rest from 7-9pm. Join us for a night of great music\, local libations and great company. Sound Bridge is a local\, Women owned\, Non-Profit that supports the promotion of original artists and songwriters. This series is also supported by City of Champaign through their Sound Check Program helping to support live music in Downtown Champaign.
URL:https://houndsrest.com/event/lyrics-unleashed-5-11/2026-09-29/
LOCATION:IL
CATEGORIES:Live music
ATTACH;FMTTYPE=application/pdf:https://houndsrest.com/wp-content/uploads/2025/09/Lyrics-Unleashed.pdf.pdf
END:VEVENT
BEGIN:VEVENT
DTSTART;TZID=America/Chicago:20260930T190000
DTEND;TZID=America/Chicago:20260930T233000
DTSTAMP:20260420T011227
CREATED:20240929T184201Z
LAST-MODIFIED:20240929T184201Z
UID:10000630-1790794800-1790811000@houndsrest.com
SUMMARY:Cocktail Flight Night at Hound's Court!
DESCRIPTION:Come out to partake in a flight! Varying offerings will come weekly.
URL:https://houndsrest.com/event/cocktail-flight-night-at-hounds-court/2026-09-30/
LOCATION:Hound’s Court\, 120 N Neil St\, Champaign\, IL\, 61822\, United States
CATEGORIES:Featuring Alcohol
ATTACH;FMTTYPE=image/jpeg:https://houndsrest.com/wp-content/uploads/2024/09/image0.jpeg
END:VEVENT
BEGIN:VEVENT
DTSTART;TZID=America/Chicago:20261004T190000
DTEND;TZID=America/Chicago:20261004T200000
DTSTAMP:20260420T011227
CREATED:20260420T022029Z
LAST-MODIFIED:20260420T022032Z
UID:10000106-1791140400-1791144000@houndsrest.com
SUMMARY:Trivia Night at Hound's Court!
DESCRIPTION:Come join us for Trivia every Sunday at Hound’s Court\, the 2025 News-Gazette People’s Choice winner for best Trivia in C-U! Join your host Monty as you test your knowledge in the ultimate trivia battle! \nIt’s free to play and you can win gift certificates for each round as well as for being the overall winning team! 6 rounds total! \nMaximum number of players per team is 5 to be in the running for gift certificates. Phone use results in disqualification. \nWe’ll see you there!
URL:https://houndsrest.com/event/trivia-night-at-hounds-court-2/2026-10-04/
LOCATION:Hound’s Court\, 120 N Neil St\, Champaign\, IL\, 61822\, United States
CATEGORIES:Trivia
ATTACH;FMTTYPE=image/jpeg:https://houndsrest.com/wp-content/uploads/2024/09/360_F_253816768_HCShTG3B5MLGS4HN3Rt4ZGkFx5sGXxwe.jpg
END:VEVENT
BEGIN:VEVENT
DTSTART;TZID=America/Chicago:20261006T190000
DTEND;TZID=America/Chicago:20261006T210000
DTSTAMP:20260420T011227
CREATED:20260420T015859Z
LAST-MODIFIED:20260420T020033Z
UID:10000850-1791313200-1791320400@houndsrest.com
SUMMARY:Lyrics Unleashed
DESCRIPTION:Hound’s Rest is excited to collaborate with Sound Bridge to offer a live music series featuring only original performances and songwriting! This event will occur every Tuesday at Hound’s Rest from 7-9pm. Join us for a night of great music\, local libations and great company. Sound Bridge is a local\, Women owned\, Non-Profit that supports the promotion of original artists and songwriters. This series is also supported by City of Champaign through their Sound Check Program helping to support live music in Downtown Champaign.
URL:https://houndsrest.com/event/lyrics-unleashed-5-11/2026-10-06/
LOCATION:IL
CATEGORIES:Live music
ATTACH;FMTTYPE=application/pdf:https://houndsrest.com/wp-content/uploads/2025/09/Lyrics-Unleashed.pdf.pdf
END:VEVENT
BEGIN:VEVENT
DTSTART;TZID=America/Chicago:20261007T190000
DTEND;TZID=America/Chicago:20261007T233000
DTSTAMP:20260420T011227
CREATED:20240929T184201Z
LAST-MODIFIED:20240929T184201Z
UID:10000631-1791399600-1791415800@houndsrest.com
SUMMARY:Cocktail Flight Night at Hound's Court!
DESCRIPTION:Come out to partake in a flight! Varying offerings will come weekly.
URL:https://houndsrest.com/event/cocktail-flight-night-at-hounds-court/2026-10-07/
LOCATION:Hound’s Court\, 120 N Neil St\, Champaign\, IL\, 61822\, United States
CATEGORIES:Featuring Alcohol
ATTACH;FMTTYPE=image/jpeg:https://houndsrest.com/wp-content/uploads/2024/09/image0.jpeg
END:VEVENT
BEGIN:VEVENT
DTSTART;TZID=America/Chicago:20261011T190000
DTEND;TZID=America/Chicago:20261011T200000
DTSTAMP:20260420T011227
CREATED:20260420T022029Z
LAST-MODIFIED:20260420T022032Z
UID:10000107-1791745200-1791748800@houndsrest.com
SUMMARY:Trivia Night at Hound's Court!
DESCRIPTION:Come join us for Trivia every Sunday at Hound’s Court\, the 2025 News-Gazette People’s Choice winner for best Trivia in C-U! Join your host Monty as you test your knowledge in the ultimate trivia battle! \nIt’s free to play and you can win gift certificates for each round as well as for being the overall winning team! 6 rounds total! \nMaximum number of players per team is 5 to be in the running for gift certificates. Phone use results in disqualification. \nWe’ll see you there!
URL:https://houndsrest.com/event/trivia-night-at-hounds-court-2/2026-10-11/
LOCATION:Hound’s Court\, 120 N Neil St\, Champaign\, IL\, 61822\, United States
CATEGORIES:Trivia
ATTACH;FMTTYPE=image/jpeg:https://houndsrest.com/wp-content/uploads/2024/09/360_F_253816768_HCShTG3B5MLGS4HN3Rt4ZGkFx5sGXxwe.jpg
END:VEVENT
BEGIN:VEVENT
DTSTART;TZID=America/Chicago:20261013T190000
DTEND;TZID=America/Chicago:20261013T210000
DTSTAMP:20260420T011227
CREATED:20260420T015859Z
LAST-MODIFIED:20260420T020033Z
UID:10000851-1791918000-1791925200@houndsrest.com
SUMMARY:Lyrics Unleashed
DESCRIPTION:Hound’s Rest is excited to collaborate with Sound Bridge to offer a live music series featuring only original performances and songwriting! This event will occur every Tuesday at Hound’s Rest from 7-9pm. Join us for a night of great music\, local libations and great company. Sound Bridge is a local\, Women owned\, Non-Profit that supports the promotion of original artists and songwriters. This series is also supported by City of Champaign through their Sound Check Program helping to support live music in Downtown Champaign.
URL:https://houndsrest.com/event/lyrics-unleashed-5-11/2026-10-13/
LOCATION:IL
CATEGORIES:Live music
ATTACH;FMTTYPE=application/pdf:https://houndsrest.com/wp-content/uploads/2025/09/Lyrics-Unleashed.pdf.pdf
END:VEVENT
BEGIN:VEVENT
DTSTART;TZID=America/Chicago:20261014T190000
DTEND;TZID=America/Chicago:20261014T233000
DTSTAMP:20260420T011227
CREATED:20240929T184201Z
LAST-MODIFIED:20240929T184201Z
UID:10000632-1792004400-1792020600@houndsrest.com
SUMMARY:Cocktail Flight Night at Hound's Court!
DESCRIPTION:Come out to partake in a flight! Varying offerings will come weekly.
URL:https://houndsrest.com/event/cocktail-flight-night-at-hounds-court/2026-10-14/
LOCATION:Hound’s Court\, 120 N Neil St\, Champaign\, IL\, 61822\, United States
CATEGORIES:Featuring Alcohol
ATTACH;FMTTYPE=image/jpeg:https://houndsrest.com/wp-content/uploads/2024/09/image0.jpeg
END:VEVENT
BEGIN:VEVENT
DTSTART;TZID=America/Chicago:20261018T190000
DTEND;TZID=America/Chicago:20261018T200000
DTSTAMP:20260420T011227
CREATED:20260420T022029Z
LAST-MODIFIED:20260420T022032Z
UID:10000108-1792350000-1792353600@houndsrest.com
SUMMARY:Trivia Night at Hound's Court!
DESCRIPTION:Come join us for Trivia every Sunday at Hound’s Court\, the 2025 News-Gazette People’s Choice winner for best Trivia in C-U! Join your host Monty as you test your knowledge in the ultimate trivia battle! \nIt’s free to play and you can win gift certificates for each round as well as for being the overall winning team! 6 rounds total! \nMaximum number of players per team is 5 to be in the running for gift certificates. Phone use results in disqualification. \nWe’ll see you there!
URL:https://houndsrest.com/event/trivia-night-at-hounds-court-2/2026-10-18/
LOCATION:Hound’s Court\, 120 N Neil St\, Champaign\, IL\, 61822\, United States
CATEGORIES:Trivia
ATTACH;FMTTYPE=image/jpeg:https://houndsrest.com/wp-content/uploads/2024/09/360_F_253816768_HCShTG3B5MLGS4HN3Rt4ZGkFx5sGXxwe.jpg
END:VEVENT
BEGIN:VEVENT
DTSTART;TZID=America/Chicago:20261020T190000
DTEND;TZID=America/Chicago:20261020T210000
DTSTAMP:20260420T011227
CREATED:20260420T015859Z
LAST-MODIFIED:20260420T020033Z
UID:10000852-1792522800-1792530000@houndsrest.com
SUMMARY:Lyrics Unleashed
DESCRIPTION:Hound’s Rest is excited to collaborate with Sound Bridge to offer a live music series featuring only original performances and songwriting! This event will occur every Tuesday at Hound’s Rest from 7-9pm. Join us for a night of great music\, local libations and great company. Sound Bridge is a local\, Women owned\, Non-Profit that supports the promotion of original artists and songwriters. This series is also supported by City of Champaign through their Sound Check Program helping to support live music in Downtown Champaign.
URL:https://houndsrest.com/event/lyrics-unleashed-5-11/2026-10-20/
LOCATION:IL
CATEGORIES:Live music
ATTACH;FMTTYPE=application/pdf:https://houndsrest.com/wp-content/uploads/2025/09/Lyrics-Unleashed.pdf.pdf
END:VEVENT
BEGIN:VEVENT
DTSTART;TZID=America/Chicago:20261021T190000
DTEND;TZID=America/Chicago:20261021T233000
DTSTAMP:20260420T011227
CREATED:20240929T184201Z
LAST-MODIFIED:20240929T184201Z
UID:10000633-1792609200-1792625400@houndsrest.com
SUMMARY:Cocktail Flight Night at Hound's Court!
DESCRIPTION:Come out to partake in a flight! Varying offerings will come weekly.
URL:https://houndsrest.com/event/cocktail-flight-night-at-hounds-court/2026-10-21/
LOCATION:Hound’s Court\, 120 N Neil St\, Champaign\, IL\, 61822\, United States
CATEGORIES:Featuring Alcohol
ATTACH;FMTTYPE=image/jpeg:https://houndsrest.com/wp-content/uploads/2024/09/image0.jpeg
END:VEVENT
BEGIN:VEVENT
DTSTART;TZID=America/Chicago:20261025T190000
DTEND;TZID=America/Chicago:20261025T200000
DTSTAMP:20260420T011227
CREATED:20260420T022029Z
LAST-MODIFIED:20260420T022032Z
UID:10000109-1792954800-1792958400@houndsrest.com
SUMMARY:Trivia Night at Hound's Court!
DESCRIPTION:Come join us for Trivia every Sunday at Hound’s Court\, the 2025 News-Gazette People’s Choice winner for best Trivia in C-U! Join your host Monty as you test your knowledge in the ultimate trivia battle! \nIt’s free to play and you can win gift certificates for each round as well as for being the overall winning team! 6 rounds total! \nMaximum number of players per team is 5 to be in the running for gift certificates. Phone use results in disqualification. \nWe’ll see you there!
URL:https://houndsrest.com/event/trivia-night-at-hounds-court-2/2026-10-25/
LOCATION:Hound’s Court\, 120 N Neil St\, Champaign\, IL\, 61822\, United States
CATEGORIES:Trivia
ATTACH;FMTTYPE=image/jpeg:https://houndsrest.com/wp-content/uploads/2024/09/360_F_253816768_HCShTG3B5MLGS4HN3Rt4ZGkFx5sGXxwe.jpg
END:VEVENT
BEGIN:VEVENT
DTSTART;TZID=America/Chicago:20261027T190000
DTEND;TZID=America/Chicago:20261027T210000
DTSTAMP:20260420T011227
CREATED:20260420T015859Z
LAST-MODIFIED:20260420T020033Z
UID:10000853-1793127600-1793134800@houndsrest.com
SUMMARY:Lyrics Unleashed
DESCRIPTION:Hound’s Rest is excited to collaborate with Sound Bridge to offer a live music series featuring only original performances and songwriting! This event will occur every Tuesday at Hound’s Rest from 7-9pm. Join us for a night of great music\, local libations and great company. Sound Bridge is a local\, Women owned\, Non-Profit that supports the promotion of original artists and songwriters. This series is also supported by City of Champaign through their Sound Check Program helping to support live music in Downtown Champaign.
URL:https://houndsrest.com/event/lyrics-unleashed-5-11/2026-10-27/
LOCATION:IL
CATEGORIES:Live music
ATTACH;FMTTYPE=application/pdf:https://houndsrest.com/wp-content/uploads/2025/09/Lyrics-Unleashed.pdf.pdf
END:VEVENT
BEGIN:VEVENT
DTSTART;TZID=America/Chicago:20261028T190000
DTEND;TZID=America/Chicago:20261028T233000
DTSTAMP:20260420T011227
CREATED:20240929T184201Z
LAST-MODIFIED:20240929T184201Z
UID:10000634-1793214000-1793230200@houndsrest.com
SUMMARY:Cocktail Flight Night at Hound's Court!
DESCRIPTION:Come out to partake in a flight! Varying offerings will come weekly.
URL:https://houndsrest.com/event/cocktail-flight-night-at-hounds-court/2026-10-28/
LOCATION:Hound’s Court\, 120 N Neil St\, Champaign\, IL\, 61822\, United States
CATEGORIES:Featuring Alcohol
ATTACH;FMTTYPE=image/jpeg:https://houndsrest.com/wp-content/uploads/2024/09/image0.jpeg
END:VEVENT
BEGIN:VEVENT
DTSTART;TZID=America/Chicago:20261101T190000
DTEND;TZID=America/Chicago:20261101T200000
DTSTAMP:20260420T011227
CREATED:20260420T022029Z
LAST-MODIFIED:20260420T022032Z
UID:10000110-1793559600-1793563200@houndsrest.com
SUMMARY:Trivia Night at Hound's Court!
DESCRIPTION:Come join us for Trivia every Sunday at Hound’s Court\, the 2025 News-Gazette People’s Choice winner for best Trivia in C-U! Join your host Monty as you test your knowledge in the ultimate trivia battle! \nIt’s free to play and you can win gift certificates for each round as well as for being the overall winning team! 6 rounds total! \nMaximum number of players per team is 5 to be in the running for gift certificates. Phone use results in disqualification. \nWe’ll see you there!
URL:https://houndsrest.com/event/trivia-night-at-hounds-court-2/2026-11-01/
LOCATION:Hound’s Court\, 120 N Neil St\, Champaign\, IL\, 61822\, United States
CATEGORIES:Trivia
ATTACH;FMTTYPE=image/jpeg:https://houndsrest.com/wp-content/uploads/2024/09/360_F_253816768_HCShTG3B5MLGS4HN3Rt4ZGkFx5sGXxwe.jpg
END:VEVENT
BEGIN:VEVENT
DTSTART;TZID=America/Chicago:20261103T190000
DTEND;TZID=America/Chicago:20261103T210000
DTSTAMP:20260420T011227
CREATED:20260420T015859Z
LAST-MODIFIED:20260420T020033Z
UID:10000854-1793732400-1793739600@houndsrest.com
SUMMARY:Lyrics Unleashed
DESCRIPTION:Hound’s Rest is excited to collaborate with Sound Bridge to offer a live music series featuring only original performances and songwriting! This event will occur every Tuesday at Hound’s Rest from 7-9pm. Join us for a night of great music\, local libations and great company. Sound Bridge is a local\, Women owned\, Non-Profit that supports the promotion of original artists and songwriters. This series is also supported by City of Champaign through their Sound Check Program helping to support live music in Downtown Champaign.
URL:https://houndsrest.com/event/lyrics-unleashed-5-11/2026-11-03/
LOCATION:IL
CATEGORIES:Live music
ATTACH;FMTTYPE=application/pdf:https://houndsrest.com/wp-content/uploads/2025/09/Lyrics-Unleashed.pdf.pdf
END:VEVENT
BEGIN:VEVENT
DTSTART;TZID=America/Chicago:20261104T190000
DTEND;TZID=America/Chicago:20261104T233000
DTSTAMP:20260420T011227
CREATED:20240929T184201Z
LAST-MODIFIED:20240929T184201Z
UID:10000635-1793818800-1793835000@houndsrest.com
SUMMARY:Cocktail Flight Night at Hound's Court!
DESCRIPTION:Come out to partake in a flight! Varying offerings will come weekly.
URL:https://houndsrest.com/event/cocktail-flight-night-at-hounds-court/2026-11-04/
LOCATION:Hound’s Court\, 120 N Neil St\, Champaign\, IL\, 61822\, United States
CATEGORIES:Featuring Alcohol
ATTACH;FMTTYPE=image/jpeg:https://houndsrest.com/wp-content/uploads/2024/09/image0.jpeg
END:VEVENT
BEGIN:VEVENT
DTSTART;TZID=America/Chicago:20261108T190000
DTEND;TZID=America/Chicago:20261108T200000
DTSTAMP:20260420T011227
CREATED:20260420T022029Z
LAST-MODIFIED:20260420T022032Z
UID:10000111-1794164400-1794168000@houndsrest.com
SUMMARY:Trivia Night at Hound's Court!
DESCRIPTION:Come join us for Trivia every Sunday at Hound’s Court\, the 2025 News-Gazette People’s Choice winner for best Trivia in C-U! Join your host Monty as you test your knowledge in the ultimate trivia battle! \nIt’s free to play and you can win gift certificates for each round as well as for being the overall winning team! 6 rounds total! \nMaximum number of players per team is 5 to be in the running for gift certificates. Phone use results in disqualification. \nWe’ll see you there!
URL:https://houndsrest.com/event/trivia-night-at-hounds-court-2/2026-11-08/
LOCATION:Hound’s Court\, 120 N Neil St\, Champaign\, IL\, 61822\, United States
CATEGORIES:Trivia
ATTACH;FMTTYPE=image/jpeg:https://houndsrest.com/wp-content/uploads/2024/09/360_F_253816768_HCShTG3B5MLGS4HN3Rt4ZGkFx5sGXxwe.jpg
END:VEVENT
BEGIN:VEVENT
DTSTART;TZID=America/Chicago:20261110T190000
DTEND;TZID=America/Chicago:20261110T210000
DTSTAMP:20260420T011227
CREATED:20260420T015859Z
LAST-MODIFIED:20260420T020033Z
UID:10000855-1794337200-1794344400@houndsrest.com
SUMMARY:Lyrics Unleashed
DESCRIPTION:Hound’s Rest is excited to collaborate with Sound Bridge to offer a live music series featuring only original performances and songwriting! This event will occur every Tuesday at Hound’s Rest from 7-9pm. Join us for a night of great music\, local libations and great company. Sound Bridge is a local\, Women owned\, Non-Profit that supports the promotion of original artists and songwriters. This series is also supported by City of Champaign through their Sound Check Program helping to support live music in Downtown Champaign.
URL:https://houndsrest.com/event/lyrics-unleashed-5-11/2026-11-10/
LOCATION:IL
CATEGORIES:Live music
ATTACH;FMTTYPE=application/pdf:https://houndsrest.com/wp-content/uploads/2025/09/Lyrics-Unleashed.pdf.pdf
END:VEVENT
BEGIN:VEVENT
DTSTART;TZID=America/Chicago:20261111T190000
DTEND;TZID=America/Chicago:20261111T233000
DTSTAMP:20260420T011227
CREATED:20240929T184201Z
LAST-MODIFIED:20240929T184201Z
UID:10000636-1794423600-1794439800@houndsrest.com
SUMMARY:Cocktail Flight Night at Hound's Court!
DESCRIPTION:Come out to partake in a flight! Varying offerings will come weekly.
URL:https://houndsrest.com/event/cocktail-flight-night-at-hounds-court/2026-11-11/
LOCATION:Hound’s Court\, 120 N Neil St\, Champaign\, IL\, 61822\, United States
CATEGORIES:Featuring Alcohol
ATTACH;FMTTYPE=image/jpeg:https://houndsrest.com/wp-content/uploads/2024/09/image0.jpeg
END:VEVENT
BEGIN:VEVENT
DTSTART;TZID=America/Chicago:20261115T190000
DTEND;TZID=America/Chicago:20261115T200000
DTSTAMP:20260420T011227
CREATED:20260420T022029Z
LAST-MODIFIED:20260420T022032Z
UID:10000112-1794769200-1794772800@houndsrest.com
SUMMARY:Trivia Night at Hound's Court!
DESCRIPTION:Come join us for Trivia every Sunday at Hound’s Court\, the 2025 News-Gazette People’s Choice winner for best Trivia in C-U! Join your host Monty as you test your knowledge in the ultimate trivia battle! \nIt’s free to play and you can win gift certificates for each round as well as for being the overall winning team! 6 rounds total! \nMaximum number of players per team is 5 to be in the running for gift certificates. Phone use results in disqualification. \nWe’ll see you there!
URL:https://houndsrest.com/event/trivia-night-at-hounds-court-2/2026-11-15/
LOCATION:Hound’s Court\, 120 N Neil St\, Champaign\, IL\, 61822\, United States
CATEGORIES:Trivia
ATTACH;FMTTYPE=image/jpeg:https://houndsrest.com/wp-content/uploads/2024/09/360_F_253816768_HCShTG3B5MLGS4HN3Rt4ZGkFx5sGXxwe.jpg
END:VEVENT
BEGIN:VEVENT
DTSTART;TZID=America/Chicago:20261117T190000
DTEND;TZID=America/Chicago:20261117T210000
DTSTAMP:20260420T011227
CREATED:20260420T015859Z
LAST-MODIFIED:20260420T020033Z
UID:10000856-1794942000-1794949200@houndsrest.com
SUMMARY:Lyrics Unleashed
DESCRIPTION:Hound’s Rest is excited to collaborate with Sound Bridge to offer a live music series featuring only original performances and songwriting! This event will occur every Tuesday at Hound’s Rest from 7-9pm. Join us for a night of great music\, local libations and great company. Sound Bridge is a local\, Women owned\, Non-Profit that supports the promotion of original artists and songwriters. This series is also supported by City of Champaign through their Sound Check Program helping to support live music in Downtown Champaign.
URL:https://houndsrest.com/event/lyrics-unleashed-5-11/2026-11-17/
LOCATION:IL
CATEGORIES:Live music
ATTACH;FMTTYPE=application/pdf:https://houndsrest.com/wp-content/uploads/2025/09/Lyrics-Unleashed.pdf.pdf
END:VEVENT
BEGIN:VEVENT
DTSTART;TZID=America/Chicago:20261118T190000
DTEND;TZID=America/Chicago:20261118T233000
DTSTAMP:20260420T011227
CREATED:20240929T184201Z
LAST-MODIFIED:20240929T184201Z
UID:10000637-1795028400-1795044600@houndsrest.com
SUMMARY:Cocktail Flight Night at Hound's Court!
DESCRIPTION:Come out to partake in a flight! Varying offerings will come weekly.
URL:https://houndsrest.com/event/cocktail-flight-night-at-hounds-court/2026-11-18/
LOCATION:Hound’s Court\, 120 N Neil St\, Champaign\, IL\, 61822\, United States
CATEGORIES:Featuring Alcohol
ATTACH;FMTTYPE=image/jpeg:https://houndsrest.com/wp-content/uploads/2024/09/image0.jpeg
END:VEVENT
BEGIN:VEVENT
DTSTART;TZID=America/Chicago:20261122T190000
DTEND;TZID=America/Chicago:20261122T200000
DTSTAMP:20260420T011227
CREATED:20260420T022029Z
LAST-MODIFIED:20260420T022032Z
UID:10000113-1795374000-1795377600@houndsrest.com
SUMMARY:Trivia Night at Hound's Court!
DESCRIPTION:Come join us for Trivia every Sunday at Hound’s Court\, the 2025 News-Gazette People’s Choice winner for best Trivia in C-U! Join your host Monty as you test your knowledge in the ultimate trivia battle! \nIt’s free to play and you can win gift certificates for each round as well as for being the overall winning team! 6 rounds total! \nMaximum number of players per team is 5 to be in the running for gift certificates. Phone use results in disqualification. \nWe’ll see you there!
URL:https://houndsrest.com/event/trivia-night-at-hounds-court-2/2026-11-22/
LOCATION:Hound’s Court\, 120 N Neil St\, Champaign\, IL\, 61822\, United States
CATEGORIES:Trivia
ATTACH;FMTTYPE=image/jpeg:https://houndsrest.com/wp-content/uploads/2024/09/360_F_253816768_HCShTG3B5MLGS4HN3Rt4ZGkFx5sGXxwe.jpg
END:VEVENT
END:VCALENDAR