BEGIN:VCALENDAR
VERSION:2.0
PRODID:-//Hound&#039;s Rest LLC - ECPv6.15.17.1//NONSGML v1.0//EN
CALSCALE:GREGORIAN
METHOD:PUBLISH
X-ORIGINAL-URL:https://houndsrest.com
X-WR-CALDESC:Events for Hound&#039;s Rest LLC
REFRESH-INTERVAL;VALUE=DURATION:PT1H
X-Robots-Tag:noindex
X-PUBLISHED-TTL:PT1H
BEGIN:VTIMEZONE
TZID:America/Chicago
BEGIN:DAYLIGHT
TZOFFSETFROM:-0600
TZOFFSETTO:-0500
TZNAME:CDT
DTSTART:20260308T080000
END:DAYLIGHT
BEGIN:STANDARD
TZOFFSETFROM:-0500
TZOFFSETTO:-0600
TZNAME:CST
DTSTART:20261101T070000
END:STANDARD
BEGIN:DAYLIGHT
TZOFFSETFROM:-0600
TZOFFSETTO:-0500
TZNAME:CDT
DTSTART:20270314T080000
END:DAYLIGHT
BEGIN:STANDARD
TZOFFSETFROM:-0500
TZOFFSETTO:-0600
TZNAME:CST
DTSTART:20271107T070000
END:STANDARD
BEGIN:DAYLIGHT
TZOFFSETFROM:-0600
TZOFFSETTO:-0500
TZNAME:CDT
DTSTART:20280312T080000
END:DAYLIGHT
BEGIN:STANDARD
TZOFFSETFROM:-0500
TZOFFSETTO:-0600
TZNAME:CST
DTSTART:20281105T070000
END:STANDARD
END:VTIMEZONE
BEGIN:VEVENT
DTSTART;TZID=America/Chicago:20270110T190000
DTEND;TZID=America/Chicago:20270110T200000
DTSTAMP:20260419T231928
CREATED:20260420T022029Z
LAST-MODIFIED:20260420T022032Z
UID:10000120-1799607600-1799611200@houndsrest.com
SUMMARY:Trivia Night at Hound's Court!
DESCRIPTION:Come join us for Trivia every Sunday at Hound’s Court\, the 2025 News-Gazette People’s Choice winner for best Trivia in C-U! Join your host Monty as you test your knowledge in the ultimate trivia battle! \nIt’s free to play and you can win gift certificates for each round as well as for being the overall winning team! 6 rounds total! \nMaximum number of players per team is 5 to be in the running for gift certificates. Phone use results in disqualification. \nWe’ll see you there!
URL:https://houndsrest.com/event/trivia-night-at-hounds-court-2/2027-01-10/
LOCATION:Hound’s Court\, 120 N Neil St\, Champaign\, IL\, 61822\, United States
CATEGORIES:Trivia
ATTACH;FMTTYPE=image/jpeg:https://houndsrest.com/wp-content/uploads/2024/09/360_F_253816768_HCShTG3B5MLGS4HN3Rt4ZGkFx5sGXxwe.jpg
END:VEVENT
BEGIN:VEVENT
DTSTART;TZID=America/Chicago:20270112T190000
DTEND;TZID=America/Chicago:20270112T210000
DTSTAMP:20260419T231928
CREATED:20260420T015859Z
LAST-MODIFIED:20260420T020033Z
UID:10000864-1799780400-1799787600@houndsrest.com
SUMMARY:Lyrics Unleashed
DESCRIPTION:Hound’s Rest is excited to collaborate with Sound Bridge to offer a live music series featuring only original performances and songwriting! This event will occur every Tuesday at Hound’s Rest from 7-9pm. Join us for a night of great music\, local libations and great company. Sound Bridge is a local\, Women owned\, Non-Profit that supports the promotion of original artists and songwriters. This series is also supported by City of Champaign through their Sound Check Program helping to support live music in Downtown Champaign.
URL:https://houndsrest.com/event/lyrics-unleashed-5-11/2027-01-12/
LOCATION:IL
CATEGORIES:Live music
ATTACH;FMTTYPE=application/pdf:https://houndsrest.com/wp-content/uploads/2025/09/Lyrics-Unleashed.pdf.pdf
END:VEVENT
BEGIN:VEVENT
DTSTART;TZID=America/Chicago:20270113T190000
DTEND;TZID=America/Chicago:20270113T233000
DTSTAMP:20260419T231928
CREATED:20240929T184201Z
LAST-MODIFIED:20240929T184201Z
UID:10000645-1799866800-1799883000@houndsrest.com
SUMMARY:Cocktail Flight Night at Hound's Court!
DESCRIPTION:Come out to partake in a flight! Varying offerings will come weekly.
URL:https://houndsrest.com/event/cocktail-flight-night-at-hounds-court/2027-01-13/
LOCATION:Hound’s Court\, 120 N Neil St\, Champaign\, IL\, 61822\, United States
CATEGORIES:Featuring Alcohol
ATTACH;FMTTYPE=image/jpeg:https://houndsrest.com/wp-content/uploads/2024/09/image0.jpeg
END:VEVENT
BEGIN:VEVENT
DTSTART;TZID=America/Chicago:20270117T190000
DTEND;TZID=America/Chicago:20270117T200000
DTSTAMP:20260419T231928
CREATED:20260420T022029Z
LAST-MODIFIED:20260420T022032Z
UID:10000121-1800212400-1800216000@houndsrest.com
SUMMARY:Trivia Night at Hound's Court!
DESCRIPTION:Come join us for Trivia every Sunday at Hound’s Court\, the 2025 News-Gazette People’s Choice winner for best Trivia in C-U! Join your host Monty as you test your knowledge in the ultimate trivia battle! \nIt’s free to play and you can win gift certificates for each round as well as for being the overall winning team! 6 rounds total! \nMaximum number of players per team is 5 to be in the running for gift certificates. Phone use results in disqualification. \nWe’ll see you there!
URL:https://houndsrest.com/event/trivia-night-at-hounds-court-2/2027-01-17/
LOCATION:Hound’s Court\, 120 N Neil St\, Champaign\, IL\, 61822\, United States
CATEGORIES:Trivia
ATTACH;FMTTYPE=image/jpeg:https://houndsrest.com/wp-content/uploads/2024/09/360_F_253816768_HCShTG3B5MLGS4HN3Rt4ZGkFx5sGXxwe.jpg
END:VEVENT
BEGIN:VEVENT
DTSTART;TZID=America/Chicago:20270119T190000
DTEND;TZID=America/Chicago:20270119T210000
DTSTAMP:20260419T231928
CREATED:20260420T015859Z
LAST-MODIFIED:20260420T020033Z
UID:10000865-1800385200-1800392400@houndsrest.com
SUMMARY:Lyrics Unleashed
DESCRIPTION:Hound’s Rest is excited to collaborate with Sound Bridge to offer a live music series featuring only original performances and songwriting! This event will occur every Tuesday at Hound’s Rest from 7-9pm. Join us for a night of great music\, local libations and great company. Sound Bridge is a local\, Women owned\, Non-Profit that supports the promotion of original artists and songwriters. This series is also supported by City of Champaign through their Sound Check Program helping to support live music in Downtown Champaign.
URL:https://houndsrest.com/event/lyrics-unleashed-5-11/2027-01-19/
LOCATION:IL
CATEGORIES:Live music
ATTACH;FMTTYPE=application/pdf:https://houndsrest.com/wp-content/uploads/2025/09/Lyrics-Unleashed.pdf.pdf
END:VEVENT
BEGIN:VEVENT
DTSTART;TZID=America/Chicago:20270120T190000
DTEND;TZID=America/Chicago:20270120T233000
DTSTAMP:20260419T231928
CREATED:20240929T184201Z
LAST-MODIFIED:20240929T184201Z
UID:10000646-1800471600-1800487800@houndsrest.com
SUMMARY:Cocktail Flight Night at Hound's Court!
DESCRIPTION:Come out to partake in a flight! Varying offerings will come weekly.
URL:https://houndsrest.com/event/cocktail-flight-night-at-hounds-court/2027-01-20/
LOCATION:Hound’s Court\, 120 N Neil St\, Champaign\, IL\, 61822\, United States
CATEGORIES:Featuring Alcohol
ATTACH;FMTTYPE=image/jpeg:https://houndsrest.com/wp-content/uploads/2024/09/image0.jpeg
END:VEVENT
BEGIN:VEVENT
DTSTART;TZID=America/Chicago:20270124T190000
DTEND;TZID=America/Chicago:20270124T200000
DTSTAMP:20260419T231928
CREATED:20260420T022029Z
LAST-MODIFIED:20260420T022032Z
UID:10000122-1800817200-1800820800@houndsrest.com
SUMMARY:Trivia Night at Hound's Court!
DESCRIPTION:Come join us for Trivia every Sunday at Hound’s Court\, the 2025 News-Gazette People’s Choice winner for best Trivia in C-U! Join your host Monty as you test your knowledge in the ultimate trivia battle! \nIt’s free to play and you can win gift certificates for each round as well as for being the overall winning team! 6 rounds total! \nMaximum number of players per team is 5 to be in the running for gift certificates. Phone use results in disqualification. \nWe’ll see you there!
URL:https://houndsrest.com/event/trivia-night-at-hounds-court-2/2027-01-24/
LOCATION:Hound’s Court\, 120 N Neil St\, Champaign\, IL\, 61822\, United States
CATEGORIES:Trivia
ATTACH;FMTTYPE=image/jpeg:https://houndsrest.com/wp-content/uploads/2024/09/360_F_253816768_HCShTG3B5MLGS4HN3Rt4ZGkFx5sGXxwe.jpg
END:VEVENT
BEGIN:VEVENT
DTSTART;TZID=America/Chicago:20270126T190000
DTEND;TZID=America/Chicago:20270126T210000
DTSTAMP:20260419T231928
CREATED:20260420T015859Z
LAST-MODIFIED:20260420T020033Z
UID:10000866-1800990000-1800997200@houndsrest.com
SUMMARY:Lyrics Unleashed
DESCRIPTION:Hound’s Rest is excited to collaborate with Sound Bridge to offer a live music series featuring only original performances and songwriting! This event will occur every Tuesday at Hound’s Rest from 7-9pm. Join us for a night of great music\, local libations and great company. Sound Bridge is a local\, Women owned\, Non-Profit that supports the promotion of original artists and songwriters. This series is also supported by City of Champaign through their Sound Check Program helping to support live music in Downtown Champaign.
URL:https://houndsrest.com/event/lyrics-unleashed-5-11/2027-01-26/
LOCATION:IL
CATEGORIES:Live music
ATTACH;FMTTYPE=application/pdf:https://houndsrest.com/wp-content/uploads/2025/09/Lyrics-Unleashed.pdf.pdf
END:VEVENT
BEGIN:VEVENT
DTSTART;TZID=America/Chicago:20270127T190000
DTEND;TZID=America/Chicago:20270127T233000
DTSTAMP:20260419T231928
CREATED:20240929T184201Z
LAST-MODIFIED:20240929T184201Z
UID:10000647-1801076400-1801092600@houndsrest.com
SUMMARY:Cocktail Flight Night at Hound's Court!
DESCRIPTION:Come out to partake in a flight! Varying offerings will come weekly.
URL:https://houndsrest.com/event/cocktail-flight-night-at-hounds-court/2027-01-27/
LOCATION:Hound’s Court\, 120 N Neil St\, Champaign\, IL\, 61822\, United States
CATEGORIES:Featuring Alcohol
ATTACH;FMTTYPE=image/jpeg:https://houndsrest.com/wp-content/uploads/2024/09/image0.jpeg
END:VEVENT
BEGIN:VEVENT
DTSTART;TZID=America/Chicago:20270131T190000
DTEND;TZID=America/Chicago:20270131T200000
DTSTAMP:20260419T231928
CREATED:20260420T022029Z
LAST-MODIFIED:20260420T022032Z
UID:10000123-1801422000-1801425600@houndsrest.com
SUMMARY:Trivia Night at Hound's Court!
DESCRIPTION:Come join us for Trivia every Sunday at Hound’s Court\, the 2025 News-Gazette People’s Choice winner for best Trivia in C-U! Join your host Monty as you test your knowledge in the ultimate trivia battle! \nIt’s free to play and you can win gift certificates for each round as well as for being the overall winning team! 6 rounds total! \nMaximum number of players per team is 5 to be in the running for gift certificates. Phone use results in disqualification. \nWe’ll see you there!
URL:https://houndsrest.com/event/trivia-night-at-hounds-court-2/2027-01-31/
LOCATION:Hound’s Court\, 120 N Neil St\, Champaign\, IL\, 61822\, United States
CATEGORIES:Trivia
ATTACH;FMTTYPE=image/jpeg:https://houndsrest.com/wp-content/uploads/2024/09/360_F_253816768_HCShTG3B5MLGS4HN3Rt4ZGkFx5sGXxwe.jpg
END:VEVENT
BEGIN:VEVENT
DTSTART;TZID=America/Chicago:20270202T190000
DTEND;TZID=America/Chicago:20270202T210000
DTSTAMP:20260419T231928
CREATED:20260420T015859Z
LAST-MODIFIED:20260420T020033Z
UID:10000867-1801594800-1801602000@houndsrest.com
SUMMARY:Lyrics Unleashed
DESCRIPTION:Hound’s Rest is excited to collaborate with Sound Bridge to offer a live music series featuring only original performances and songwriting! This event will occur every Tuesday at Hound’s Rest from 7-9pm. Join us for a night of great music\, local libations and great company. Sound Bridge is a local\, Women owned\, Non-Profit that supports the promotion of original artists and songwriters. This series is also supported by City of Champaign through their Sound Check Program helping to support live music in Downtown Champaign.
URL:https://houndsrest.com/event/lyrics-unleashed-5-11/2027-02-02/
LOCATION:IL
CATEGORIES:Live music
ATTACH;FMTTYPE=application/pdf:https://houndsrest.com/wp-content/uploads/2025/09/Lyrics-Unleashed.pdf.pdf
END:VEVENT
BEGIN:VEVENT
DTSTART;TZID=America/Chicago:20270203T190000
DTEND;TZID=America/Chicago:20270203T233000
DTSTAMP:20260419T231928
CREATED:20240929T184201Z
LAST-MODIFIED:20240929T184201Z
UID:10000648-1801681200-1801697400@houndsrest.com
SUMMARY:Cocktail Flight Night at Hound's Court!
DESCRIPTION:Come out to partake in a flight! Varying offerings will come weekly.
URL:https://houndsrest.com/event/cocktail-flight-night-at-hounds-court/2027-02-03/
LOCATION:Hound’s Court\, 120 N Neil St\, Champaign\, IL\, 61822\, United States
CATEGORIES:Featuring Alcohol
ATTACH;FMTTYPE=image/jpeg:https://houndsrest.com/wp-content/uploads/2024/09/image0.jpeg
END:VEVENT
BEGIN:VEVENT
DTSTART;TZID=America/Chicago:20270207T190000
DTEND;TZID=America/Chicago:20270207T200000
DTSTAMP:20260419T231928
CREATED:20260420T022029Z
LAST-MODIFIED:20260420T022032Z
UID:10000124-1802026800-1802030400@houndsrest.com
SUMMARY:Trivia Night at Hound's Court!
DESCRIPTION:Come join us for Trivia every Sunday at Hound’s Court\, the 2025 News-Gazette People’s Choice winner for best Trivia in C-U! Join your host Monty as you test your knowledge in the ultimate trivia battle! \nIt’s free to play and you can win gift certificates for each round as well as for being the overall winning team! 6 rounds total! \nMaximum number of players per team is 5 to be in the running for gift certificates. Phone use results in disqualification. \nWe’ll see you there!
URL:https://houndsrest.com/event/trivia-night-at-hounds-court-2/2027-02-07/
LOCATION:Hound’s Court\, 120 N Neil St\, Champaign\, IL\, 61822\, United States
CATEGORIES:Trivia
ATTACH;FMTTYPE=image/jpeg:https://houndsrest.com/wp-content/uploads/2024/09/360_F_253816768_HCShTG3B5MLGS4HN3Rt4ZGkFx5sGXxwe.jpg
END:VEVENT
BEGIN:VEVENT
DTSTART;TZID=America/Chicago:20270209T190000
DTEND;TZID=America/Chicago:20270209T210000
DTSTAMP:20260419T231928
CREATED:20260420T015859Z
LAST-MODIFIED:20260420T020033Z
UID:10000868-1802199600-1802206800@houndsrest.com
SUMMARY:Lyrics Unleashed
DESCRIPTION:Hound’s Rest is excited to collaborate with Sound Bridge to offer a live music series featuring only original performances and songwriting! This event will occur every Tuesday at Hound’s Rest from 7-9pm. Join us for a night of great music\, local libations and great company. Sound Bridge is a local\, Women owned\, Non-Profit that supports the promotion of original artists and songwriters. This series is also supported by City of Champaign through their Sound Check Program helping to support live music in Downtown Champaign.
URL:https://houndsrest.com/event/lyrics-unleashed-5-11/2027-02-09/
LOCATION:IL
CATEGORIES:Live music
ATTACH;FMTTYPE=application/pdf:https://houndsrest.com/wp-content/uploads/2025/09/Lyrics-Unleashed.pdf.pdf
END:VEVENT
BEGIN:VEVENT
DTSTART;TZID=America/Chicago:20270210T190000
DTEND;TZID=America/Chicago:20270210T233000
DTSTAMP:20260419T231928
CREATED:20240929T184201Z
LAST-MODIFIED:20240929T184201Z
UID:10000649-1802286000-1802302200@houndsrest.com
SUMMARY:Cocktail Flight Night at Hound's Court!
DESCRIPTION:Come out to partake in a flight! Varying offerings will come weekly.
URL:https://houndsrest.com/event/cocktail-flight-night-at-hounds-court/2027-02-10/
LOCATION:Hound’s Court\, 120 N Neil St\, Champaign\, IL\, 61822\, United States
CATEGORIES:Featuring Alcohol
ATTACH;FMTTYPE=image/jpeg:https://houndsrest.com/wp-content/uploads/2024/09/image0.jpeg
END:VEVENT
BEGIN:VEVENT
DTSTART;TZID=America/Chicago:20270214T190000
DTEND;TZID=America/Chicago:20270214T200000
DTSTAMP:20260419T231928
CREATED:20260420T022029Z
LAST-MODIFIED:20260420T022032Z
UID:10000125-1802631600-1802635200@houndsrest.com
SUMMARY:Trivia Night at Hound's Court!
DESCRIPTION:Come join us for Trivia every Sunday at Hound’s Court\, the 2025 News-Gazette People’s Choice winner for best Trivia in C-U! Join your host Monty as you test your knowledge in the ultimate trivia battle! \nIt’s free to play and you can win gift certificates for each round as well as for being the overall winning team! 6 rounds total! \nMaximum number of players per team is 5 to be in the running for gift certificates. Phone use results in disqualification. \nWe’ll see you there!
URL:https://houndsrest.com/event/trivia-night-at-hounds-court-2/2027-02-14/
LOCATION:Hound’s Court\, 120 N Neil St\, Champaign\, IL\, 61822\, United States
CATEGORIES:Trivia
ATTACH;FMTTYPE=image/jpeg:https://houndsrest.com/wp-content/uploads/2024/09/360_F_253816768_HCShTG3B5MLGS4HN3Rt4ZGkFx5sGXxwe.jpg
END:VEVENT
BEGIN:VEVENT
DTSTART;TZID=America/Chicago:20270216T190000
DTEND;TZID=America/Chicago:20270216T210000
DTSTAMP:20260419T231928
CREATED:20260420T015859Z
LAST-MODIFIED:20260420T020033Z
UID:10000869-1802804400-1802811600@houndsrest.com
SUMMARY:Lyrics Unleashed
DESCRIPTION:Hound’s Rest is excited to collaborate with Sound Bridge to offer a live music series featuring only original performances and songwriting! This event will occur every Tuesday at Hound’s Rest from 7-9pm. Join us for a night of great music\, local libations and great company. Sound Bridge is a local\, Women owned\, Non-Profit that supports the promotion of original artists and songwriters. This series is also supported by City of Champaign through their Sound Check Program helping to support live music in Downtown Champaign.
URL:https://houndsrest.com/event/lyrics-unleashed-5-11/2027-02-16/
LOCATION:IL
CATEGORIES:Live music
ATTACH;FMTTYPE=application/pdf:https://houndsrest.com/wp-content/uploads/2025/09/Lyrics-Unleashed.pdf.pdf
END:VEVENT
BEGIN:VEVENT
DTSTART;TZID=America/Chicago:20270217T190000
DTEND;TZID=America/Chicago:20270217T233000
DTSTAMP:20260419T231928
CREATED:20240929T184201Z
LAST-MODIFIED:20240929T184201Z
UID:10000650-1802890800-1802907000@houndsrest.com
SUMMARY:Cocktail Flight Night at Hound's Court!
DESCRIPTION:Come out to partake in a flight! Varying offerings will come weekly.
URL:https://houndsrest.com/event/cocktail-flight-night-at-hounds-court/2027-02-17/
LOCATION:Hound’s Court\, 120 N Neil St\, Champaign\, IL\, 61822\, United States
CATEGORIES:Featuring Alcohol
ATTACH;FMTTYPE=image/jpeg:https://houndsrest.com/wp-content/uploads/2024/09/image0.jpeg
END:VEVENT
BEGIN:VEVENT
DTSTART;TZID=America/Chicago:20270221T190000
DTEND;TZID=America/Chicago:20270221T200000
DTSTAMP:20260419T231928
CREATED:20260420T022029Z
LAST-MODIFIED:20260420T022032Z
UID:10000126-1803236400-1803240000@houndsrest.com
SUMMARY:Trivia Night at Hound's Court!
DESCRIPTION:Come join us for Trivia every Sunday at Hound’s Court\, the 2025 News-Gazette People’s Choice winner for best Trivia in C-U! Join your host Monty as you test your knowledge in the ultimate trivia battle! \nIt’s free to play and you can win gift certificates for each round as well as for being the overall winning team! 6 rounds total! \nMaximum number of players per team is 5 to be in the running for gift certificates. Phone use results in disqualification. \nWe’ll see you there!
URL:https://houndsrest.com/event/trivia-night-at-hounds-court-2/2027-02-21/
LOCATION:Hound’s Court\, 120 N Neil St\, Champaign\, IL\, 61822\, United States
CATEGORIES:Trivia
ATTACH;FMTTYPE=image/jpeg:https://houndsrest.com/wp-content/uploads/2024/09/360_F_253816768_HCShTG3B5MLGS4HN3Rt4ZGkFx5sGXxwe.jpg
END:VEVENT
BEGIN:VEVENT
DTSTART;TZID=America/Chicago:20270223T190000
DTEND;TZID=America/Chicago:20270223T210000
DTSTAMP:20260419T231928
CREATED:20260420T015859Z
LAST-MODIFIED:20260420T020033Z
UID:10000870-1803409200-1803416400@houndsrest.com
SUMMARY:Lyrics Unleashed
DESCRIPTION:Hound’s Rest is excited to collaborate with Sound Bridge to offer a live music series featuring only original performances and songwriting! This event will occur every Tuesday at Hound’s Rest from 7-9pm. Join us for a night of great music\, local libations and great company. Sound Bridge is a local\, Women owned\, Non-Profit that supports the promotion of original artists and songwriters. This series is also supported by City of Champaign through their Sound Check Program helping to support live music in Downtown Champaign.
URL:https://houndsrest.com/event/lyrics-unleashed-5-11/2027-02-23/
LOCATION:IL
CATEGORIES:Live music
ATTACH;FMTTYPE=application/pdf:https://houndsrest.com/wp-content/uploads/2025/09/Lyrics-Unleashed.pdf.pdf
END:VEVENT
BEGIN:VEVENT
DTSTART;TZID=America/Chicago:20270224T190000
DTEND;TZID=America/Chicago:20270224T233000
DTSTAMP:20260419T231928
CREATED:20240929T184201Z
LAST-MODIFIED:20240929T184201Z
UID:10000651-1803495600-1803511800@houndsrest.com
SUMMARY:Cocktail Flight Night at Hound's Court!
DESCRIPTION:Come out to partake in a flight! Varying offerings will come weekly.
URL:https://houndsrest.com/event/cocktail-flight-night-at-hounds-court/2027-02-24/
LOCATION:Hound’s Court\, 120 N Neil St\, Champaign\, IL\, 61822\, United States
CATEGORIES:Featuring Alcohol
ATTACH;FMTTYPE=image/jpeg:https://houndsrest.com/wp-content/uploads/2024/09/image0.jpeg
END:VEVENT
BEGIN:VEVENT
DTSTART;TZID=America/Chicago:20270228T190000
DTEND;TZID=America/Chicago:20270228T200000
DTSTAMP:20260419T231928
CREATED:20260420T022029Z
LAST-MODIFIED:20260420T022032Z
UID:10000127-1803841200-1803844800@houndsrest.com
SUMMARY:Trivia Night at Hound's Court!
DESCRIPTION:Come join us for Trivia every Sunday at Hound’s Court\, the 2025 News-Gazette People’s Choice winner for best Trivia in C-U! Join your host Monty as you test your knowledge in the ultimate trivia battle! \nIt’s free to play and you can win gift certificates for each round as well as for being the overall winning team! 6 rounds total! \nMaximum number of players per team is 5 to be in the running for gift certificates. Phone use results in disqualification. \nWe’ll see you there!
URL:https://houndsrest.com/event/trivia-night-at-hounds-court-2/2027-02-28/
LOCATION:Hound’s Court\, 120 N Neil St\, Champaign\, IL\, 61822\, United States
CATEGORIES:Trivia
ATTACH;FMTTYPE=image/jpeg:https://houndsrest.com/wp-content/uploads/2024/09/360_F_253816768_HCShTG3B5MLGS4HN3Rt4ZGkFx5sGXxwe.jpg
END:VEVENT
BEGIN:VEVENT
DTSTART;TZID=America/Chicago:20270302T190000
DTEND;TZID=America/Chicago:20270302T210000
DTSTAMP:20260419T231928
CREATED:20260420T015859Z
LAST-MODIFIED:20260420T020033Z
UID:10000871-1804014000-1804021200@houndsrest.com
SUMMARY:Lyrics Unleashed
DESCRIPTION:Hound’s Rest is excited to collaborate with Sound Bridge to offer a live music series featuring only original performances and songwriting! This event will occur every Tuesday at Hound’s Rest from 7-9pm. Join us for a night of great music\, local libations and great company. Sound Bridge is a local\, Women owned\, Non-Profit that supports the promotion of original artists and songwriters. This series is also supported by City of Champaign through their Sound Check Program helping to support live music in Downtown Champaign.
URL:https://houndsrest.com/event/lyrics-unleashed-5-11/2027-03-02/
LOCATION:IL
CATEGORIES:Live music
ATTACH;FMTTYPE=application/pdf:https://houndsrest.com/wp-content/uploads/2025/09/Lyrics-Unleashed.pdf.pdf
END:VEVENT
BEGIN:VEVENT
DTSTART;TZID=America/Chicago:20270303T190000
DTEND;TZID=America/Chicago:20270303T233000
DTSTAMP:20260419T231928
CREATED:20240929T184201Z
LAST-MODIFIED:20240929T184201Z
UID:10000652-1804100400-1804116600@houndsrest.com
SUMMARY:Cocktail Flight Night at Hound's Court!
DESCRIPTION:Come out to partake in a flight! Varying offerings will come weekly.
URL:https://houndsrest.com/event/cocktail-flight-night-at-hounds-court/2027-03-03/
LOCATION:Hound’s Court\, 120 N Neil St\, Champaign\, IL\, 61822\, United States
CATEGORIES:Featuring Alcohol
ATTACH;FMTTYPE=image/jpeg:https://houndsrest.com/wp-content/uploads/2024/09/image0.jpeg
END:VEVENT
BEGIN:VEVENT
DTSTART;TZID=America/Chicago:20270307T190000
DTEND;TZID=America/Chicago:20270307T200000
DTSTAMP:20260419T231928
CREATED:20260420T022029Z
LAST-MODIFIED:20260420T022032Z
UID:10000128-1804446000-1804449600@houndsrest.com
SUMMARY:Trivia Night at Hound's Court!
DESCRIPTION:Come join us for Trivia every Sunday at Hound’s Court\, the 2025 News-Gazette People’s Choice winner for best Trivia in C-U! Join your host Monty as you test your knowledge in the ultimate trivia battle! \nIt’s free to play and you can win gift certificates for each round as well as for being the overall winning team! 6 rounds total! \nMaximum number of players per team is 5 to be in the running for gift certificates. Phone use results in disqualification. \nWe’ll see you there!
URL:https://houndsrest.com/event/trivia-night-at-hounds-court-2/2027-03-07/
LOCATION:Hound’s Court\, 120 N Neil St\, Champaign\, IL\, 61822\, United States
CATEGORIES:Trivia
ATTACH;FMTTYPE=image/jpeg:https://houndsrest.com/wp-content/uploads/2024/09/360_F_253816768_HCShTG3B5MLGS4HN3Rt4ZGkFx5sGXxwe.jpg
END:VEVENT
BEGIN:VEVENT
DTSTART;TZID=America/Chicago:20270309T190000
DTEND;TZID=America/Chicago:20270309T210000
DTSTAMP:20260419T231928
CREATED:20260420T015859Z
LAST-MODIFIED:20260420T020033Z
UID:10000872-1804618800-1804626000@houndsrest.com
SUMMARY:Lyrics Unleashed
DESCRIPTION:Hound’s Rest is excited to collaborate with Sound Bridge to offer a live music series featuring only original performances and songwriting! This event will occur every Tuesday at Hound’s Rest from 7-9pm. Join us for a night of great music\, local libations and great company. Sound Bridge is a local\, Women owned\, Non-Profit that supports the promotion of original artists and songwriters. This series is also supported by City of Champaign through their Sound Check Program helping to support live music in Downtown Champaign.
URL:https://houndsrest.com/event/lyrics-unleashed-5-11/2027-03-09/
LOCATION:IL
CATEGORIES:Live music
ATTACH;FMTTYPE=application/pdf:https://houndsrest.com/wp-content/uploads/2025/09/Lyrics-Unleashed.pdf.pdf
END:VEVENT
BEGIN:VEVENT
DTSTART;TZID=America/Chicago:20270310T190000
DTEND;TZID=America/Chicago:20270310T233000
DTSTAMP:20260419T231928
CREATED:20240929T184201Z
LAST-MODIFIED:20240929T184201Z
UID:10000653-1804705200-1804721400@houndsrest.com
SUMMARY:Cocktail Flight Night at Hound's Court!
DESCRIPTION:Come out to partake in a flight! Varying offerings will come weekly.
URL:https://houndsrest.com/event/cocktail-flight-night-at-hounds-court/2027-03-10/
LOCATION:Hound’s Court\, 120 N Neil St\, Champaign\, IL\, 61822\, United States
CATEGORIES:Featuring Alcohol
ATTACH;FMTTYPE=image/jpeg:https://houndsrest.com/wp-content/uploads/2024/09/image0.jpeg
END:VEVENT
BEGIN:VEVENT
DTSTART;TZID=America/Chicago:20270314T190000
DTEND;TZID=America/Chicago:20270314T200000
DTSTAMP:20260419T231928
CREATED:20260420T022029Z
LAST-MODIFIED:20260420T022032Z
UID:10000129-1805050800-1805054400@houndsrest.com
SUMMARY:Trivia Night at Hound's Court!
DESCRIPTION:Come join us for Trivia every Sunday at Hound’s Court\, the 2025 News-Gazette People’s Choice winner for best Trivia in C-U! Join your host Monty as you test your knowledge in the ultimate trivia battle! \nIt’s free to play and you can win gift certificates for each round as well as for being the overall winning team! 6 rounds total! \nMaximum number of players per team is 5 to be in the running for gift certificates. Phone use results in disqualification. \nWe’ll see you there!
URL:https://houndsrest.com/event/trivia-night-at-hounds-court-2/2027-03-14/
LOCATION:Hound’s Court\, 120 N Neil St\, Champaign\, IL\, 61822\, United States
CATEGORIES:Trivia
ATTACH;FMTTYPE=image/jpeg:https://houndsrest.com/wp-content/uploads/2024/09/360_F_253816768_HCShTG3B5MLGS4HN3Rt4ZGkFx5sGXxwe.jpg
END:VEVENT
BEGIN:VEVENT
DTSTART;TZID=America/Chicago:20270316T190000
DTEND;TZID=America/Chicago:20270316T210000
DTSTAMP:20260419T231928
CREATED:20260420T015859Z
LAST-MODIFIED:20260420T020033Z
UID:10000873-1805223600-1805230800@houndsrest.com
SUMMARY:Lyrics Unleashed
DESCRIPTION:Hound’s Rest is excited to collaborate with Sound Bridge to offer a live music series featuring only original performances and songwriting! This event will occur every Tuesday at Hound’s Rest from 7-9pm. Join us for a night of great music\, local libations and great company. Sound Bridge is a local\, Women owned\, Non-Profit that supports the promotion of original artists and songwriters. This series is also supported by City of Champaign through their Sound Check Program helping to support live music in Downtown Champaign.
URL:https://houndsrest.com/event/lyrics-unleashed-5-11/2027-03-16/
LOCATION:IL
CATEGORIES:Live music
ATTACH;FMTTYPE=application/pdf:https://houndsrest.com/wp-content/uploads/2025/09/Lyrics-Unleashed.pdf.pdf
END:VEVENT
BEGIN:VEVENT
DTSTART;TZID=America/Chicago:20270317T190000
DTEND;TZID=America/Chicago:20270317T233000
DTSTAMP:20260419T231928
CREATED:20240929T184201Z
LAST-MODIFIED:20240929T184201Z
UID:10000654-1805310000-1805326200@houndsrest.com
SUMMARY:Cocktail Flight Night at Hound's Court!
DESCRIPTION:Come out to partake in a flight! Varying offerings will come weekly.
URL:https://houndsrest.com/event/cocktail-flight-night-at-hounds-court/2027-03-17/
LOCATION:Hound’s Court\, 120 N Neil St\, Champaign\, IL\, 61822\, United States
CATEGORIES:Featuring Alcohol
ATTACH;FMTTYPE=image/jpeg:https://houndsrest.com/wp-content/uploads/2024/09/image0.jpeg
END:VEVENT
END:VCALENDAR