BEGIN:VCALENDAR
VERSION:2.0
PRODID:-//Hound&#039;s Rest LLC - ECPv6.15.17.1//NONSGML v1.0//EN
CALSCALE:GREGORIAN
METHOD:PUBLISH
X-ORIGINAL-URL:https://houndsrest.com
X-WR-CALDESC:Events for Hound&#039;s Rest LLC
REFRESH-INTERVAL;VALUE=DURATION:PT1H
X-Robots-Tag:noindex
X-PUBLISHED-TTL:PT1H
BEGIN:VTIMEZONE
TZID:America/Chicago
BEGIN:DAYLIGHT
TZOFFSETFROM:-0600
TZOFFSETTO:-0500
TZNAME:CDT
DTSTART:20270314T080000
END:DAYLIGHT
BEGIN:STANDARD
TZOFFSETFROM:-0500
TZOFFSETTO:-0600
TZNAME:CST
DTSTART:20271107T070000
END:STANDARD
BEGIN:DAYLIGHT
TZOFFSETFROM:-0600
TZOFFSETTO:-0500
TZNAME:CDT
DTSTART:20280312T080000
END:DAYLIGHT
BEGIN:STANDARD
TZOFFSETFROM:-0500
TZOFFSETTO:-0600
TZNAME:CST
DTSTART:20281105T070000
END:STANDARD
BEGIN:DAYLIGHT
TZOFFSETFROM:-0600
TZOFFSETTO:-0500
TZNAME:CDT
DTSTART:20290311T080000
END:DAYLIGHT
BEGIN:STANDARD
TZOFFSETFROM:-0500
TZOFFSETTO:-0600
TZNAME:CST
DTSTART:20291104T070000
END:STANDARD
END:VTIMEZONE
BEGIN:VEVENT
DTSTART;TZID=America/Chicago:20280903T190000
DTEND;TZID=America/Chicago:20280903T200000
DTSTAMP:20260419T223617
CREATED:20260420T022029Z
LAST-MODIFIED:20260420T022032Z
UID:10000206-1851620400-1851624000@houndsrest.com
SUMMARY:Trivia Night at Hound's Court!
DESCRIPTION:Come join us for Trivia every Sunday at Hound’s Court\, the 2025 News-Gazette People’s Choice winner for best Trivia in C-U! Join your host Monty as you test your knowledge in the ultimate trivia battle! \nIt’s free to play and you can win gift certificates for each round as well as for being the overall winning team! 6 rounds total! \nMaximum number of players per team is 5 to be in the running for gift certificates. Phone use results in disqualification. \nWe’ll see you there!
URL:https://houndsrest.com/event/trivia-night-at-hounds-court-2/2028-09-03/
LOCATION:Hound’s Court\, 120 N Neil St\, Champaign\, IL\, 61822\, United States
CATEGORIES:Trivia
ATTACH;FMTTYPE=image/jpeg:https://houndsrest.com/wp-content/uploads/2024/09/360_F_253816768_HCShTG3B5MLGS4HN3Rt4ZGkFx5sGXxwe.jpg
END:VEVENT
BEGIN:VEVENT
DTSTART;TZID=America/Chicago:20280905T190000
DTEND;TZID=America/Chicago:20280905T210000
DTSTAMP:20260419T223617
CREATED:20260420T015859Z
LAST-MODIFIED:20260420T020033Z
UID:10000950-1851793200-1851800400@houndsrest.com
SUMMARY:Lyrics Unleashed
DESCRIPTION:Hound’s Rest is excited to collaborate with Sound Bridge to offer a live music series featuring only original performances and songwriting! This event will occur every Tuesday at Hound’s Rest from 7-9pm. Join us for a night of great music\, local libations and great company. Sound Bridge is a local\, Women owned\, Non-Profit that supports the promotion of original artists and songwriters. This series is also supported by City of Champaign through their Sound Check Program helping to support live music in Downtown Champaign.
URL:https://houndsrest.com/event/lyrics-unleashed-5-11/2028-09-05/
LOCATION:IL
CATEGORIES:Live music
ATTACH;FMTTYPE=application/pdf:https://houndsrest.com/wp-content/uploads/2025/09/Lyrics-Unleashed.pdf.pdf
END:VEVENT
BEGIN:VEVENT
DTSTART;TZID=America/Chicago:20280906T190000
DTEND;TZID=America/Chicago:20280906T233000
DTSTAMP:20260419T223617
CREATED:20240929T184201Z
LAST-MODIFIED:20240929T184201Z
UID:10000731-1851879600-1851895800@houndsrest.com
SUMMARY:Cocktail Flight Night at Hound's Court!
DESCRIPTION:Come out to partake in a flight! Varying offerings will come weekly.
URL:https://houndsrest.com/event/cocktail-flight-night-at-hounds-court/2028-09-06/
LOCATION:Hound’s Court\, 120 N Neil St\, Champaign\, IL\, 61822\, United States
CATEGORIES:Featuring Alcohol
ATTACH;FMTTYPE=image/jpeg:https://houndsrest.com/wp-content/uploads/2024/09/image0.jpeg
END:VEVENT
BEGIN:VEVENT
DTSTART;TZID=America/Chicago:20280910T190000
DTEND;TZID=America/Chicago:20280910T200000
DTSTAMP:20260419T223617
CREATED:20260420T022029Z
LAST-MODIFIED:20260420T022032Z
UID:10000207-1852225200-1852228800@houndsrest.com
SUMMARY:Trivia Night at Hound's Court!
DESCRIPTION:Come join us for Trivia every Sunday at Hound’s Court\, the 2025 News-Gazette People’s Choice winner for best Trivia in C-U! Join your host Monty as you test your knowledge in the ultimate trivia battle! \nIt’s free to play and you can win gift certificates for each round as well as for being the overall winning team! 6 rounds total! \nMaximum number of players per team is 5 to be in the running for gift certificates. Phone use results in disqualification. \nWe’ll see you there!
URL:https://houndsrest.com/event/trivia-night-at-hounds-court-2/2028-09-10/
LOCATION:Hound’s Court\, 120 N Neil St\, Champaign\, IL\, 61822\, United States
CATEGORIES:Trivia
ATTACH;FMTTYPE=image/jpeg:https://houndsrest.com/wp-content/uploads/2024/09/360_F_253816768_HCShTG3B5MLGS4HN3Rt4ZGkFx5sGXxwe.jpg
END:VEVENT
BEGIN:VEVENT
DTSTART;TZID=America/Chicago:20280912T190000
DTEND;TZID=America/Chicago:20280912T210000
DTSTAMP:20260419T223617
CREATED:20260420T015859Z
LAST-MODIFIED:20260420T020033Z
UID:10000951-1852398000-1852405200@houndsrest.com
SUMMARY:Lyrics Unleashed
DESCRIPTION:Hound’s Rest is excited to collaborate with Sound Bridge to offer a live music series featuring only original performances and songwriting! This event will occur every Tuesday at Hound’s Rest from 7-9pm. Join us for a night of great music\, local libations and great company. Sound Bridge is a local\, Women owned\, Non-Profit that supports the promotion of original artists and songwriters. This series is also supported by City of Champaign through their Sound Check Program helping to support live music in Downtown Champaign.
URL:https://houndsrest.com/event/lyrics-unleashed-5-11/2028-09-12/
LOCATION:IL
CATEGORIES:Live music
ATTACH;FMTTYPE=application/pdf:https://houndsrest.com/wp-content/uploads/2025/09/Lyrics-Unleashed.pdf.pdf
END:VEVENT
BEGIN:VEVENT
DTSTART;TZID=America/Chicago:20280913T190000
DTEND;TZID=America/Chicago:20280913T233000
DTSTAMP:20260419T223617
CREATED:20240929T184201Z
LAST-MODIFIED:20240929T184201Z
UID:10000732-1852484400-1852500600@houndsrest.com
SUMMARY:Cocktail Flight Night at Hound's Court!
DESCRIPTION:Come out to partake in a flight! Varying offerings will come weekly.
URL:https://houndsrest.com/event/cocktail-flight-night-at-hounds-court/2028-09-13/
LOCATION:Hound’s Court\, 120 N Neil St\, Champaign\, IL\, 61822\, United States
CATEGORIES:Featuring Alcohol
ATTACH;FMTTYPE=image/jpeg:https://houndsrest.com/wp-content/uploads/2024/09/image0.jpeg
END:VEVENT
BEGIN:VEVENT
DTSTART;TZID=America/Chicago:20280917T190000
DTEND;TZID=America/Chicago:20280917T200000
DTSTAMP:20260419T223617
CREATED:20260420T022029Z
LAST-MODIFIED:20260420T022032Z
UID:10000208-1852830000-1852833600@houndsrest.com
SUMMARY:Trivia Night at Hound's Court!
DESCRIPTION:Come join us for Trivia every Sunday at Hound’s Court\, the 2025 News-Gazette People’s Choice winner for best Trivia in C-U! Join your host Monty as you test your knowledge in the ultimate trivia battle! \nIt’s free to play and you can win gift certificates for each round as well as for being the overall winning team! 6 rounds total! \nMaximum number of players per team is 5 to be in the running for gift certificates. Phone use results in disqualification. \nWe’ll see you there!
URL:https://houndsrest.com/event/trivia-night-at-hounds-court-2/2028-09-17/
LOCATION:Hound’s Court\, 120 N Neil St\, Champaign\, IL\, 61822\, United States
CATEGORIES:Trivia
ATTACH;FMTTYPE=image/jpeg:https://houndsrest.com/wp-content/uploads/2024/09/360_F_253816768_HCShTG3B5MLGS4HN3Rt4ZGkFx5sGXxwe.jpg
END:VEVENT
BEGIN:VEVENT
DTSTART;TZID=America/Chicago:20280919T190000
DTEND;TZID=America/Chicago:20280919T210000
DTSTAMP:20260419T223617
CREATED:20260420T015859Z
LAST-MODIFIED:20260420T020033Z
UID:10000952-1853002800-1853010000@houndsrest.com
SUMMARY:Lyrics Unleashed
DESCRIPTION:Hound’s Rest is excited to collaborate with Sound Bridge to offer a live music series featuring only original performances and songwriting! This event will occur every Tuesday at Hound’s Rest from 7-9pm. Join us for a night of great music\, local libations and great company. Sound Bridge is a local\, Women owned\, Non-Profit that supports the promotion of original artists and songwriters. This series is also supported by City of Champaign through their Sound Check Program helping to support live music in Downtown Champaign.
URL:https://houndsrest.com/event/lyrics-unleashed-5-11/2028-09-19/
LOCATION:IL
CATEGORIES:Live music
ATTACH;FMTTYPE=application/pdf:https://houndsrest.com/wp-content/uploads/2025/09/Lyrics-Unleashed.pdf.pdf
END:VEVENT
BEGIN:VEVENT
DTSTART;TZID=America/Chicago:20280920T190000
DTEND;TZID=America/Chicago:20280920T233000
DTSTAMP:20260419T223617
CREATED:20240929T184201Z
LAST-MODIFIED:20240929T184201Z
UID:10000733-1853089200-1853105400@houndsrest.com
SUMMARY:Cocktail Flight Night at Hound's Court!
DESCRIPTION:Come out to partake in a flight! Varying offerings will come weekly.
URL:https://houndsrest.com/event/cocktail-flight-night-at-hounds-court/2028-09-20/
LOCATION:Hound’s Court\, 120 N Neil St\, Champaign\, IL\, 61822\, United States
CATEGORIES:Featuring Alcohol
ATTACH;FMTTYPE=image/jpeg:https://houndsrest.com/wp-content/uploads/2024/09/image0.jpeg
END:VEVENT
BEGIN:VEVENT
DTSTART;TZID=America/Chicago:20280924T190000
DTEND;TZID=America/Chicago:20280924T200000
DTSTAMP:20260419T223617
CREATED:20260420T022029Z
LAST-MODIFIED:20260420T022032Z
UID:10000209-1853434800-1853438400@houndsrest.com
SUMMARY:Trivia Night at Hound's Court!
DESCRIPTION:Come join us for Trivia every Sunday at Hound’s Court\, the 2025 News-Gazette People’s Choice winner for best Trivia in C-U! Join your host Monty as you test your knowledge in the ultimate trivia battle! \nIt’s free to play and you can win gift certificates for each round as well as for being the overall winning team! 6 rounds total! \nMaximum number of players per team is 5 to be in the running for gift certificates. Phone use results in disqualification. \nWe’ll see you there!
URL:https://houndsrest.com/event/trivia-night-at-hounds-court-2/2028-09-24/
LOCATION:Hound’s Court\, 120 N Neil St\, Champaign\, IL\, 61822\, United States
CATEGORIES:Trivia
ATTACH;FMTTYPE=image/jpeg:https://houndsrest.com/wp-content/uploads/2024/09/360_F_253816768_HCShTG3B5MLGS4HN3Rt4ZGkFx5sGXxwe.jpg
END:VEVENT
BEGIN:VEVENT
DTSTART;TZID=America/Chicago:20280926T190000
DTEND;TZID=America/Chicago:20280926T210000
DTSTAMP:20260419T223617
CREATED:20260420T015859Z
LAST-MODIFIED:20260420T020033Z
UID:10000953-1853607600-1853614800@houndsrest.com
SUMMARY:Lyrics Unleashed
DESCRIPTION:Hound’s Rest is excited to collaborate with Sound Bridge to offer a live music series featuring only original performances and songwriting! This event will occur every Tuesday at Hound’s Rest from 7-9pm. Join us for a night of great music\, local libations and great company. Sound Bridge is a local\, Women owned\, Non-Profit that supports the promotion of original artists and songwriters. This series is also supported by City of Champaign through their Sound Check Program helping to support live music in Downtown Champaign.
URL:https://houndsrest.com/event/lyrics-unleashed-5-11/2028-09-26/
LOCATION:IL
CATEGORIES:Live music
ATTACH;FMTTYPE=application/pdf:https://houndsrest.com/wp-content/uploads/2025/09/Lyrics-Unleashed.pdf.pdf
END:VEVENT
BEGIN:VEVENT
DTSTART;TZID=America/Chicago:20280927T190000
DTEND;TZID=America/Chicago:20280927T233000
DTSTAMP:20260419T223617
CREATED:20240929T184201Z
LAST-MODIFIED:20240929T184201Z
UID:10000734-1853694000-1853710200@houndsrest.com
SUMMARY:Cocktail Flight Night at Hound's Court!
DESCRIPTION:Come out to partake in a flight! Varying offerings will come weekly.
URL:https://houndsrest.com/event/cocktail-flight-night-at-hounds-court/2028-09-27/
LOCATION:Hound’s Court\, 120 N Neil St\, Champaign\, IL\, 61822\, United States
CATEGORIES:Featuring Alcohol
ATTACH;FMTTYPE=image/jpeg:https://houndsrest.com/wp-content/uploads/2024/09/image0.jpeg
END:VEVENT
BEGIN:VEVENT
DTSTART;TZID=America/Chicago:20281001T190000
DTEND;TZID=America/Chicago:20281001T200000
DTSTAMP:20260419T223617
CREATED:20260420T022029Z
LAST-MODIFIED:20260420T022032Z
UID:10000210-1854039600-1854043200@houndsrest.com
SUMMARY:Trivia Night at Hound's Court!
DESCRIPTION:Come join us for Trivia every Sunday at Hound’s Court\, the 2025 News-Gazette People’s Choice winner for best Trivia in C-U! Join your host Monty as you test your knowledge in the ultimate trivia battle! \nIt’s free to play and you can win gift certificates for each round as well as for being the overall winning team! 6 rounds total! \nMaximum number of players per team is 5 to be in the running for gift certificates. Phone use results in disqualification. \nWe’ll see you there!
URL:https://houndsrest.com/event/trivia-night-at-hounds-court-2/2028-10-01/
LOCATION:Hound’s Court\, 120 N Neil St\, Champaign\, IL\, 61822\, United States
CATEGORIES:Trivia
ATTACH;FMTTYPE=image/jpeg:https://houndsrest.com/wp-content/uploads/2024/09/360_F_253816768_HCShTG3B5MLGS4HN3Rt4ZGkFx5sGXxwe.jpg
END:VEVENT
BEGIN:VEVENT
DTSTART;TZID=America/Chicago:20281003T190000
DTEND;TZID=America/Chicago:20281003T210000
DTSTAMP:20260419T223617
CREATED:20260420T015859Z
LAST-MODIFIED:20260420T020033Z
UID:10000954-1854212400-1854219600@houndsrest.com
SUMMARY:Lyrics Unleashed
DESCRIPTION:Hound’s Rest is excited to collaborate with Sound Bridge to offer a live music series featuring only original performances and songwriting! This event will occur every Tuesday at Hound’s Rest from 7-9pm. Join us for a night of great music\, local libations and great company. Sound Bridge is a local\, Women owned\, Non-Profit that supports the promotion of original artists and songwriters. This series is also supported by City of Champaign through their Sound Check Program helping to support live music in Downtown Champaign.
URL:https://houndsrest.com/event/lyrics-unleashed-5-11/2028-10-03/
LOCATION:IL
CATEGORIES:Live music
ATTACH;FMTTYPE=application/pdf:https://houndsrest.com/wp-content/uploads/2025/09/Lyrics-Unleashed.pdf.pdf
END:VEVENT
BEGIN:VEVENT
DTSTART;TZID=America/Chicago:20281004T190000
DTEND;TZID=America/Chicago:20281004T233000
DTSTAMP:20260419T223617
CREATED:20240929T184201Z
LAST-MODIFIED:20240929T184201Z
UID:10000735-1854298800-1854315000@houndsrest.com
SUMMARY:Cocktail Flight Night at Hound's Court!
DESCRIPTION:Come out to partake in a flight! Varying offerings will come weekly.
URL:https://houndsrest.com/event/cocktail-flight-night-at-hounds-court/2028-10-04/
LOCATION:Hound’s Court\, 120 N Neil St\, Champaign\, IL\, 61822\, United States
CATEGORIES:Featuring Alcohol
ATTACH;FMTTYPE=image/jpeg:https://houndsrest.com/wp-content/uploads/2024/09/image0.jpeg
END:VEVENT
BEGIN:VEVENT
DTSTART;TZID=America/Chicago:20281008T190000
DTEND;TZID=America/Chicago:20281008T200000
DTSTAMP:20260419T223617
CREATED:20260420T022029Z
LAST-MODIFIED:20260420T022032Z
UID:10000211-1854644400-1854648000@houndsrest.com
SUMMARY:Trivia Night at Hound's Court!
DESCRIPTION:Come join us for Trivia every Sunday at Hound’s Court\, the 2025 News-Gazette People’s Choice winner for best Trivia in C-U! Join your host Monty as you test your knowledge in the ultimate trivia battle! \nIt’s free to play and you can win gift certificates for each round as well as for being the overall winning team! 6 rounds total! \nMaximum number of players per team is 5 to be in the running for gift certificates. Phone use results in disqualification. \nWe’ll see you there!
URL:https://houndsrest.com/event/trivia-night-at-hounds-court-2/2028-10-08/
LOCATION:Hound’s Court\, 120 N Neil St\, Champaign\, IL\, 61822\, United States
CATEGORIES:Trivia
ATTACH;FMTTYPE=image/jpeg:https://houndsrest.com/wp-content/uploads/2024/09/360_F_253816768_HCShTG3B5MLGS4HN3Rt4ZGkFx5sGXxwe.jpg
END:VEVENT
BEGIN:VEVENT
DTSTART;TZID=America/Chicago:20281010T190000
DTEND;TZID=America/Chicago:20281010T210000
DTSTAMP:20260419T223617
CREATED:20260420T015859Z
LAST-MODIFIED:20260420T020033Z
UID:10000955-1854817200-1854824400@houndsrest.com
SUMMARY:Lyrics Unleashed
DESCRIPTION:Hound’s Rest is excited to collaborate with Sound Bridge to offer a live music series featuring only original performances and songwriting! This event will occur every Tuesday at Hound’s Rest from 7-9pm. Join us for a night of great music\, local libations and great company. Sound Bridge is a local\, Women owned\, Non-Profit that supports the promotion of original artists and songwriters. This series is also supported by City of Champaign through their Sound Check Program helping to support live music in Downtown Champaign.
URL:https://houndsrest.com/event/lyrics-unleashed-5-11/2028-10-10/
LOCATION:IL
CATEGORIES:Live music
ATTACH;FMTTYPE=application/pdf:https://houndsrest.com/wp-content/uploads/2025/09/Lyrics-Unleashed.pdf.pdf
END:VEVENT
BEGIN:VEVENT
DTSTART;TZID=America/Chicago:20281011T190000
DTEND;TZID=America/Chicago:20281011T233000
DTSTAMP:20260419T223617
CREATED:20240929T184201Z
LAST-MODIFIED:20240929T184201Z
UID:10000736-1854903600-1854919800@houndsrest.com
SUMMARY:Cocktail Flight Night at Hound's Court!
DESCRIPTION:Come out to partake in a flight! Varying offerings will come weekly.
URL:https://houndsrest.com/event/cocktail-flight-night-at-hounds-court/2028-10-11/
LOCATION:Hound’s Court\, 120 N Neil St\, Champaign\, IL\, 61822\, United States
CATEGORIES:Featuring Alcohol
ATTACH;FMTTYPE=image/jpeg:https://houndsrest.com/wp-content/uploads/2024/09/image0.jpeg
END:VEVENT
BEGIN:VEVENT
DTSTART;TZID=America/Chicago:20281015T190000
DTEND;TZID=America/Chicago:20281015T200000
DTSTAMP:20260419T223617
CREATED:20260420T022029Z
LAST-MODIFIED:20260420T022032Z
UID:10000212-1855249200-1855252800@houndsrest.com
SUMMARY:Trivia Night at Hound's Court!
DESCRIPTION:Come join us for Trivia every Sunday at Hound’s Court\, the 2025 News-Gazette People’s Choice winner for best Trivia in C-U! Join your host Monty as you test your knowledge in the ultimate trivia battle! \nIt’s free to play and you can win gift certificates for each round as well as for being the overall winning team! 6 rounds total! \nMaximum number of players per team is 5 to be in the running for gift certificates. Phone use results in disqualification. \nWe’ll see you there!
URL:https://houndsrest.com/event/trivia-night-at-hounds-court-2/2028-10-15/
LOCATION:Hound’s Court\, 120 N Neil St\, Champaign\, IL\, 61822\, United States
CATEGORIES:Trivia
ATTACH;FMTTYPE=image/jpeg:https://houndsrest.com/wp-content/uploads/2024/09/360_F_253816768_HCShTG3B5MLGS4HN3Rt4ZGkFx5sGXxwe.jpg
END:VEVENT
BEGIN:VEVENT
DTSTART;TZID=America/Chicago:20281017T190000
DTEND;TZID=America/Chicago:20281017T210000
DTSTAMP:20260419T223617
CREATED:20260420T015859Z
LAST-MODIFIED:20260420T020033Z
UID:10000956-1855422000-1855429200@houndsrest.com
SUMMARY:Lyrics Unleashed
DESCRIPTION:Hound’s Rest is excited to collaborate with Sound Bridge to offer a live music series featuring only original performances and songwriting! This event will occur every Tuesday at Hound’s Rest from 7-9pm. Join us for a night of great music\, local libations and great company. Sound Bridge is a local\, Women owned\, Non-Profit that supports the promotion of original artists and songwriters. This series is also supported by City of Champaign through their Sound Check Program helping to support live music in Downtown Champaign.
URL:https://houndsrest.com/event/lyrics-unleashed-5-11/2028-10-17/
LOCATION:IL
CATEGORIES:Live music
ATTACH;FMTTYPE=application/pdf:https://houndsrest.com/wp-content/uploads/2025/09/Lyrics-Unleashed.pdf.pdf
END:VEVENT
BEGIN:VEVENT
DTSTART;TZID=America/Chicago:20281018T190000
DTEND;TZID=America/Chicago:20281018T233000
DTSTAMP:20260419T223617
CREATED:20240929T184201Z
LAST-MODIFIED:20240929T184201Z
UID:10000737-1855508400-1855524600@houndsrest.com
SUMMARY:Cocktail Flight Night at Hound's Court!
DESCRIPTION:Come out to partake in a flight! Varying offerings will come weekly.
URL:https://houndsrest.com/event/cocktail-flight-night-at-hounds-court/2028-10-18/
LOCATION:Hound’s Court\, 120 N Neil St\, Champaign\, IL\, 61822\, United States
CATEGORIES:Featuring Alcohol
ATTACH;FMTTYPE=image/jpeg:https://houndsrest.com/wp-content/uploads/2024/09/image0.jpeg
END:VEVENT
BEGIN:VEVENT
DTSTART;TZID=America/Chicago:20281022T190000
DTEND;TZID=America/Chicago:20281022T200000
DTSTAMP:20260419T223617
CREATED:20260420T022029Z
LAST-MODIFIED:20260420T022032Z
UID:10000213-1855854000-1855857600@houndsrest.com
SUMMARY:Trivia Night at Hound's Court!
DESCRIPTION:Come join us for Trivia every Sunday at Hound’s Court\, the 2025 News-Gazette People’s Choice winner for best Trivia in C-U! Join your host Monty as you test your knowledge in the ultimate trivia battle! \nIt’s free to play and you can win gift certificates for each round as well as for being the overall winning team! 6 rounds total! \nMaximum number of players per team is 5 to be in the running for gift certificates. Phone use results in disqualification. \nWe’ll see you there!
URL:https://houndsrest.com/event/trivia-night-at-hounds-court-2/2028-10-22/
LOCATION:Hound’s Court\, 120 N Neil St\, Champaign\, IL\, 61822\, United States
CATEGORIES:Trivia
ATTACH;FMTTYPE=image/jpeg:https://houndsrest.com/wp-content/uploads/2024/09/360_F_253816768_HCShTG3B5MLGS4HN3Rt4ZGkFx5sGXxwe.jpg
END:VEVENT
BEGIN:VEVENT
DTSTART;TZID=America/Chicago:20281024T190000
DTEND;TZID=America/Chicago:20281024T210000
DTSTAMP:20260419T223617
CREATED:20260420T015859Z
LAST-MODIFIED:20260420T020033Z
UID:10000957-1856026800-1856034000@houndsrest.com
SUMMARY:Lyrics Unleashed
DESCRIPTION:Hound’s Rest is excited to collaborate with Sound Bridge to offer a live music series featuring only original performances and songwriting! This event will occur every Tuesday at Hound’s Rest from 7-9pm. Join us for a night of great music\, local libations and great company. Sound Bridge is a local\, Women owned\, Non-Profit that supports the promotion of original artists and songwriters. This series is also supported by City of Champaign through their Sound Check Program helping to support live music in Downtown Champaign.
URL:https://houndsrest.com/event/lyrics-unleashed-5-11/2028-10-24/
LOCATION:IL
CATEGORIES:Live music
ATTACH;FMTTYPE=application/pdf:https://houndsrest.com/wp-content/uploads/2025/09/Lyrics-Unleashed.pdf.pdf
END:VEVENT
BEGIN:VEVENT
DTSTART;TZID=America/Chicago:20281025T190000
DTEND;TZID=America/Chicago:20281025T233000
DTSTAMP:20260419T223617
CREATED:20240929T184201Z
LAST-MODIFIED:20240929T184201Z
UID:10000738-1856113200-1856129400@houndsrest.com
SUMMARY:Cocktail Flight Night at Hound's Court!
DESCRIPTION:Come out to partake in a flight! Varying offerings will come weekly.
URL:https://houndsrest.com/event/cocktail-flight-night-at-hounds-court/2028-10-25/
LOCATION:Hound’s Court\, 120 N Neil St\, Champaign\, IL\, 61822\, United States
CATEGORIES:Featuring Alcohol
ATTACH;FMTTYPE=image/jpeg:https://houndsrest.com/wp-content/uploads/2024/09/image0.jpeg
END:VEVENT
BEGIN:VEVENT
DTSTART;TZID=America/Chicago:20281029T190000
DTEND;TZID=America/Chicago:20281029T200000
DTSTAMP:20260419T223617
CREATED:20260420T022029Z
LAST-MODIFIED:20260420T022032Z
UID:10000214-1856458800-1856462400@houndsrest.com
SUMMARY:Trivia Night at Hound's Court!
DESCRIPTION:Come join us for Trivia every Sunday at Hound’s Court\, the 2025 News-Gazette People’s Choice winner for best Trivia in C-U! Join your host Monty as you test your knowledge in the ultimate trivia battle! \nIt’s free to play and you can win gift certificates for each round as well as for being the overall winning team! 6 rounds total! \nMaximum number of players per team is 5 to be in the running for gift certificates. Phone use results in disqualification. \nWe’ll see you there!
URL:https://houndsrest.com/event/trivia-night-at-hounds-court-2/2028-10-29/
LOCATION:Hound’s Court\, 120 N Neil St\, Champaign\, IL\, 61822\, United States
CATEGORIES:Trivia
ATTACH;FMTTYPE=image/jpeg:https://houndsrest.com/wp-content/uploads/2024/09/360_F_253816768_HCShTG3B5MLGS4HN3Rt4ZGkFx5sGXxwe.jpg
END:VEVENT
BEGIN:VEVENT
DTSTART;TZID=America/Chicago:20281031T190000
DTEND;TZID=America/Chicago:20281031T210000
DTSTAMP:20260419T223617
CREATED:20260420T015859Z
LAST-MODIFIED:20260420T020033Z
UID:10000958-1856631600-1856638800@houndsrest.com
SUMMARY:Lyrics Unleashed
DESCRIPTION:Hound’s Rest is excited to collaborate with Sound Bridge to offer a live music series featuring only original performances and songwriting! This event will occur every Tuesday at Hound’s Rest from 7-9pm. Join us for a night of great music\, local libations and great company. Sound Bridge is a local\, Women owned\, Non-Profit that supports the promotion of original artists and songwriters. This series is also supported by City of Champaign through their Sound Check Program helping to support live music in Downtown Champaign.
URL:https://houndsrest.com/event/lyrics-unleashed-5-11/2028-10-31/
LOCATION:IL
CATEGORIES:Live music
ATTACH;FMTTYPE=application/pdf:https://houndsrest.com/wp-content/uploads/2025/09/Lyrics-Unleashed.pdf.pdf
END:VEVENT
BEGIN:VEVENT
DTSTART;TZID=America/Chicago:20281101T190000
DTEND;TZID=America/Chicago:20281101T233000
DTSTAMP:20260419T223617
CREATED:20240929T184201Z
LAST-MODIFIED:20240929T184201Z
UID:10000739-1856718000-1856734200@houndsrest.com
SUMMARY:Cocktail Flight Night at Hound's Court!
DESCRIPTION:Come out to partake in a flight! Varying offerings will come weekly.
URL:https://houndsrest.com/event/cocktail-flight-night-at-hounds-court/2028-11-01/
LOCATION:Hound’s Court\, 120 N Neil St\, Champaign\, IL\, 61822\, United States
CATEGORIES:Featuring Alcohol
ATTACH;FMTTYPE=image/jpeg:https://houndsrest.com/wp-content/uploads/2024/09/image0.jpeg
END:VEVENT
BEGIN:VEVENT
DTSTART;TZID=America/Chicago:20281105T190000
DTEND;TZID=America/Chicago:20281105T200000
DTSTAMP:20260419T223617
CREATED:20260420T022029Z
LAST-MODIFIED:20260420T022032Z
UID:10000215-1857063600-1857067200@houndsrest.com
SUMMARY:Trivia Night at Hound's Court!
DESCRIPTION:Come join us for Trivia every Sunday at Hound’s Court\, the 2025 News-Gazette People’s Choice winner for best Trivia in C-U! Join your host Monty as you test your knowledge in the ultimate trivia battle! \nIt’s free to play and you can win gift certificates for each round as well as for being the overall winning team! 6 rounds total! \nMaximum number of players per team is 5 to be in the running for gift certificates. Phone use results in disqualification. \nWe’ll see you there!
URL:https://houndsrest.com/event/trivia-night-at-hounds-court-2/2028-11-05/
LOCATION:Hound’s Court\, 120 N Neil St\, Champaign\, IL\, 61822\, United States
CATEGORIES:Trivia
ATTACH;FMTTYPE=image/jpeg:https://houndsrest.com/wp-content/uploads/2024/09/360_F_253816768_HCShTG3B5MLGS4HN3Rt4ZGkFx5sGXxwe.jpg
END:VEVENT
BEGIN:VEVENT
DTSTART;TZID=America/Chicago:20281107T190000
DTEND;TZID=America/Chicago:20281107T210000
DTSTAMP:20260419T223617
CREATED:20260420T015859Z
LAST-MODIFIED:20260420T020033Z
UID:10000959-1857236400-1857243600@houndsrest.com
SUMMARY:Lyrics Unleashed
DESCRIPTION:Hound’s Rest is excited to collaborate with Sound Bridge to offer a live music series featuring only original performances and songwriting! This event will occur every Tuesday at Hound’s Rest from 7-9pm. Join us for a night of great music\, local libations and great company. Sound Bridge is a local\, Women owned\, Non-Profit that supports the promotion of original artists and songwriters. This series is also supported by City of Champaign through their Sound Check Program helping to support live music in Downtown Champaign.
URL:https://houndsrest.com/event/lyrics-unleashed-5-11/2028-11-07/
LOCATION:IL
CATEGORIES:Live music
ATTACH;FMTTYPE=application/pdf:https://houndsrest.com/wp-content/uploads/2025/09/Lyrics-Unleashed.pdf.pdf
END:VEVENT
BEGIN:VEVENT
DTSTART;TZID=America/Chicago:20281108T190000
DTEND;TZID=America/Chicago:20281108T233000
DTSTAMP:20260419T223617
CREATED:20240929T184201Z
LAST-MODIFIED:20240929T184201Z
UID:10000740-1857322800-1857339000@houndsrest.com
SUMMARY:Cocktail Flight Night at Hound's Court!
DESCRIPTION:Come out to partake in a flight! Varying offerings will come weekly.
URL:https://houndsrest.com/event/cocktail-flight-night-at-hounds-court/2028-11-08/
LOCATION:Hound’s Court\, 120 N Neil St\, Champaign\, IL\, 61822\, United States
CATEGORIES:Featuring Alcohol
ATTACH;FMTTYPE=image/jpeg:https://houndsrest.com/wp-content/uploads/2024/09/image0.jpeg
END:VEVENT
END:VCALENDAR