BEGIN:VCALENDAR
VERSION:2.0
PRODID:-//Hound&#039;s Rest LLC - ECPv6.15.17.1//NONSGML v1.0//EN
CALSCALE:GREGORIAN
METHOD:PUBLISH
X-WR-CALNAME:Hound&#039;s Rest LLC
X-ORIGINAL-URL:https://houndsrest.com
X-WR-CALDESC:Events for Hound&#039;s Rest LLC
REFRESH-INTERVAL;VALUE=DURATION:PT1H
X-Robots-Tag:noindex
X-PUBLISHED-TTL:PT1H
BEGIN:VTIMEZONE
TZID:America/Chicago
BEGIN:DAYLIGHT
TZOFFSETFROM:-0600
TZOFFSETTO:-0500
TZNAME:CDT
DTSTART:20260308T080000
END:DAYLIGHT
BEGIN:STANDARD
TZOFFSETFROM:-0500
TZOFFSETTO:-0600
TZNAME:CST
DTSTART:20261101T070000
END:STANDARD
BEGIN:DAYLIGHT
TZOFFSETFROM:-0600
TZOFFSETTO:-0500
TZNAME:CDT
DTSTART:20270314T080000
END:DAYLIGHT
BEGIN:STANDARD
TZOFFSETFROM:-0500
TZOFFSETTO:-0600
TZNAME:CST
DTSTART:20271107T070000
END:STANDARD
BEGIN:DAYLIGHT
TZOFFSETFROM:-0600
TZOFFSETTO:-0500
TZNAME:CDT
DTSTART:20280312T080000
END:DAYLIGHT
BEGIN:STANDARD
TZOFFSETFROM:-0500
TZOFFSETTO:-0600
TZNAME:CST
DTSTART:20281105T070000
END:STANDARD
END:VTIMEZONE
BEGIN:VEVENT
DTSTART;TZID=America/Chicago:20270613T190000
DTEND;TZID=America/Chicago:20270613T200000
DTSTAMP:20260420T025910
CREATED:20260420T022029Z
LAST-MODIFIED:20260420T022032Z
UID:10000142-1812913200-1812916800@houndsrest.com
SUMMARY:Trivia Night at Hound's Court!
DESCRIPTION:Come join us for Trivia every Sunday at Hound’s Court\, the 2025 News-Gazette People’s Choice winner for best Trivia in C-U! Join your host Monty as you test your knowledge in the ultimate trivia battle! \nIt’s free to play and you can win gift certificates for each round as well as for being the overall winning team! 6 rounds total! \nMaximum number of players per team is 5 to be in the running for gift certificates. Phone use results in disqualification. \nWe’ll see you there!
URL:https://houndsrest.com/event/trivia-night-at-hounds-court-2/2027-06-13/
LOCATION:Hound’s Court\, 120 N Neil St\, Champaign\, IL\, 61822\, United States
CATEGORIES:Trivia
ATTACH;FMTTYPE=image/jpeg:https://houndsrest.com/wp-content/uploads/2024/09/360_F_253816768_HCShTG3B5MLGS4HN3Rt4ZGkFx5sGXxwe.jpg
END:VEVENT
BEGIN:VEVENT
DTSTART;TZID=America/Chicago:20270609T190000
DTEND;TZID=America/Chicago:20270609T233000
DTSTAMP:20260420T025910
CREATED:20240929T184201Z
LAST-MODIFIED:20240929T184201Z
UID:10000666-1812567600-1812583800@houndsrest.com
SUMMARY:Cocktail Flight Night at Hound's Court!
DESCRIPTION:Come out to partake in a flight! Varying offerings will come weekly.
URL:https://houndsrest.com/event/cocktail-flight-night-at-hounds-court/2027-06-09/
LOCATION:Hound’s Court\, 120 N Neil St\, Champaign\, IL\, 61822\, United States
CATEGORIES:Featuring Alcohol
ATTACH;FMTTYPE=image/jpeg:https://houndsrest.com/wp-content/uploads/2024/09/image0.jpeg
END:VEVENT
BEGIN:VEVENT
DTSTART;TZID=America/Chicago:20270608T190000
DTEND;TZID=America/Chicago:20270608T210000
DTSTAMP:20260420T025910
CREATED:20260420T015859Z
LAST-MODIFIED:20260420T020033Z
UID:10000885-1812481200-1812488400@houndsrest.com
SUMMARY:Lyrics Unleashed
DESCRIPTION:Hound’s Rest is excited to collaborate with Sound Bridge to offer a live music series featuring only original performances and songwriting! This event will occur every Tuesday at Hound’s Rest from 7-9pm. Join us for a night of great music\, local libations and great company. Sound Bridge is a local\, Women owned\, Non-Profit that supports the promotion of original artists and songwriters. This series is also supported by City of Champaign through their Sound Check Program helping to support live music in Downtown Champaign.
URL:https://houndsrest.com/event/lyrics-unleashed-5-11/2027-06-08/
LOCATION:IL
CATEGORIES:Live music
ATTACH;FMTTYPE=application/pdf:https://houndsrest.com/wp-content/uploads/2025/09/Lyrics-Unleashed.pdf.pdf
END:VEVENT
BEGIN:VEVENT
DTSTART;TZID=America/Chicago:20270606T190000
DTEND;TZID=America/Chicago:20270606T200000
DTSTAMP:20260420T025910
CREATED:20260420T022029Z
LAST-MODIFIED:20260420T022032Z
UID:10000141-1812308400-1812312000@houndsrest.com
SUMMARY:Trivia Night at Hound's Court!
DESCRIPTION:Come join us for Trivia every Sunday at Hound’s Court\, the 2025 News-Gazette People’s Choice winner for best Trivia in C-U! Join your host Monty as you test your knowledge in the ultimate trivia battle! \nIt’s free to play and you can win gift certificates for each round as well as for being the overall winning team! 6 rounds total! \nMaximum number of players per team is 5 to be in the running for gift certificates. Phone use results in disqualification. \nWe’ll see you there!
URL:https://houndsrest.com/event/trivia-night-at-hounds-court-2/2027-06-06/
LOCATION:Hound’s Court\, 120 N Neil St\, Champaign\, IL\, 61822\, United States
CATEGORIES:Trivia
ATTACH;FMTTYPE=image/jpeg:https://houndsrest.com/wp-content/uploads/2024/09/360_F_253816768_HCShTG3B5MLGS4HN3Rt4ZGkFx5sGXxwe.jpg
END:VEVENT
BEGIN:VEVENT
DTSTART;TZID=America/Chicago:20270602T190000
DTEND;TZID=America/Chicago:20270602T233000
DTSTAMP:20260420T025910
CREATED:20240929T184201Z
LAST-MODIFIED:20240929T184201Z
UID:10000665-1811962800-1811979000@houndsrest.com
SUMMARY:Cocktail Flight Night at Hound's Court!
DESCRIPTION:Come out to partake in a flight! Varying offerings will come weekly.
URL:https://houndsrest.com/event/cocktail-flight-night-at-hounds-court/2027-06-02/
LOCATION:Hound’s Court\, 120 N Neil St\, Champaign\, IL\, 61822\, United States
CATEGORIES:Featuring Alcohol
ATTACH;FMTTYPE=image/jpeg:https://houndsrest.com/wp-content/uploads/2024/09/image0.jpeg
END:VEVENT
BEGIN:VEVENT
DTSTART;TZID=America/Chicago:20270601T190000
DTEND;TZID=America/Chicago:20270601T210000
DTSTAMP:20260420T025910
CREATED:20260420T015859Z
LAST-MODIFIED:20260420T020033Z
UID:10000884-1811876400-1811883600@houndsrest.com
SUMMARY:Lyrics Unleashed
DESCRIPTION:Hound’s Rest is excited to collaborate with Sound Bridge to offer a live music series featuring only original performances and songwriting! This event will occur every Tuesday at Hound’s Rest from 7-9pm. Join us for a night of great music\, local libations and great company. Sound Bridge is a local\, Women owned\, Non-Profit that supports the promotion of original artists and songwriters. This series is also supported by City of Champaign through their Sound Check Program helping to support live music in Downtown Champaign.
URL:https://houndsrest.com/event/lyrics-unleashed-5-11/2027-06-01/
LOCATION:IL
CATEGORIES:Live music
ATTACH;FMTTYPE=application/pdf:https://houndsrest.com/wp-content/uploads/2025/09/Lyrics-Unleashed.pdf.pdf
END:VEVENT
BEGIN:VEVENT
DTSTART;TZID=America/Chicago:20270530T190000
DTEND;TZID=America/Chicago:20270530T200000
DTSTAMP:20260420T025910
CREATED:20260420T022029Z
LAST-MODIFIED:20260420T022032Z
UID:10000140-1811703600-1811707200@houndsrest.com
SUMMARY:Trivia Night at Hound's Court!
DESCRIPTION:Come join us for Trivia every Sunday at Hound’s Court\, the 2025 News-Gazette People’s Choice winner for best Trivia in C-U! Join your host Monty as you test your knowledge in the ultimate trivia battle! \nIt’s free to play and you can win gift certificates for each round as well as for being the overall winning team! 6 rounds total! \nMaximum number of players per team is 5 to be in the running for gift certificates. Phone use results in disqualification. \nWe’ll see you there!
URL:https://houndsrest.com/event/trivia-night-at-hounds-court-2/2027-05-30/
LOCATION:Hound’s Court\, 120 N Neil St\, Champaign\, IL\, 61822\, United States
CATEGORIES:Trivia
ATTACH;FMTTYPE=image/jpeg:https://houndsrest.com/wp-content/uploads/2024/09/360_F_253816768_HCShTG3B5MLGS4HN3Rt4ZGkFx5sGXxwe.jpg
END:VEVENT
BEGIN:VEVENT
DTSTART;TZID=America/Chicago:20270526T190000
DTEND;TZID=America/Chicago:20270526T233000
DTSTAMP:20260420T025910
CREATED:20240929T184201Z
LAST-MODIFIED:20240929T184201Z
UID:10000664-1811358000-1811374200@houndsrest.com
SUMMARY:Cocktail Flight Night at Hound's Court!
DESCRIPTION:Come out to partake in a flight! Varying offerings will come weekly.
URL:https://houndsrest.com/event/cocktail-flight-night-at-hounds-court/2027-05-26/
LOCATION:Hound’s Court\, 120 N Neil St\, Champaign\, IL\, 61822\, United States
CATEGORIES:Featuring Alcohol
ATTACH;FMTTYPE=image/jpeg:https://houndsrest.com/wp-content/uploads/2024/09/image0.jpeg
END:VEVENT
BEGIN:VEVENT
DTSTART;TZID=America/Chicago:20270525T190000
DTEND;TZID=America/Chicago:20270525T210000
DTSTAMP:20260420T025910
CREATED:20260420T015859Z
LAST-MODIFIED:20260420T020033Z
UID:10000883-1811271600-1811278800@houndsrest.com
SUMMARY:Lyrics Unleashed
DESCRIPTION:Hound’s Rest is excited to collaborate with Sound Bridge to offer a live music series featuring only original performances and songwriting! This event will occur every Tuesday at Hound’s Rest from 7-9pm. Join us for a night of great music\, local libations and great company. Sound Bridge is a local\, Women owned\, Non-Profit that supports the promotion of original artists and songwriters. This series is also supported by City of Champaign through their Sound Check Program helping to support live music in Downtown Champaign.
URL:https://houndsrest.com/event/lyrics-unleashed-5-11/2027-05-25/
LOCATION:IL
CATEGORIES:Live music
ATTACH;FMTTYPE=application/pdf:https://houndsrest.com/wp-content/uploads/2025/09/Lyrics-Unleashed.pdf.pdf
END:VEVENT
BEGIN:VEVENT
DTSTART;TZID=America/Chicago:20270523T190000
DTEND;TZID=America/Chicago:20270523T200000
DTSTAMP:20260420T025910
CREATED:20260420T022029Z
LAST-MODIFIED:20260420T022032Z
UID:10000139-1811098800-1811102400@houndsrest.com
SUMMARY:Trivia Night at Hound's Court!
DESCRIPTION:Come join us for Trivia every Sunday at Hound’s Court\, the 2025 News-Gazette People’s Choice winner for best Trivia in C-U! Join your host Monty as you test your knowledge in the ultimate trivia battle! \nIt’s free to play and you can win gift certificates for each round as well as for being the overall winning team! 6 rounds total! \nMaximum number of players per team is 5 to be in the running for gift certificates. Phone use results in disqualification. \nWe’ll see you there!
URL:https://houndsrest.com/event/trivia-night-at-hounds-court-2/2027-05-23/
LOCATION:Hound’s Court\, 120 N Neil St\, Champaign\, IL\, 61822\, United States
CATEGORIES:Trivia
ATTACH;FMTTYPE=image/jpeg:https://houndsrest.com/wp-content/uploads/2024/09/360_F_253816768_HCShTG3B5MLGS4HN3Rt4ZGkFx5sGXxwe.jpg
END:VEVENT
BEGIN:VEVENT
DTSTART;TZID=America/Chicago:20270519T190000
DTEND;TZID=America/Chicago:20270519T233000
DTSTAMP:20260420T025910
CREATED:20240929T184201Z
LAST-MODIFIED:20240929T184201Z
UID:10000663-1810753200-1810769400@houndsrest.com
SUMMARY:Cocktail Flight Night at Hound's Court!
DESCRIPTION:Come out to partake in a flight! Varying offerings will come weekly.
URL:https://houndsrest.com/event/cocktail-flight-night-at-hounds-court/2027-05-19/
LOCATION:Hound’s Court\, 120 N Neil St\, Champaign\, IL\, 61822\, United States
CATEGORIES:Featuring Alcohol
ATTACH;FMTTYPE=image/jpeg:https://houndsrest.com/wp-content/uploads/2024/09/image0.jpeg
END:VEVENT
BEGIN:VEVENT
DTSTART;TZID=America/Chicago:20270518T190000
DTEND;TZID=America/Chicago:20270518T210000
DTSTAMP:20260420T025910
CREATED:20260420T015859Z
LAST-MODIFIED:20260420T020033Z
UID:10000882-1810666800-1810674000@houndsrest.com
SUMMARY:Lyrics Unleashed
DESCRIPTION:Hound’s Rest is excited to collaborate with Sound Bridge to offer a live music series featuring only original performances and songwriting! This event will occur every Tuesday at Hound’s Rest from 7-9pm. Join us for a night of great music\, local libations and great company. Sound Bridge is a local\, Women owned\, Non-Profit that supports the promotion of original artists and songwriters. This series is also supported by City of Champaign through their Sound Check Program helping to support live music in Downtown Champaign.
URL:https://houndsrest.com/event/lyrics-unleashed-5-11/2027-05-18/
LOCATION:IL
CATEGORIES:Live music
ATTACH;FMTTYPE=application/pdf:https://houndsrest.com/wp-content/uploads/2025/09/Lyrics-Unleashed.pdf.pdf
END:VEVENT
BEGIN:VEVENT
DTSTART;TZID=America/Chicago:20270516T190000
DTEND;TZID=America/Chicago:20270516T200000
DTSTAMP:20260420T025910
CREATED:20260420T022029Z
LAST-MODIFIED:20260420T022032Z
UID:10000138-1810494000-1810497600@houndsrest.com
SUMMARY:Trivia Night at Hound's Court!
DESCRIPTION:Come join us for Trivia every Sunday at Hound’s Court\, the 2025 News-Gazette People’s Choice winner for best Trivia in C-U! Join your host Monty as you test your knowledge in the ultimate trivia battle! \nIt’s free to play and you can win gift certificates for each round as well as for being the overall winning team! 6 rounds total! \nMaximum number of players per team is 5 to be in the running for gift certificates. Phone use results in disqualification. \nWe’ll see you there!
URL:https://houndsrest.com/event/trivia-night-at-hounds-court-2/2027-05-16/
LOCATION:Hound’s Court\, 120 N Neil St\, Champaign\, IL\, 61822\, United States
CATEGORIES:Trivia
ATTACH;FMTTYPE=image/jpeg:https://houndsrest.com/wp-content/uploads/2024/09/360_F_253816768_HCShTG3B5MLGS4HN3Rt4ZGkFx5sGXxwe.jpg
END:VEVENT
BEGIN:VEVENT
DTSTART;TZID=America/Chicago:20270512T190000
DTEND;TZID=America/Chicago:20270512T233000
DTSTAMP:20260420T025910
CREATED:20240929T184201Z
LAST-MODIFIED:20240929T184201Z
UID:10000662-1810148400-1810164600@houndsrest.com
SUMMARY:Cocktail Flight Night at Hound's Court!
DESCRIPTION:Come out to partake in a flight! Varying offerings will come weekly.
URL:https://houndsrest.com/event/cocktail-flight-night-at-hounds-court/2027-05-12/
LOCATION:Hound’s Court\, 120 N Neil St\, Champaign\, IL\, 61822\, United States
CATEGORIES:Featuring Alcohol
ATTACH;FMTTYPE=image/jpeg:https://houndsrest.com/wp-content/uploads/2024/09/image0.jpeg
END:VEVENT
BEGIN:VEVENT
DTSTART;TZID=America/Chicago:20270511T190000
DTEND;TZID=America/Chicago:20270511T210000
DTSTAMP:20260420T025910
CREATED:20260420T015859Z
LAST-MODIFIED:20260420T020033Z
UID:10000881-1810062000-1810069200@houndsrest.com
SUMMARY:Lyrics Unleashed
DESCRIPTION:Hound’s Rest is excited to collaborate with Sound Bridge to offer a live music series featuring only original performances and songwriting! This event will occur every Tuesday at Hound’s Rest from 7-9pm. Join us for a night of great music\, local libations and great company. Sound Bridge is a local\, Women owned\, Non-Profit that supports the promotion of original artists and songwriters. This series is also supported by City of Champaign through their Sound Check Program helping to support live music in Downtown Champaign.
URL:https://houndsrest.com/event/lyrics-unleashed-5-11/2027-05-11/
LOCATION:IL
CATEGORIES:Live music
ATTACH;FMTTYPE=application/pdf:https://houndsrest.com/wp-content/uploads/2025/09/Lyrics-Unleashed.pdf.pdf
END:VEVENT
BEGIN:VEVENT
DTSTART;TZID=America/Chicago:20270509T190000
DTEND;TZID=America/Chicago:20270509T200000
DTSTAMP:20260420T025910
CREATED:20260420T022029Z
LAST-MODIFIED:20260420T022032Z
UID:10000137-1809889200-1809892800@houndsrest.com
SUMMARY:Trivia Night at Hound's Court!
DESCRIPTION:Come join us for Trivia every Sunday at Hound’s Court\, the 2025 News-Gazette People’s Choice winner for best Trivia in C-U! Join your host Monty as you test your knowledge in the ultimate trivia battle! \nIt’s free to play and you can win gift certificates for each round as well as for being the overall winning team! 6 rounds total! \nMaximum number of players per team is 5 to be in the running for gift certificates. Phone use results in disqualification. \nWe’ll see you there!
URL:https://houndsrest.com/event/trivia-night-at-hounds-court-2/2027-05-09/
LOCATION:Hound’s Court\, 120 N Neil St\, Champaign\, IL\, 61822\, United States
CATEGORIES:Trivia
ATTACH;FMTTYPE=image/jpeg:https://houndsrest.com/wp-content/uploads/2024/09/360_F_253816768_HCShTG3B5MLGS4HN3Rt4ZGkFx5sGXxwe.jpg
END:VEVENT
BEGIN:VEVENT
DTSTART;TZID=America/Chicago:20270505T190000
DTEND;TZID=America/Chicago:20270505T233000
DTSTAMP:20260420T025910
CREATED:20240929T184201Z
LAST-MODIFIED:20240929T184201Z
UID:10000661-1809543600-1809559800@houndsrest.com
SUMMARY:Cocktail Flight Night at Hound's Court!
DESCRIPTION:Come out to partake in a flight! Varying offerings will come weekly.
URL:https://houndsrest.com/event/cocktail-flight-night-at-hounds-court/2027-05-05/
LOCATION:Hound’s Court\, 120 N Neil St\, Champaign\, IL\, 61822\, United States
CATEGORIES:Featuring Alcohol
ATTACH;FMTTYPE=image/jpeg:https://houndsrest.com/wp-content/uploads/2024/09/image0.jpeg
END:VEVENT
BEGIN:VEVENT
DTSTART;TZID=America/Chicago:20270504T190000
DTEND;TZID=America/Chicago:20270504T210000
DTSTAMP:20260420T025910
CREATED:20260420T015859Z
LAST-MODIFIED:20260420T020033Z
UID:10000880-1809457200-1809464400@houndsrest.com
SUMMARY:Lyrics Unleashed
DESCRIPTION:Hound’s Rest is excited to collaborate with Sound Bridge to offer a live music series featuring only original performances and songwriting! This event will occur every Tuesday at Hound’s Rest from 7-9pm. Join us for a night of great music\, local libations and great company. Sound Bridge is a local\, Women owned\, Non-Profit that supports the promotion of original artists and songwriters. This series is also supported by City of Champaign through their Sound Check Program helping to support live music in Downtown Champaign.
URL:https://houndsrest.com/event/lyrics-unleashed-5-11/2027-05-04/
LOCATION:IL
CATEGORIES:Live music
ATTACH;FMTTYPE=application/pdf:https://houndsrest.com/wp-content/uploads/2025/09/Lyrics-Unleashed.pdf.pdf
END:VEVENT
BEGIN:VEVENT
DTSTART;TZID=America/Chicago:20270502T190000
DTEND;TZID=America/Chicago:20270502T200000
DTSTAMP:20260420T025910
CREATED:20260420T022029Z
LAST-MODIFIED:20260420T022032Z
UID:10000136-1809284400-1809288000@houndsrest.com
SUMMARY:Trivia Night at Hound's Court!
DESCRIPTION:Come join us for Trivia every Sunday at Hound’s Court\, the 2025 News-Gazette People’s Choice winner for best Trivia in C-U! Join your host Monty as you test your knowledge in the ultimate trivia battle! \nIt’s free to play and you can win gift certificates for each round as well as for being the overall winning team! 6 rounds total! \nMaximum number of players per team is 5 to be in the running for gift certificates. Phone use results in disqualification. \nWe’ll see you there!
URL:https://houndsrest.com/event/trivia-night-at-hounds-court-2/2027-05-02/
LOCATION:Hound’s Court\, 120 N Neil St\, Champaign\, IL\, 61822\, United States
CATEGORIES:Trivia
ATTACH;FMTTYPE=image/jpeg:https://houndsrest.com/wp-content/uploads/2024/09/360_F_253816768_HCShTG3B5MLGS4HN3Rt4ZGkFx5sGXxwe.jpg
END:VEVENT
BEGIN:VEVENT
DTSTART;TZID=America/Chicago:20270428T190000
DTEND;TZID=America/Chicago:20270428T233000
DTSTAMP:20260420T025910
CREATED:20240929T184201Z
LAST-MODIFIED:20240929T184201Z
UID:10000660-1808938800-1808955000@houndsrest.com
SUMMARY:Cocktail Flight Night at Hound's Court!
DESCRIPTION:Come out to partake in a flight! Varying offerings will come weekly.
URL:https://houndsrest.com/event/cocktail-flight-night-at-hounds-court/2027-04-28/
LOCATION:Hound’s Court\, 120 N Neil St\, Champaign\, IL\, 61822\, United States
CATEGORIES:Featuring Alcohol
ATTACH;FMTTYPE=image/jpeg:https://houndsrest.com/wp-content/uploads/2024/09/image0.jpeg
END:VEVENT
BEGIN:VEVENT
DTSTART;TZID=America/Chicago:20270427T190000
DTEND;TZID=America/Chicago:20270427T210000
DTSTAMP:20260420T025910
CREATED:20260420T015859Z
LAST-MODIFIED:20260420T020033Z
UID:10000879-1808852400-1808859600@houndsrest.com
SUMMARY:Lyrics Unleashed
DESCRIPTION:Hound’s Rest is excited to collaborate with Sound Bridge to offer a live music series featuring only original performances and songwriting! This event will occur every Tuesday at Hound’s Rest from 7-9pm. Join us for a night of great music\, local libations and great company. Sound Bridge is a local\, Women owned\, Non-Profit that supports the promotion of original artists and songwriters. This series is also supported by City of Champaign through their Sound Check Program helping to support live music in Downtown Champaign.
URL:https://houndsrest.com/event/lyrics-unleashed-5-11/2027-04-27/
LOCATION:IL
CATEGORIES:Live music
ATTACH;FMTTYPE=application/pdf:https://houndsrest.com/wp-content/uploads/2025/09/Lyrics-Unleashed.pdf.pdf
END:VEVENT
BEGIN:VEVENT
DTSTART;TZID=America/Chicago:20270425T190000
DTEND;TZID=America/Chicago:20270425T200000
DTSTAMP:20260420T025910
CREATED:20260420T022029Z
LAST-MODIFIED:20260420T022032Z
UID:10000135-1808679600-1808683200@houndsrest.com
SUMMARY:Trivia Night at Hound's Court!
DESCRIPTION:Come join us for Trivia every Sunday at Hound’s Court\, the 2025 News-Gazette People’s Choice winner for best Trivia in C-U! Join your host Monty as you test your knowledge in the ultimate trivia battle! \nIt’s free to play and you can win gift certificates for each round as well as for being the overall winning team! 6 rounds total! \nMaximum number of players per team is 5 to be in the running for gift certificates. Phone use results in disqualification. \nWe’ll see you there!
URL:https://houndsrest.com/event/trivia-night-at-hounds-court-2/2027-04-25/
LOCATION:Hound’s Court\, 120 N Neil St\, Champaign\, IL\, 61822\, United States
CATEGORIES:Trivia
ATTACH;FMTTYPE=image/jpeg:https://houndsrest.com/wp-content/uploads/2024/09/360_F_253816768_HCShTG3B5MLGS4HN3Rt4ZGkFx5sGXxwe.jpg
END:VEVENT
BEGIN:VEVENT
DTSTART;TZID=America/Chicago:20270421T190000
DTEND;TZID=America/Chicago:20270421T233000
DTSTAMP:20260420T025910
CREATED:20240929T184201Z
LAST-MODIFIED:20240929T184201Z
UID:10000659-1808334000-1808350200@houndsrest.com
SUMMARY:Cocktail Flight Night at Hound's Court!
DESCRIPTION:Come out to partake in a flight! Varying offerings will come weekly.
URL:https://houndsrest.com/event/cocktail-flight-night-at-hounds-court/2027-04-21/
LOCATION:Hound’s Court\, 120 N Neil St\, Champaign\, IL\, 61822\, United States
CATEGORIES:Featuring Alcohol
ATTACH;FMTTYPE=image/jpeg:https://houndsrest.com/wp-content/uploads/2024/09/image0.jpeg
END:VEVENT
BEGIN:VEVENT
DTSTART;TZID=America/Chicago:20270420T190000
DTEND;TZID=America/Chicago:20270420T210000
DTSTAMP:20260420T025910
CREATED:20260420T015859Z
LAST-MODIFIED:20260420T020033Z
UID:10000878-1808247600-1808254800@houndsrest.com
SUMMARY:Lyrics Unleashed
DESCRIPTION:Hound’s Rest is excited to collaborate with Sound Bridge to offer a live music series featuring only original performances and songwriting! This event will occur every Tuesday at Hound’s Rest from 7-9pm. Join us for a night of great music\, local libations and great company. Sound Bridge is a local\, Women owned\, Non-Profit that supports the promotion of original artists and songwriters. This series is also supported by City of Champaign through their Sound Check Program helping to support live music in Downtown Champaign.
URL:https://houndsrest.com/event/lyrics-unleashed-5-11/2027-04-20/
LOCATION:IL
CATEGORIES:Live music
ATTACH;FMTTYPE=application/pdf:https://houndsrest.com/wp-content/uploads/2025/09/Lyrics-Unleashed.pdf.pdf
END:VEVENT
BEGIN:VEVENT
DTSTART;TZID=America/Chicago:20270418T190000
DTEND;TZID=America/Chicago:20270418T200000
DTSTAMP:20260420T025910
CREATED:20260420T022029Z
LAST-MODIFIED:20260420T022032Z
UID:10000134-1808074800-1808078400@houndsrest.com
SUMMARY:Trivia Night at Hound's Court!
DESCRIPTION:Come join us for Trivia every Sunday at Hound’s Court\, the 2025 News-Gazette People’s Choice winner for best Trivia in C-U! Join your host Monty as you test your knowledge in the ultimate trivia battle! \nIt’s free to play and you can win gift certificates for each round as well as for being the overall winning team! 6 rounds total! \nMaximum number of players per team is 5 to be in the running for gift certificates. Phone use results in disqualification. \nWe’ll see you there!
URL:https://houndsrest.com/event/trivia-night-at-hounds-court-2/2027-04-18/
LOCATION:Hound’s Court\, 120 N Neil St\, Champaign\, IL\, 61822\, United States
CATEGORIES:Trivia
ATTACH;FMTTYPE=image/jpeg:https://houndsrest.com/wp-content/uploads/2024/09/360_F_253816768_HCShTG3B5MLGS4HN3Rt4ZGkFx5sGXxwe.jpg
END:VEVENT
BEGIN:VEVENT
DTSTART;TZID=America/Chicago:20270414T190000
DTEND;TZID=America/Chicago:20270414T233000
DTSTAMP:20260420T025910
CREATED:20240929T184201Z
LAST-MODIFIED:20240929T184201Z
UID:10000658-1807729200-1807745400@houndsrest.com
SUMMARY:Cocktail Flight Night at Hound's Court!
DESCRIPTION:Come out to partake in a flight! Varying offerings will come weekly.
URL:https://houndsrest.com/event/cocktail-flight-night-at-hounds-court/2027-04-14/
LOCATION:Hound’s Court\, 120 N Neil St\, Champaign\, IL\, 61822\, United States
CATEGORIES:Featuring Alcohol
ATTACH;FMTTYPE=image/jpeg:https://houndsrest.com/wp-content/uploads/2024/09/image0.jpeg
END:VEVENT
BEGIN:VEVENT
DTSTART;TZID=America/Chicago:20270413T190000
DTEND;TZID=America/Chicago:20270413T210000
DTSTAMP:20260420T025910
CREATED:20260420T015859Z
LAST-MODIFIED:20260420T020033Z
UID:10000877-1807642800-1807650000@houndsrest.com
SUMMARY:Lyrics Unleashed
DESCRIPTION:Hound’s Rest is excited to collaborate with Sound Bridge to offer a live music series featuring only original performances and songwriting! This event will occur every Tuesday at Hound’s Rest from 7-9pm. Join us for a night of great music\, local libations and great company. Sound Bridge is a local\, Women owned\, Non-Profit that supports the promotion of original artists and songwriters. This series is also supported by City of Champaign through their Sound Check Program helping to support live music in Downtown Champaign.
URL:https://houndsrest.com/event/lyrics-unleashed-5-11/2027-04-13/
LOCATION:IL
CATEGORIES:Live music
ATTACH;FMTTYPE=application/pdf:https://houndsrest.com/wp-content/uploads/2025/09/Lyrics-Unleashed.pdf.pdf
END:VEVENT
BEGIN:VEVENT
DTSTART;TZID=America/Chicago:20270411T190000
DTEND;TZID=America/Chicago:20270411T200000
DTSTAMP:20260420T025910
CREATED:20260420T022029Z
LAST-MODIFIED:20260420T022032Z
UID:10000133-1807470000-1807473600@houndsrest.com
SUMMARY:Trivia Night at Hound's Court!
DESCRIPTION:Come join us for Trivia every Sunday at Hound’s Court\, the 2025 News-Gazette People’s Choice winner for best Trivia in C-U! Join your host Monty as you test your knowledge in the ultimate trivia battle! \nIt’s free to play and you can win gift certificates for each round as well as for being the overall winning team! 6 rounds total! \nMaximum number of players per team is 5 to be in the running for gift certificates. Phone use results in disqualification. \nWe’ll see you there!
URL:https://houndsrest.com/event/trivia-night-at-hounds-court-2/2027-04-11/
LOCATION:Hound’s Court\, 120 N Neil St\, Champaign\, IL\, 61822\, United States
CATEGORIES:Trivia
ATTACH;FMTTYPE=image/jpeg:https://houndsrest.com/wp-content/uploads/2024/09/360_F_253816768_HCShTG3B5MLGS4HN3Rt4ZGkFx5sGXxwe.jpg
END:VEVENT
BEGIN:VEVENT
DTSTART;TZID=America/Chicago:20270407T190000
DTEND;TZID=America/Chicago:20270407T233000
DTSTAMP:20260420T025910
CREATED:20240929T184201Z
LAST-MODIFIED:20240929T184201Z
UID:10000657-1807124400-1807140600@houndsrest.com
SUMMARY:Cocktail Flight Night at Hound's Court!
DESCRIPTION:Come out to partake in a flight! Varying offerings will come weekly.
URL:https://houndsrest.com/event/cocktail-flight-night-at-hounds-court/2027-04-07/
LOCATION:Hound’s Court\, 120 N Neil St\, Champaign\, IL\, 61822\, United States
CATEGORIES:Featuring Alcohol
ATTACH;FMTTYPE=image/jpeg:https://houndsrest.com/wp-content/uploads/2024/09/image0.jpeg
END:VEVENT
BEGIN:VEVENT
DTSTART;TZID=America/Chicago:20270406T190000
DTEND;TZID=America/Chicago:20270406T210000
DTSTAMP:20260420T025910
CREATED:20260420T015859Z
LAST-MODIFIED:20260420T020033Z
UID:10000876-1807038000-1807045200@houndsrest.com
SUMMARY:Lyrics Unleashed
DESCRIPTION:Hound’s Rest is excited to collaborate with Sound Bridge to offer a live music series featuring only original performances and songwriting! This event will occur every Tuesday at Hound’s Rest from 7-9pm. Join us for a night of great music\, local libations and great company. Sound Bridge is a local\, Women owned\, Non-Profit that supports the promotion of original artists and songwriters. This series is also supported by City of Champaign through their Sound Check Program helping to support live music in Downtown Champaign.
URL:https://houndsrest.com/event/lyrics-unleashed-5-11/2027-04-06/
LOCATION:IL
CATEGORIES:Live music
ATTACH;FMTTYPE=application/pdf:https://houndsrest.com/wp-content/uploads/2025/09/Lyrics-Unleashed.pdf.pdf
END:VEVENT
END:VCALENDAR