BEGIN:VCALENDAR
VERSION:2.0
PRODID:-//Hound&#039;s Rest LLC - ECPv6.15.17.1//NONSGML v1.0//EN
CALSCALE:GREGORIAN
METHOD:PUBLISH
X-ORIGINAL-URL:https://houndsrest.com
X-WR-CALDESC:Events for Hound&#039;s Rest LLC
REFRESH-INTERVAL;VALUE=DURATION:PT1H
X-Robots-Tag:noindex
X-PUBLISHED-TTL:PT1H
BEGIN:VTIMEZONE
TZID:America/Chicago
BEGIN:DAYLIGHT
TZOFFSETFROM:-0600
TZOFFSETTO:-0500
TZNAME:CDT
DTSTART:20270314T080000
END:DAYLIGHT
BEGIN:STANDARD
TZOFFSETFROM:-0500
TZOFFSETTO:-0600
TZNAME:CST
DTSTART:20271107T070000
END:STANDARD
BEGIN:DAYLIGHT
TZOFFSETFROM:-0600
TZOFFSETTO:-0500
TZNAME:CDT
DTSTART:20280312T080000
END:DAYLIGHT
BEGIN:STANDARD
TZOFFSETFROM:-0500
TZOFFSETTO:-0600
TZNAME:CST
DTSTART:20281105T070000
END:STANDARD
BEGIN:DAYLIGHT
TZOFFSETFROM:-0600
TZOFFSETTO:-0500
TZNAME:CDT
DTSTART:20290311T080000
END:DAYLIGHT
BEGIN:STANDARD
TZOFFSETFROM:-0500
TZOFFSETTO:-0600
TZNAME:CST
DTSTART:20291104T070000
END:STANDARD
END:VTIMEZONE
BEGIN:VEVENT
DTSTART;TZID=America/Chicago:20280130T190000
DTEND;TZID=America/Chicago:20280130T200000
DTSTAMP:20260419T224407
CREATED:20260420T022029Z
LAST-MODIFIED:20260420T022032Z
UID:10000175-1832871600-1832875200@houndsrest.com
SUMMARY:Trivia Night at Hound's Court!
DESCRIPTION:Come join us for Trivia every Sunday at Hound’s Court\, the 2025 News-Gazette People’s Choice winner for best Trivia in C-U! Join your host Monty as you test your knowledge in the ultimate trivia battle! \nIt’s free to play and you can win gift certificates for each round as well as for being the overall winning team! 6 rounds total! \nMaximum number of players per team is 5 to be in the running for gift certificates. Phone use results in disqualification. \nWe’ll see you there!
URL:https://houndsrest.com/event/trivia-night-at-hounds-court-2/2028-01-30/
LOCATION:Hound’s Court\, 120 N Neil St\, Champaign\, IL\, 61822\, United States
CATEGORIES:Trivia
ATTACH;FMTTYPE=image/jpeg:https://houndsrest.com/wp-content/uploads/2024/09/360_F_253816768_HCShTG3B5MLGS4HN3Rt4ZGkFx5sGXxwe.jpg
END:VEVENT
BEGIN:VEVENT
DTSTART;TZID=America/Chicago:20280201T190000
DTEND;TZID=America/Chicago:20280201T210000
DTSTAMP:20260419T224407
CREATED:20260420T015859Z
LAST-MODIFIED:20260420T020033Z
UID:10000919-1833044400-1833051600@houndsrest.com
SUMMARY:Lyrics Unleashed
DESCRIPTION:Hound’s Rest is excited to collaborate with Sound Bridge to offer a live music series featuring only original performances and songwriting! This event will occur every Tuesday at Hound’s Rest from 7-9pm. Join us for a night of great music\, local libations and great company. Sound Bridge is a local\, Women owned\, Non-Profit that supports the promotion of original artists and songwriters. This series is also supported by City of Champaign through their Sound Check Program helping to support live music in Downtown Champaign.
URL:https://houndsrest.com/event/lyrics-unleashed-5-11/2028-02-01/
LOCATION:IL
CATEGORIES:Live music
ATTACH;FMTTYPE=application/pdf:https://houndsrest.com/wp-content/uploads/2025/09/Lyrics-Unleashed.pdf.pdf
END:VEVENT
BEGIN:VEVENT
DTSTART;TZID=America/Chicago:20280202T190000
DTEND;TZID=America/Chicago:20280202T233000
DTSTAMP:20260419T224407
CREATED:20240929T184201Z
LAST-MODIFIED:20240929T184201Z
UID:10000700-1833130800-1833147000@houndsrest.com
SUMMARY:Cocktail Flight Night at Hound's Court!
DESCRIPTION:Come out to partake in a flight! Varying offerings will come weekly.
URL:https://houndsrest.com/event/cocktail-flight-night-at-hounds-court/2028-02-02/
LOCATION:Hound’s Court\, 120 N Neil St\, Champaign\, IL\, 61822\, United States
CATEGORIES:Featuring Alcohol
ATTACH;FMTTYPE=image/jpeg:https://houndsrest.com/wp-content/uploads/2024/09/image0.jpeg
END:VEVENT
BEGIN:VEVENT
DTSTART;TZID=America/Chicago:20280206T190000
DTEND;TZID=America/Chicago:20280206T200000
DTSTAMP:20260419T224407
CREATED:20260420T022029Z
LAST-MODIFIED:20260420T022032Z
UID:10000176-1833476400-1833480000@houndsrest.com
SUMMARY:Trivia Night at Hound's Court!
DESCRIPTION:Come join us for Trivia every Sunday at Hound’s Court\, the 2025 News-Gazette People’s Choice winner for best Trivia in C-U! Join your host Monty as you test your knowledge in the ultimate trivia battle! \nIt’s free to play and you can win gift certificates for each round as well as for being the overall winning team! 6 rounds total! \nMaximum number of players per team is 5 to be in the running for gift certificates. Phone use results in disqualification. \nWe’ll see you there!
URL:https://houndsrest.com/event/trivia-night-at-hounds-court-2/2028-02-06/
LOCATION:Hound’s Court\, 120 N Neil St\, Champaign\, IL\, 61822\, United States
CATEGORIES:Trivia
ATTACH;FMTTYPE=image/jpeg:https://houndsrest.com/wp-content/uploads/2024/09/360_F_253816768_HCShTG3B5MLGS4HN3Rt4ZGkFx5sGXxwe.jpg
END:VEVENT
BEGIN:VEVENT
DTSTART;TZID=America/Chicago:20280208T190000
DTEND;TZID=America/Chicago:20280208T210000
DTSTAMP:20260419T224407
CREATED:20260420T015859Z
LAST-MODIFIED:20260420T020033Z
UID:10000920-1833649200-1833656400@houndsrest.com
SUMMARY:Lyrics Unleashed
DESCRIPTION:Hound’s Rest is excited to collaborate with Sound Bridge to offer a live music series featuring only original performances and songwriting! This event will occur every Tuesday at Hound’s Rest from 7-9pm. Join us for a night of great music\, local libations and great company. Sound Bridge is a local\, Women owned\, Non-Profit that supports the promotion of original artists and songwriters. This series is also supported by City of Champaign through their Sound Check Program helping to support live music in Downtown Champaign.
URL:https://houndsrest.com/event/lyrics-unleashed-5-11/2028-02-08/
LOCATION:IL
CATEGORIES:Live music
ATTACH;FMTTYPE=application/pdf:https://houndsrest.com/wp-content/uploads/2025/09/Lyrics-Unleashed.pdf.pdf
END:VEVENT
BEGIN:VEVENT
DTSTART;TZID=America/Chicago:20280209T190000
DTEND;TZID=America/Chicago:20280209T233000
DTSTAMP:20260419T224407
CREATED:20240929T184201Z
LAST-MODIFIED:20240929T184201Z
UID:10000701-1833735600-1833751800@houndsrest.com
SUMMARY:Cocktail Flight Night at Hound's Court!
DESCRIPTION:Come out to partake in a flight! Varying offerings will come weekly.
URL:https://houndsrest.com/event/cocktail-flight-night-at-hounds-court/2028-02-09/
LOCATION:Hound’s Court\, 120 N Neil St\, Champaign\, IL\, 61822\, United States
CATEGORIES:Featuring Alcohol
ATTACH;FMTTYPE=image/jpeg:https://houndsrest.com/wp-content/uploads/2024/09/image0.jpeg
END:VEVENT
BEGIN:VEVENT
DTSTART;TZID=America/Chicago:20280213T190000
DTEND;TZID=America/Chicago:20280213T200000
DTSTAMP:20260419T224407
CREATED:20260420T022029Z
LAST-MODIFIED:20260420T022032Z
UID:10000177-1834081200-1834084800@houndsrest.com
SUMMARY:Trivia Night at Hound's Court!
DESCRIPTION:Come join us for Trivia every Sunday at Hound’s Court\, the 2025 News-Gazette People’s Choice winner for best Trivia in C-U! Join your host Monty as you test your knowledge in the ultimate trivia battle! \nIt’s free to play and you can win gift certificates for each round as well as for being the overall winning team! 6 rounds total! \nMaximum number of players per team is 5 to be in the running for gift certificates. Phone use results in disqualification. \nWe’ll see you there!
URL:https://houndsrest.com/event/trivia-night-at-hounds-court-2/2028-02-13/
LOCATION:Hound’s Court\, 120 N Neil St\, Champaign\, IL\, 61822\, United States
CATEGORIES:Trivia
ATTACH;FMTTYPE=image/jpeg:https://houndsrest.com/wp-content/uploads/2024/09/360_F_253816768_HCShTG3B5MLGS4HN3Rt4ZGkFx5sGXxwe.jpg
END:VEVENT
BEGIN:VEVENT
DTSTART;TZID=America/Chicago:20280215T190000
DTEND;TZID=America/Chicago:20280215T210000
DTSTAMP:20260419T224407
CREATED:20260420T015859Z
LAST-MODIFIED:20260420T020033Z
UID:10000921-1834254000-1834261200@houndsrest.com
SUMMARY:Lyrics Unleashed
DESCRIPTION:Hound’s Rest is excited to collaborate with Sound Bridge to offer a live music series featuring only original performances and songwriting! This event will occur every Tuesday at Hound’s Rest from 7-9pm. Join us for a night of great music\, local libations and great company. Sound Bridge is a local\, Women owned\, Non-Profit that supports the promotion of original artists and songwriters. This series is also supported by City of Champaign through their Sound Check Program helping to support live music in Downtown Champaign.
URL:https://houndsrest.com/event/lyrics-unleashed-5-11/2028-02-15/
LOCATION:IL
CATEGORIES:Live music
ATTACH;FMTTYPE=application/pdf:https://houndsrest.com/wp-content/uploads/2025/09/Lyrics-Unleashed.pdf.pdf
END:VEVENT
BEGIN:VEVENT
DTSTART;TZID=America/Chicago:20280216T190000
DTEND;TZID=America/Chicago:20280216T233000
DTSTAMP:20260419T224407
CREATED:20240929T184201Z
LAST-MODIFIED:20240929T184201Z
UID:10000702-1834340400-1834356600@houndsrest.com
SUMMARY:Cocktail Flight Night at Hound's Court!
DESCRIPTION:Come out to partake in a flight! Varying offerings will come weekly.
URL:https://houndsrest.com/event/cocktail-flight-night-at-hounds-court/2028-02-16/
LOCATION:Hound’s Court\, 120 N Neil St\, Champaign\, IL\, 61822\, United States
CATEGORIES:Featuring Alcohol
ATTACH;FMTTYPE=image/jpeg:https://houndsrest.com/wp-content/uploads/2024/09/image0.jpeg
END:VEVENT
BEGIN:VEVENT
DTSTART;TZID=America/Chicago:20280220T190000
DTEND;TZID=America/Chicago:20280220T200000
DTSTAMP:20260419T224407
CREATED:20260420T022029Z
LAST-MODIFIED:20260420T022032Z
UID:10000178-1834686000-1834689600@houndsrest.com
SUMMARY:Trivia Night at Hound's Court!
DESCRIPTION:Come join us for Trivia every Sunday at Hound’s Court\, the 2025 News-Gazette People’s Choice winner for best Trivia in C-U! Join your host Monty as you test your knowledge in the ultimate trivia battle! \nIt’s free to play and you can win gift certificates for each round as well as for being the overall winning team! 6 rounds total! \nMaximum number of players per team is 5 to be in the running for gift certificates. Phone use results in disqualification. \nWe’ll see you there!
URL:https://houndsrest.com/event/trivia-night-at-hounds-court-2/2028-02-20/
LOCATION:Hound’s Court\, 120 N Neil St\, Champaign\, IL\, 61822\, United States
CATEGORIES:Trivia
ATTACH;FMTTYPE=image/jpeg:https://houndsrest.com/wp-content/uploads/2024/09/360_F_253816768_HCShTG3B5MLGS4HN3Rt4ZGkFx5sGXxwe.jpg
END:VEVENT
BEGIN:VEVENT
DTSTART;TZID=America/Chicago:20280222T190000
DTEND;TZID=America/Chicago:20280222T210000
DTSTAMP:20260419T224407
CREATED:20260420T015859Z
LAST-MODIFIED:20260420T020033Z
UID:10000922-1834858800-1834866000@houndsrest.com
SUMMARY:Lyrics Unleashed
DESCRIPTION:Hound’s Rest is excited to collaborate with Sound Bridge to offer a live music series featuring only original performances and songwriting! This event will occur every Tuesday at Hound’s Rest from 7-9pm. Join us for a night of great music\, local libations and great company. Sound Bridge is a local\, Women owned\, Non-Profit that supports the promotion of original artists and songwriters. This series is also supported by City of Champaign through their Sound Check Program helping to support live music in Downtown Champaign.
URL:https://houndsrest.com/event/lyrics-unleashed-5-11/2028-02-22/
LOCATION:IL
CATEGORIES:Live music
ATTACH;FMTTYPE=application/pdf:https://houndsrest.com/wp-content/uploads/2025/09/Lyrics-Unleashed.pdf.pdf
END:VEVENT
BEGIN:VEVENT
DTSTART;TZID=America/Chicago:20280223T190000
DTEND;TZID=America/Chicago:20280223T233000
DTSTAMP:20260419T224407
CREATED:20240929T184201Z
LAST-MODIFIED:20240929T184201Z
UID:10000703-1834945200-1834961400@houndsrest.com
SUMMARY:Cocktail Flight Night at Hound's Court!
DESCRIPTION:Come out to partake in a flight! Varying offerings will come weekly.
URL:https://houndsrest.com/event/cocktail-flight-night-at-hounds-court/2028-02-23/
LOCATION:Hound’s Court\, 120 N Neil St\, Champaign\, IL\, 61822\, United States
CATEGORIES:Featuring Alcohol
ATTACH;FMTTYPE=image/jpeg:https://houndsrest.com/wp-content/uploads/2024/09/image0.jpeg
END:VEVENT
BEGIN:VEVENT
DTSTART;TZID=America/Chicago:20280227T190000
DTEND;TZID=America/Chicago:20280227T200000
DTSTAMP:20260419T224407
CREATED:20260420T022029Z
LAST-MODIFIED:20260420T022032Z
UID:10000179-1835290800-1835294400@houndsrest.com
SUMMARY:Trivia Night at Hound's Court!
DESCRIPTION:Come join us for Trivia every Sunday at Hound’s Court\, the 2025 News-Gazette People’s Choice winner for best Trivia in C-U! Join your host Monty as you test your knowledge in the ultimate trivia battle! \nIt’s free to play and you can win gift certificates for each round as well as for being the overall winning team! 6 rounds total! \nMaximum number of players per team is 5 to be in the running for gift certificates. Phone use results in disqualification. \nWe’ll see you there!
URL:https://houndsrest.com/event/trivia-night-at-hounds-court-2/2028-02-27/
LOCATION:Hound’s Court\, 120 N Neil St\, Champaign\, IL\, 61822\, United States
CATEGORIES:Trivia
ATTACH;FMTTYPE=image/jpeg:https://houndsrest.com/wp-content/uploads/2024/09/360_F_253816768_HCShTG3B5MLGS4HN3Rt4ZGkFx5sGXxwe.jpg
END:VEVENT
BEGIN:VEVENT
DTSTART;TZID=America/Chicago:20280229T190000
DTEND;TZID=America/Chicago:20280229T210000
DTSTAMP:20260419T224407
CREATED:20260420T015859Z
LAST-MODIFIED:20260420T020033Z
UID:10000923-1835463600-1835470800@houndsrest.com
SUMMARY:Lyrics Unleashed
DESCRIPTION:Hound’s Rest is excited to collaborate with Sound Bridge to offer a live music series featuring only original performances and songwriting! This event will occur every Tuesday at Hound’s Rest from 7-9pm. Join us for a night of great music\, local libations and great company. Sound Bridge is a local\, Women owned\, Non-Profit that supports the promotion of original artists and songwriters. This series is also supported by City of Champaign through their Sound Check Program helping to support live music in Downtown Champaign.
URL:https://houndsrest.com/event/lyrics-unleashed-5-11/2028-02-29/
LOCATION:IL
CATEGORIES:Live music
ATTACH;FMTTYPE=application/pdf:https://houndsrest.com/wp-content/uploads/2025/09/Lyrics-Unleashed.pdf.pdf
END:VEVENT
BEGIN:VEVENT
DTSTART;TZID=America/Chicago:20280301T190000
DTEND;TZID=America/Chicago:20280301T233000
DTSTAMP:20260419T224407
CREATED:20240929T184201Z
LAST-MODIFIED:20240929T184201Z
UID:10000704-1835550000-1835566200@houndsrest.com
SUMMARY:Cocktail Flight Night at Hound's Court!
DESCRIPTION:Come out to partake in a flight! Varying offerings will come weekly.
URL:https://houndsrest.com/event/cocktail-flight-night-at-hounds-court/2028-03-01/
LOCATION:Hound’s Court\, 120 N Neil St\, Champaign\, IL\, 61822\, United States
CATEGORIES:Featuring Alcohol
ATTACH;FMTTYPE=image/jpeg:https://houndsrest.com/wp-content/uploads/2024/09/image0.jpeg
END:VEVENT
BEGIN:VEVENT
DTSTART;TZID=America/Chicago:20280305T190000
DTEND;TZID=America/Chicago:20280305T200000
DTSTAMP:20260419T224407
CREATED:20260420T022029Z
LAST-MODIFIED:20260420T022032Z
UID:10000180-1835895600-1835899200@houndsrest.com
SUMMARY:Trivia Night at Hound's Court!
DESCRIPTION:Come join us for Trivia every Sunday at Hound’s Court\, the 2025 News-Gazette People’s Choice winner for best Trivia in C-U! Join your host Monty as you test your knowledge in the ultimate trivia battle! \nIt’s free to play and you can win gift certificates for each round as well as for being the overall winning team! 6 rounds total! \nMaximum number of players per team is 5 to be in the running for gift certificates. Phone use results in disqualification. \nWe’ll see you there!
URL:https://houndsrest.com/event/trivia-night-at-hounds-court-2/2028-03-05/
LOCATION:Hound’s Court\, 120 N Neil St\, Champaign\, IL\, 61822\, United States
CATEGORIES:Trivia
ATTACH;FMTTYPE=image/jpeg:https://houndsrest.com/wp-content/uploads/2024/09/360_F_253816768_HCShTG3B5MLGS4HN3Rt4ZGkFx5sGXxwe.jpg
END:VEVENT
BEGIN:VEVENT
DTSTART;TZID=America/Chicago:20280307T190000
DTEND;TZID=America/Chicago:20280307T210000
DTSTAMP:20260419T224407
CREATED:20260420T015859Z
LAST-MODIFIED:20260420T020033Z
UID:10000924-1836068400-1836075600@houndsrest.com
SUMMARY:Lyrics Unleashed
DESCRIPTION:Hound’s Rest is excited to collaborate with Sound Bridge to offer a live music series featuring only original performances and songwriting! This event will occur every Tuesday at Hound’s Rest from 7-9pm. Join us for a night of great music\, local libations and great company. Sound Bridge is a local\, Women owned\, Non-Profit that supports the promotion of original artists and songwriters. This series is also supported by City of Champaign through their Sound Check Program helping to support live music in Downtown Champaign.
URL:https://houndsrest.com/event/lyrics-unleashed-5-11/2028-03-07/
LOCATION:IL
CATEGORIES:Live music
ATTACH;FMTTYPE=application/pdf:https://houndsrest.com/wp-content/uploads/2025/09/Lyrics-Unleashed.pdf.pdf
END:VEVENT
BEGIN:VEVENT
DTSTART;TZID=America/Chicago:20280308T190000
DTEND;TZID=America/Chicago:20280308T233000
DTSTAMP:20260419T224407
CREATED:20240929T184201Z
LAST-MODIFIED:20240929T184201Z
UID:10000705-1836154800-1836171000@houndsrest.com
SUMMARY:Cocktail Flight Night at Hound's Court!
DESCRIPTION:Come out to partake in a flight! Varying offerings will come weekly.
URL:https://houndsrest.com/event/cocktail-flight-night-at-hounds-court/2028-03-08/
LOCATION:Hound’s Court\, 120 N Neil St\, Champaign\, IL\, 61822\, United States
CATEGORIES:Featuring Alcohol
ATTACH;FMTTYPE=image/jpeg:https://houndsrest.com/wp-content/uploads/2024/09/image0.jpeg
END:VEVENT
BEGIN:VEVENT
DTSTART;TZID=America/Chicago:20280312T190000
DTEND;TZID=America/Chicago:20280312T200000
DTSTAMP:20260419T224407
CREATED:20260420T022029Z
LAST-MODIFIED:20260420T022032Z
UID:10000181-1836500400-1836504000@houndsrest.com
SUMMARY:Trivia Night at Hound's Court!
DESCRIPTION:Come join us for Trivia every Sunday at Hound’s Court\, the 2025 News-Gazette People’s Choice winner for best Trivia in C-U! Join your host Monty as you test your knowledge in the ultimate trivia battle! \nIt’s free to play and you can win gift certificates for each round as well as for being the overall winning team! 6 rounds total! \nMaximum number of players per team is 5 to be in the running for gift certificates. Phone use results in disqualification. \nWe’ll see you there!
URL:https://houndsrest.com/event/trivia-night-at-hounds-court-2/2028-03-12/
LOCATION:Hound’s Court\, 120 N Neil St\, Champaign\, IL\, 61822\, United States
CATEGORIES:Trivia
ATTACH;FMTTYPE=image/jpeg:https://houndsrest.com/wp-content/uploads/2024/09/360_F_253816768_HCShTG3B5MLGS4HN3Rt4ZGkFx5sGXxwe.jpg
END:VEVENT
BEGIN:VEVENT
DTSTART;TZID=America/Chicago:20280314T190000
DTEND;TZID=America/Chicago:20280314T210000
DTSTAMP:20260419T224407
CREATED:20260420T015859Z
LAST-MODIFIED:20260420T020033Z
UID:10000925-1836673200-1836680400@houndsrest.com
SUMMARY:Lyrics Unleashed
DESCRIPTION:Hound’s Rest is excited to collaborate with Sound Bridge to offer a live music series featuring only original performances and songwriting! This event will occur every Tuesday at Hound’s Rest from 7-9pm. Join us for a night of great music\, local libations and great company. Sound Bridge is a local\, Women owned\, Non-Profit that supports the promotion of original artists and songwriters. This series is also supported by City of Champaign through their Sound Check Program helping to support live music in Downtown Champaign.
URL:https://houndsrest.com/event/lyrics-unleashed-5-11/2028-03-14/
LOCATION:IL
CATEGORIES:Live music
ATTACH;FMTTYPE=application/pdf:https://houndsrest.com/wp-content/uploads/2025/09/Lyrics-Unleashed.pdf.pdf
END:VEVENT
BEGIN:VEVENT
DTSTART;TZID=America/Chicago:20280315T190000
DTEND;TZID=America/Chicago:20280315T233000
DTSTAMP:20260419T224407
CREATED:20240929T184201Z
LAST-MODIFIED:20240929T184201Z
UID:10000706-1836759600-1836775800@houndsrest.com
SUMMARY:Cocktail Flight Night at Hound's Court!
DESCRIPTION:Come out to partake in a flight! Varying offerings will come weekly.
URL:https://houndsrest.com/event/cocktail-flight-night-at-hounds-court/2028-03-15/
LOCATION:Hound’s Court\, 120 N Neil St\, Champaign\, IL\, 61822\, United States
CATEGORIES:Featuring Alcohol
ATTACH;FMTTYPE=image/jpeg:https://houndsrest.com/wp-content/uploads/2024/09/image0.jpeg
END:VEVENT
BEGIN:VEVENT
DTSTART;TZID=America/Chicago:20280319T190000
DTEND;TZID=America/Chicago:20280319T200000
DTSTAMP:20260419T224407
CREATED:20260420T022029Z
LAST-MODIFIED:20260420T022032Z
UID:10000182-1837105200-1837108800@houndsrest.com
SUMMARY:Trivia Night at Hound's Court!
DESCRIPTION:Come join us for Trivia every Sunday at Hound’s Court\, the 2025 News-Gazette People’s Choice winner for best Trivia in C-U! Join your host Monty as you test your knowledge in the ultimate trivia battle! \nIt’s free to play and you can win gift certificates for each round as well as for being the overall winning team! 6 rounds total! \nMaximum number of players per team is 5 to be in the running for gift certificates. Phone use results in disqualification. \nWe’ll see you there!
URL:https://houndsrest.com/event/trivia-night-at-hounds-court-2/2028-03-19/
LOCATION:Hound’s Court\, 120 N Neil St\, Champaign\, IL\, 61822\, United States
CATEGORIES:Trivia
ATTACH;FMTTYPE=image/jpeg:https://houndsrest.com/wp-content/uploads/2024/09/360_F_253816768_HCShTG3B5MLGS4HN3Rt4ZGkFx5sGXxwe.jpg
END:VEVENT
BEGIN:VEVENT
DTSTART;TZID=America/Chicago:20280321T190000
DTEND;TZID=America/Chicago:20280321T210000
DTSTAMP:20260419T224407
CREATED:20260420T015859Z
LAST-MODIFIED:20260420T020033Z
UID:10000926-1837278000-1837285200@houndsrest.com
SUMMARY:Lyrics Unleashed
DESCRIPTION:Hound’s Rest is excited to collaborate with Sound Bridge to offer a live music series featuring only original performances and songwriting! This event will occur every Tuesday at Hound’s Rest from 7-9pm. Join us for a night of great music\, local libations and great company. Sound Bridge is a local\, Women owned\, Non-Profit that supports the promotion of original artists and songwriters. This series is also supported by City of Champaign through their Sound Check Program helping to support live music in Downtown Champaign.
URL:https://houndsrest.com/event/lyrics-unleashed-5-11/2028-03-21/
LOCATION:IL
CATEGORIES:Live music
ATTACH;FMTTYPE=application/pdf:https://houndsrest.com/wp-content/uploads/2025/09/Lyrics-Unleashed.pdf.pdf
END:VEVENT
BEGIN:VEVENT
DTSTART;TZID=America/Chicago:20280322T190000
DTEND;TZID=America/Chicago:20280322T233000
DTSTAMP:20260419T224407
CREATED:20240929T184201Z
LAST-MODIFIED:20240929T184201Z
UID:10000707-1837364400-1837380600@houndsrest.com
SUMMARY:Cocktail Flight Night at Hound's Court!
DESCRIPTION:Come out to partake in a flight! Varying offerings will come weekly.
URL:https://houndsrest.com/event/cocktail-flight-night-at-hounds-court/2028-03-22/
LOCATION:Hound’s Court\, 120 N Neil St\, Champaign\, IL\, 61822\, United States
CATEGORIES:Featuring Alcohol
ATTACH;FMTTYPE=image/jpeg:https://houndsrest.com/wp-content/uploads/2024/09/image0.jpeg
END:VEVENT
BEGIN:VEVENT
DTSTART;TZID=America/Chicago:20280326T190000
DTEND;TZID=America/Chicago:20280326T200000
DTSTAMP:20260419T224407
CREATED:20260420T022029Z
LAST-MODIFIED:20260420T022032Z
UID:10000183-1837710000-1837713600@houndsrest.com
SUMMARY:Trivia Night at Hound's Court!
DESCRIPTION:Come join us for Trivia every Sunday at Hound’s Court\, the 2025 News-Gazette People’s Choice winner for best Trivia in C-U! Join your host Monty as you test your knowledge in the ultimate trivia battle! \nIt’s free to play and you can win gift certificates for each round as well as for being the overall winning team! 6 rounds total! \nMaximum number of players per team is 5 to be in the running for gift certificates. Phone use results in disqualification. \nWe’ll see you there!
URL:https://houndsrest.com/event/trivia-night-at-hounds-court-2/2028-03-26/
LOCATION:Hound’s Court\, 120 N Neil St\, Champaign\, IL\, 61822\, United States
CATEGORIES:Trivia
ATTACH;FMTTYPE=image/jpeg:https://houndsrest.com/wp-content/uploads/2024/09/360_F_253816768_HCShTG3B5MLGS4HN3Rt4ZGkFx5sGXxwe.jpg
END:VEVENT
BEGIN:VEVENT
DTSTART;TZID=America/Chicago:20280328T190000
DTEND;TZID=America/Chicago:20280328T210000
DTSTAMP:20260419T224407
CREATED:20260420T015859Z
LAST-MODIFIED:20260420T020033Z
UID:10000927-1837882800-1837890000@houndsrest.com
SUMMARY:Lyrics Unleashed
DESCRIPTION:Hound’s Rest is excited to collaborate with Sound Bridge to offer a live music series featuring only original performances and songwriting! This event will occur every Tuesday at Hound’s Rest from 7-9pm. Join us for a night of great music\, local libations and great company. Sound Bridge is a local\, Women owned\, Non-Profit that supports the promotion of original artists and songwriters. This series is also supported by City of Champaign through their Sound Check Program helping to support live music in Downtown Champaign.
URL:https://houndsrest.com/event/lyrics-unleashed-5-11/2028-03-28/
LOCATION:IL
CATEGORIES:Live music
ATTACH;FMTTYPE=application/pdf:https://houndsrest.com/wp-content/uploads/2025/09/Lyrics-Unleashed.pdf.pdf
END:VEVENT
BEGIN:VEVENT
DTSTART;TZID=America/Chicago:20280329T190000
DTEND;TZID=America/Chicago:20280329T233000
DTSTAMP:20260419T224407
CREATED:20240929T184201Z
LAST-MODIFIED:20240929T184201Z
UID:10000708-1837969200-1837985400@houndsrest.com
SUMMARY:Cocktail Flight Night at Hound's Court!
DESCRIPTION:Come out to partake in a flight! Varying offerings will come weekly.
URL:https://houndsrest.com/event/cocktail-flight-night-at-hounds-court/2028-03-29/
LOCATION:Hound’s Court\, 120 N Neil St\, Champaign\, IL\, 61822\, United States
CATEGORIES:Featuring Alcohol
ATTACH;FMTTYPE=image/jpeg:https://houndsrest.com/wp-content/uploads/2024/09/image0.jpeg
END:VEVENT
BEGIN:VEVENT
DTSTART;TZID=America/Chicago:20280402T190000
DTEND;TZID=America/Chicago:20280402T200000
DTSTAMP:20260419T224407
CREATED:20260420T022029Z
LAST-MODIFIED:20260420T022032Z
UID:10000184-1838314800-1838318400@houndsrest.com
SUMMARY:Trivia Night at Hound's Court!
DESCRIPTION:Come join us for Trivia every Sunday at Hound’s Court\, the 2025 News-Gazette People’s Choice winner for best Trivia in C-U! Join your host Monty as you test your knowledge in the ultimate trivia battle! \nIt’s free to play and you can win gift certificates for each round as well as for being the overall winning team! 6 rounds total! \nMaximum number of players per team is 5 to be in the running for gift certificates. Phone use results in disqualification. \nWe’ll see you there!
URL:https://houndsrest.com/event/trivia-night-at-hounds-court-2/2028-04-02/
LOCATION:Hound’s Court\, 120 N Neil St\, Champaign\, IL\, 61822\, United States
CATEGORIES:Trivia
ATTACH;FMTTYPE=image/jpeg:https://houndsrest.com/wp-content/uploads/2024/09/360_F_253816768_HCShTG3B5MLGS4HN3Rt4ZGkFx5sGXxwe.jpg
END:VEVENT
BEGIN:VEVENT
DTSTART;TZID=America/Chicago:20280404T190000
DTEND;TZID=America/Chicago:20280404T210000
DTSTAMP:20260419T224407
CREATED:20260420T015859Z
LAST-MODIFIED:20260420T020033Z
UID:10000928-1838487600-1838494800@houndsrest.com
SUMMARY:Lyrics Unleashed
DESCRIPTION:Hound’s Rest is excited to collaborate with Sound Bridge to offer a live music series featuring only original performances and songwriting! This event will occur every Tuesday at Hound’s Rest from 7-9pm. Join us for a night of great music\, local libations and great company. Sound Bridge is a local\, Women owned\, Non-Profit that supports the promotion of original artists and songwriters. This series is also supported by City of Champaign through their Sound Check Program helping to support live music in Downtown Champaign.
URL:https://houndsrest.com/event/lyrics-unleashed-5-11/2028-04-04/
LOCATION:IL
CATEGORIES:Live music
ATTACH;FMTTYPE=application/pdf:https://houndsrest.com/wp-content/uploads/2025/09/Lyrics-Unleashed.pdf.pdf
END:VEVENT
BEGIN:VEVENT
DTSTART;TZID=America/Chicago:20280405T190000
DTEND;TZID=America/Chicago:20280405T233000
DTSTAMP:20260419T224407
CREATED:20240929T184201Z
LAST-MODIFIED:20240929T184201Z
UID:10000709-1838574000-1838590200@houndsrest.com
SUMMARY:Cocktail Flight Night at Hound's Court!
DESCRIPTION:Come out to partake in a flight! Varying offerings will come weekly.
URL:https://houndsrest.com/event/cocktail-flight-night-at-hounds-court/2028-04-05/
LOCATION:Hound’s Court\, 120 N Neil St\, Champaign\, IL\, 61822\, United States
CATEGORIES:Featuring Alcohol
ATTACH;FMTTYPE=image/jpeg:https://houndsrest.com/wp-content/uploads/2024/09/image0.jpeg
END:VEVENT
END:VCALENDAR