BEGIN:VCALENDAR
VERSION:2.0
PRODID:-//Hound&#039;s Rest LLC - ECPv6.15.17.1//NONSGML v1.0//EN
CALSCALE:GREGORIAN
METHOD:PUBLISH
X-WR-CALNAME:Hound&#039;s Rest LLC
X-ORIGINAL-URL:https://houndsrest.com
X-WR-CALDESC:Events for Hound&#039;s Rest LLC
REFRESH-INTERVAL;VALUE=DURATION:PT1H
X-Robots-Tag:noindex
X-PUBLISHED-TTL:PT1H
BEGIN:VTIMEZONE
TZID:America/Chicago
BEGIN:DAYLIGHT
TZOFFSETFROM:-0600
TZOFFSETTO:-0500
TZNAME:CDT
DTSTART:20240310T080000
END:DAYLIGHT
BEGIN:STANDARD
TZOFFSETFROM:-0500
TZOFFSETTO:-0600
TZNAME:CST
DTSTART:20241103T070000
END:STANDARD
BEGIN:DAYLIGHT
TZOFFSETFROM:-0600
TZOFFSETTO:-0500
TZNAME:CDT
DTSTART:20250309T080000
END:DAYLIGHT
BEGIN:STANDARD
TZOFFSETFROM:-0500
TZOFFSETTO:-0600
TZNAME:CST
DTSTART:20251102T070000
END:STANDARD
BEGIN:DAYLIGHT
TZOFFSETFROM:-0600
TZOFFSETTO:-0500
TZNAME:CDT
DTSTART:20260308T080000
END:DAYLIGHT
BEGIN:STANDARD
TZOFFSETFROM:-0500
TZOFFSETTO:-0600
TZNAME:CST
DTSTART:20261101T070000
END:STANDARD
END:VTIMEZONE
BEGIN:VEVENT
DTSTART;TZID=America/Chicago:20250601T190000
DTEND;TZID=America/Chicago:20250601T200000
DTSTAMP:20260419T071309
CREATED:20240929T183017Z
LAST-MODIFIED:20240929T183017Z
UID:10000036-1748804400-1748808000@houndsrest.com
SUMMARY:Trivia Night at Hound's Court!
DESCRIPTION:Free Trivia with prizes; what more do you need!  Multi-round team trivia with Hound’s Rest gift certificates won for each round and for the overall winner!
URL:https://houndsrest.com/event/trivia-night-at-hounds-court/2025-06-01/
LOCATION:Hound’s Court\, 120 N Neil St\, Champaign\, IL\, 61822\, United States
CATEGORIES:Trivia
ATTACH;FMTTYPE=image/jpeg:https://houndsrest.com/wp-content/uploads/2024/09/360_F_253816768_HCShTG3B5MLGS4HN3Rt4ZGkFx5sGXxwe.jpg
END:VEVENT
BEGIN:VEVENT
DTSTART;TZID=America/Chicago:20250604T190000
DTEND;TZID=America/Chicago:20250604T233000
DTSTAMP:20260419T071309
CREATED:20240929T184201Z
LAST-MODIFIED:20240929T184201Z
UID:10000561-1749063600-1749079800@houndsrest.com
SUMMARY:Cocktail Flight Night at Hound's Court!
DESCRIPTION:Come out to partake in a flight! Varying offerings will come weekly.
URL:https://houndsrest.com/event/cocktail-flight-night-at-hounds-court/2025-06-04/
LOCATION:Hound’s Court\, 120 N Neil St\, Champaign\, IL\, 61822\, United States
CATEGORIES:Featuring Alcohol
ATTACH;FMTTYPE=image/jpeg:https://houndsrest.com/wp-content/uploads/2024/09/image0.jpeg
END:VEVENT
BEGIN:VEVENT
DTSTART;TZID=America/Chicago:20250608T190000
DTEND;TZID=America/Chicago:20250608T200000
DTSTAMP:20260419T071309
CREATED:20240929T183017Z
LAST-MODIFIED:20240929T183017Z
UID:10000037-1749409200-1749412800@houndsrest.com
SUMMARY:Trivia Night at Hound's Court!
DESCRIPTION:Free Trivia with prizes; what more do you need!  Multi-round team trivia with Hound’s Rest gift certificates won for each round and for the overall winner!
URL:https://houndsrest.com/event/trivia-night-at-hounds-court/2025-06-08/
LOCATION:Hound’s Court\, 120 N Neil St\, Champaign\, IL\, 61822\, United States
CATEGORIES:Trivia
ATTACH;FMTTYPE=image/jpeg:https://houndsrest.com/wp-content/uploads/2024/09/360_F_253816768_HCShTG3B5MLGS4HN3Rt4ZGkFx5sGXxwe.jpg
END:VEVENT
BEGIN:VEVENT
DTSTART;TZID=America/Chicago:20250611T190000
DTEND;TZID=America/Chicago:20250611T233000
DTSTAMP:20260419T071309
CREATED:20240929T184201Z
LAST-MODIFIED:20240929T184201Z
UID:10000562-1749668400-1749684600@houndsrest.com
SUMMARY:Cocktail Flight Night at Hound's Court!
DESCRIPTION:Come out to partake in a flight! Varying offerings will come weekly.
URL:https://houndsrest.com/event/cocktail-flight-night-at-hounds-court/2025-06-11/
LOCATION:Hound’s Court\, 120 N Neil St\, Champaign\, IL\, 61822\, United States
CATEGORIES:Featuring Alcohol
ATTACH;FMTTYPE=image/jpeg:https://houndsrest.com/wp-content/uploads/2024/09/image0.jpeg
END:VEVENT
BEGIN:VEVENT
DTSTART;TZID=America/Chicago:20250615T190000
DTEND;TZID=America/Chicago:20250615T200000
DTSTAMP:20260419T071309
CREATED:20240929T183017Z
LAST-MODIFIED:20240929T183017Z
UID:10000038-1750014000-1750017600@houndsrest.com
SUMMARY:Trivia Night at Hound's Court!
DESCRIPTION:Free Trivia with prizes; what more do you need!  Multi-round team trivia with Hound’s Rest gift certificates won for each round and for the overall winner!
URL:https://houndsrest.com/event/trivia-night-at-hounds-court/2025-06-15/
LOCATION:Hound’s Court\, 120 N Neil St\, Champaign\, IL\, 61822\, United States
CATEGORIES:Trivia
ATTACH;FMTTYPE=image/jpeg:https://houndsrest.com/wp-content/uploads/2024/09/360_F_253816768_HCShTG3B5MLGS4HN3Rt4ZGkFx5sGXxwe.jpg
END:VEVENT
BEGIN:VEVENT
DTSTART;TZID=America/Chicago:20250618T190000
DTEND;TZID=America/Chicago:20250618T233000
DTSTAMP:20260419T071309
CREATED:20240929T184201Z
LAST-MODIFIED:20240929T184201Z
UID:10000563-1750273200-1750289400@houndsrest.com
SUMMARY:Cocktail Flight Night at Hound's Court!
DESCRIPTION:Come out to partake in a flight! Varying offerings will come weekly.
URL:https://houndsrest.com/event/cocktail-flight-night-at-hounds-court/2025-06-18/
LOCATION:Hound’s Court\, 120 N Neil St\, Champaign\, IL\, 61822\, United States
CATEGORIES:Featuring Alcohol
ATTACH;FMTTYPE=image/jpeg:https://houndsrest.com/wp-content/uploads/2024/09/image0.jpeg
END:VEVENT
BEGIN:VEVENT
DTSTART;TZID=America/Chicago:20250622T190000
DTEND;TZID=America/Chicago:20250622T200000
DTSTAMP:20260419T071309
CREATED:20240929T183017Z
LAST-MODIFIED:20240929T183017Z
UID:10000039-1750618800-1750622400@houndsrest.com
SUMMARY:Trivia Night at Hound's Court!
DESCRIPTION:Free Trivia with prizes; what more do you need!  Multi-round team trivia with Hound’s Rest gift certificates won for each round and for the overall winner!
URL:https://houndsrest.com/event/trivia-night-at-hounds-court/2025-06-22/
LOCATION:Hound’s Court\, 120 N Neil St\, Champaign\, IL\, 61822\, United States
CATEGORIES:Trivia
ATTACH;FMTTYPE=image/jpeg:https://houndsrest.com/wp-content/uploads/2024/09/360_F_253816768_HCShTG3B5MLGS4HN3Rt4ZGkFx5sGXxwe.jpg
END:VEVENT
BEGIN:VEVENT
DTSTART;TZID=America/Chicago:20250625T190000
DTEND;TZID=America/Chicago:20250625T233000
DTSTAMP:20260419T071309
CREATED:20240929T184201Z
LAST-MODIFIED:20240929T184201Z
UID:10000564-1750878000-1750894200@houndsrest.com
SUMMARY:Cocktail Flight Night at Hound's Court!
DESCRIPTION:Come out to partake in a flight! Varying offerings will come weekly.
URL:https://houndsrest.com/event/cocktail-flight-night-at-hounds-court/2025-06-25/
LOCATION:Hound’s Court\, 120 N Neil St\, Champaign\, IL\, 61822\, United States
CATEGORIES:Featuring Alcohol
ATTACH;FMTTYPE=image/jpeg:https://houndsrest.com/wp-content/uploads/2024/09/image0.jpeg
END:VEVENT
BEGIN:VEVENT
DTSTART;TZID=America/Chicago:20250629T190000
DTEND;TZID=America/Chicago:20250629T200000
DTSTAMP:20260419T071309
CREATED:20240929T183017Z
LAST-MODIFIED:20240929T183017Z
UID:10000040-1751223600-1751227200@houndsrest.com
SUMMARY:Trivia Night at Hound's Court!
DESCRIPTION:Free Trivia with prizes; what more do you need!  Multi-round team trivia with Hound’s Rest gift certificates won for each round and for the overall winner!
URL:https://houndsrest.com/event/trivia-night-at-hounds-court/2025-06-29/
LOCATION:Hound’s Court\, 120 N Neil St\, Champaign\, IL\, 61822\, United States
CATEGORIES:Trivia
ATTACH;FMTTYPE=image/jpeg:https://houndsrest.com/wp-content/uploads/2024/09/360_F_253816768_HCShTG3B5MLGS4HN3Rt4ZGkFx5sGXxwe.jpg
END:VEVENT
END:VCALENDAR