BEGIN:VCALENDAR
VERSION:2.0
PRODID:-//Hound&#039;s Rest LLC - ECPv6.15.17.1//NONSGML v1.0//EN
CALSCALE:GREGORIAN
METHOD:PUBLISH
X-WR-CALNAME:Hound&#039;s Rest LLC
X-ORIGINAL-URL:https://houndsrest.com
X-WR-CALDESC:Events for Hound&#039;s Rest LLC
REFRESH-INTERVAL;VALUE=DURATION:PT1H
X-Robots-Tag:noindex
X-PUBLISHED-TTL:PT1H
BEGIN:VTIMEZONE
TZID:America/Chicago
BEGIN:DAYLIGHT
TZOFFSETFROM:-0600
TZOFFSETTO:-0500
TZNAME:CDT
DTSTART:20240310T080000
END:DAYLIGHT
BEGIN:STANDARD
TZOFFSETFROM:-0500
TZOFFSETTO:-0600
TZNAME:CST
DTSTART:20241103T070000
END:STANDARD
BEGIN:DAYLIGHT
TZOFFSETFROM:-0600
TZOFFSETTO:-0500
TZNAME:CDT
DTSTART:20250309T080000
END:DAYLIGHT
BEGIN:STANDARD
TZOFFSETFROM:-0500
TZOFFSETTO:-0600
TZNAME:CST
DTSTART:20251102T070000
END:STANDARD
BEGIN:DAYLIGHT
TZOFFSETFROM:-0600
TZOFFSETTO:-0500
TZNAME:CDT
DTSTART:20260308T080000
END:DAYLIGHT
BEGIN:STANDARD
TZOFFSETFROM:-0500
TZOFFSETTO:-0600
TZNAME:CST
DTSTART:20261101T070000
END:STANDARD
BEGIN:DAYLIGHT
TZOFFSETFROM:-0600
TZOFFSETTO:-0500
TZNAME:CDT
DTSTART:20270314T080000
END:DAYLIGHT
BEGIN:STANDARD
TZOFFSETFROM:-0500
TZOFFSETTO:-0600
TZNAME:CST
DTSTART:20271107T070000
END:STANDARD
END:VTIMEZONE
BEGIN:VEVENT
DTSTART;TZID=America/Chicago:20260311T190000
DTEND;TZID=America/Chicago:20260311T233000
DTSTAMP:20260422T123231
CREATED:20240929T184201Z
LAST-MODIFIED:20240929T184201Z
UID:10000601-1773255600-1773271800@houndsrest.com
SUMMARY:Cocktail Flight Night at Hound's Court!
DESCRIPTION:Come out to partake in a flight! Varying offerings will come weekly.
URL:https://houndsrest.com/event/cocktail-flight-night-at-hounds-court/2026-03-11/
LOCATION:Hound’s Court\, 120 N Neil St\, Champaign\, IL\, 61822\, United States
CATEGORIES:Featuring Alcohol
ATTACH;FMTTYPE=image/jpeg:https://houndsrest.com/wp-content/uploads/2024/09/image0.jpeg
END:VEVENT
BEGIN:VEVENT
DTSTART;TZID=America/Chicago:20260308T190000
DTEND;TZID=America/Chicago:20260308T200000
DTSTAMP:20260422T123231
CREATED:20240929T183017Z
LAST-MODIFIED:20240929T183017Z
UID:10000076-1772996400-1773000000@houndsrest.com
SUMMARY:Trivia Night at Hound's Court!
DESCRIPTION:Free Trivia with prizes; what more do you need!  Multi-round team trivia with Hound’s Rest gift certificates won for each round and for the overall winner!
URL:https://houndsrest.com/event/trivia-night-at-hounds-court/2026-03-08/
LOCATION:Hound’s Court\, 120 N Neil St\, Champaign\, IL\, 61822\, United States
CATEGORIES:Trivia
ATTACH;FMTTYPE=image/jpeg:https://houndsrest.com/wp-content/uploads/2024/09/360_F_253816768_HCShTG3B5MLGS4HN3Rt4ZGkFx5sGXxwe.jpg
END:VEVENT
BEGIN:VEVENT
DTSTART;TZID=America/Chicago:20260304T190000
DTEND;TZID=America/Chicago:20260304T233000
DTSTAMP:20260422T123231
CREATED:20240929T184201Z
LAST-MODIFIED:20240929T184201Z
UID:10000600-1772650800-1772667000@houndsrest.com
SUMMARY:Cocktail Flight Night at Hound's Court!
DESCRIPTION:Come out to partake in a flight! Varying offerings will come weekly.
URL:https://houndsrest.com/event/cocktail-flight-night-at-hounds-court/2026-03-04/
LOCATION:Hound’s Court\, 120 N Neil St\, Champaign\, IL\, 61822\, United States
CATEGORIES:Featuring Alcohol
ATTACH;FMTTYPE=image/jpeg:https://houndsrest.com/wp-content/uploads/2024/09/image0.jpeg
END:VEVENT
BEGIN:VEVENT
DTSTART;TZID=America/Chicago:20260301T190000
DTEND;TZID=America/Chicago:20260301T200000
DTSTAMP:20260422T123231
CREATED:20240929T183017Z
LAST-MODIFIED:20240929T183017Z
UID:10000075-1772391600-1772395200@houndsrest.com
SUMMARY:Trivia Night at Hound's Court!
DESCRIPTION:Free Trivia with prizes; what more do you need!  Multi-round team trivia with Hound’s Rest gift certificates won for each round and for the overall winner!
URL:https://houndsrest.com/event/trivia-night-at-hounds-court/2026-03-01/
LOCATION:Hound’s Court\, 120 N Neil St\, Champaign\, IL\, 61822\, United States
CATEGORIES:Trivia
ATTACH;FMTTYPE=image/jpeg:https://houndsrest.com/wp-content/uploads/2024/09/360_F_253816768_HCShTG3B5MLGS4HN3Rt4ZGkFx5sGXxwe.jpg
END:VEVENT
BEGIN:VEVENT
DTSTART;TZID=America/Chicago:20260225T190000
DTEND;TZID=America/Chicago:20260225T233000
DTSTAMP:20260422T123231
CREATED:20240929T184201Z
LAST-MODIFIED:20240929T184201Z
UID:10000599-1772046000-1772062200@houndsrest.com
SUMMARY:Cocktail Flight Night at Hound's Court!
DESCRIPTION:Come out to partake in a flight! Varying offerings will come weekly.
URL:https://houndsrest.com/event/cocktail-flight-night-at-hounds-court/2026-02-25/
LOCATION:Hound’s Court\, 120 N Neil St\, Champaign\, IL\, 61822\, United States
CATEGORIES:Featuring Alcohol
ATTACH;FMTTYPE=image/jpeg:https://houndsrest.com/wp-content/uploads/2024/09/image0.jpeg
END:VEVENT
BEGIN:VEVENT
DTSTART;TZID=America/Chicago:20260222T190000
DTEND;TZID=America/Chicago:20260222T200000
DTSTAMP:20260422T123231
CREATED:20240929T183017Z
LAST-MODIFIED:20240929T183017Z
UID:10000074-1771786800-1771790400@houndsrest.com
SUMMARY:Trivia Night at Hound's Court!
DESCRIPTION:Free Trivia with prizes; what more do you need!  Multi-round team trivia with Hound’s Rest gift certificates won for each round and for the overall winner!
URL:https://houndsrest.com/event/trivia-night-at-hounds-court/2026-02-22/
LOCATION:Hound’s Court\, 120 N Neil St\, Champaign\, IL\, 61822\, United States
CATEGORIES:Trivia
ATTACH;FMTTYPE=image/jpeg:https://houndsrest.com/wp-content/uploads/2024/09/360_F_253816768_HCShTG3B5MLGS4HN3Rt4ZGkFx5sGXxwe.jpg
END:VEVENT
BEGIN:VEVENT
DTSTART;TZID=America/Chicago:20260218T190000
DTEND;TZID=America/Chicago:20260218T233000
DTSTAMP:20260422T123231
CREATED:20240929T184201Z
LAST-MODIFIED:20240929T184201Z
UID:10000598-1771441200-1771457400@houndsrest.com
SUMMARY:Cocktail Flight Night at Hound's Court!
DESCRIPTION:Come out to partake in a flight! Varying offerings will come weekly.
URL:https://houndsrest.com/event/cocktail-flight-night-at-hounds-court/2026-02-18/
LOCATION:Hound’s Court\, 120 N Neil St\, Champaign\, IL\, 61822\, United States
CATEGORIES:Featuring Alcohol
ATTACH;FMTTYPE=image/jpeg:https://houndsrest.com/wp-content/uploads/2024/09/image0.jpeg
END:VEVENT
BEGIN:VEVENT
DTSTART;TZID=America/Chicago:20260215T190000
DTEND;TZID=America/Chicago:20260215T200000
DTSTAMP:20260422T123231
CREATED:20240929T183017Z
LAST-MODIFIED:20240929T183017Z
UID:10000073-1771182000-1771185600@houndsrest.com
SUMMARY:Trivia Night at Hound's Court!
DESCRIPTION:Free Trivia with prizes; what more do you need!  Multi-round team trivia with Hound’s Rest gift certificates won for each round and for the overall winner!
URL:https://houndsrest.com/event/trivia-night-at-hounds-court/2026-02-15/
LOCATION:Hound’s Court\, 120 N Neil St\, Champaign\, IL\, 61822\, United States
CATEGORIES:Trivia
ATTACH;FMTTYPE=image/jpeg:https://houndsrest.com/wp-content/uploads/2024/09/360_F_253816768_HCShTG3B5MLGS4HN3Rt4ZGkFx5sGXxwe.jpg
END:VEVENT
BEGIN:VEVENT
DTSTART;TZID=America/Chicago:20260211T190000
DTEND;TZID=America/Chicago:20260211T233000
DTSTAMP:20260422T123231
CREATED:20240929T184201Z
LAST-MODIFIED:20240929T184201Z
UID:10000597-1770836400-1770852600@houndsrest.com
SUMMARY:Cocktail Flight Night at Hound's Court!
DESCRIPTION:Come out to partake in a flight! Varying offerings will come weekly.
URL:https://houndsrest.com/event/cocktail-flight-night-at-hounds-court/2026-02-11/
LOCATION:Hound’s Court\, 120 N Neil St\, Champaign\, IL\, 61822\, United States
CATEGORIES:Featuring Alcohol
ATTACH;FMTTYPE=image/jpeg:https://houndsrest.com/wp-content/uploads/2024/09/image0.jpeg
END:VEVENT
BEGIN:VEVENT
DTSTART;TZID=America/Chicago:20260208T190000
DTEND;TZID=America/Chicago:20260208T200000
DTSTAMP:20260422T123231
CREATED:20240929T183017Z
LAST-MODIFIED:20240929T183017Z
UID:10000072-1770577200-1770580800@houndsrest.com
SUMMARY:Trivia Night at Hound's Court!
DESCRIPTION:Free Trivia with prizes; what more do you need!  Multi-round team trivia with Hound’s Rest gift certificates won for each round and for the overall winner!
URL:https://houndsrest.com/event/trivia-night-at-hounds-court/2026-02-08/
LOCATION:Hound’s Court\, 120 N Neil St\, Champaign\, IL\, 61822\, United States
CATEGORIES:Trivia
ATTACH;FMTTYPE=image/jpeg:https://houndsrest.com/wp-content/uploads/2024/09/360_F_253816768_HCShTG3B5MLGS4HN3Rt4ZGkFx5sGXxwe.jpg
END:VEVENT
BEGIN:VEVENT
DTSTART;TZID=America/Chicago:20260204T190000
DTEND;TZID=America/Chicago:20260204T233000
DTSTAMP:20260422T123231
CREATED:20240929T184201Z
LAST-MODIFIED:20240929T184201Z
UID:10000596-1770231600-1770247800@houndsrest.com
SUMMARY:Cocktail Flight Night at Hound's Court!
DESCRIPTION:Come out to partake in a flight! Varying offerings will come weekly.
URL:https://houndsrest.com/event/cocktail-flight-night-at-hounds-court/2026-02-04/
LOCATION:Hound’s Court\, 120 N Neil St\, Champaign\, IL\, 61822\, United States
CATEGORIES:Featuring Alcohol
ATTACH;FMTTYPE=image/jpeg:https://houndsrest.com/wp-content/uploads/2024/09/image0.jpeg
END:VEVENT
BEGIN:VEVENT
DTSTART;TZID=America/Chicago:20260201T190000
DTEND;TZID=America/Chicago:20260201T200000
DTSTAMP:20260422T123231
CREATED:20240929T183017Z
LAST-MODIFIED:20240929T183017Z
UID:10000071-1769972400-1769976000@houndsrest.com
SUMMARY:Trivia Night at Hound's Court!
DESCRIPTION:Free Trivia with prizes; what more do you need!  Multi-round team trivia with Hound’s Rest gift certificates won for each round and for the overall winner!
URL:https://houndsrest.com/event/trivia-night-at-hounds-court/2026-02-01/
LOCATION:Hound’s Court\, 120 N Neil St\, Champaign\, IL\, 61822\, United States
CATEGORIES:Trivia
ATTACH;FMTTYPE=image/jpeg:https://houndsrest.com/wp-content/uploads/2024/09/360_F_253816768_HCShTG3B5MLGS4HN3Rt4ZGkFx5sGXxwe.jpg
END:VEVENT
BEGIN:VEVENT
DTSTART;TZID=America/Chicago:20260128T190000
DTEND;TZID=America/Chicago:20260128T233000
DTSTAMP:20260422T123231
CREATED:20240929T184201Z
LAST-MODIFIED:20240929T184201Z
UID:10000595-1769626800-1769643000@houndsrest.com
SUMMARY:Cocktail Flight Night at Hound's Court!
DESCRIPTION:Come out to partake in a flight! Varying offerings will come weekly.
URL:https://houndsrest.com/event/cocktail-flight-night-at-hounds-court/2026-01-28/
LOCATION:Hound’s Court\, 120 N Neil St\, Champaign\, IL\, 61822\, United States
CATEGORIES:Featuring Alcohol
ATTACH;FMTTYPE=image/jpeg:https://houndsrest.com/wp-content/uploads/2024/09/image0.jpeg
END:VEVENT
BEGIN:VEVENT
DTSTART;TZID=America/Chicago:20260125T190000
DTEND;TZID=America/Chicago:20260125T200000
DTSTAMP:20260422T123231
CREATED:20240929T183017Z
LAST-MODIFIED:20240929T183017Z
UID:10000070-1769367600-1769371200@houndsrest.com
SUMMARY:Trivia Night at Hound's Court!
DESCRIPTION:Free Trivia with prizes; what more do you need!  Multi-round team trivia with Hound’s Rest gift certificates won for each round and for the overall winner!
URL:https://houndsrest.com/event/trivia-night-at-hounds-court/2026-01-25/
LOCATION:Hound’s Court\, 120 N Neil St\, Champaign\, IL\, 61822\, United States
CATEGORIES:Trivia
ATTACH;FMTTYPE=image/jpeg:https://houndsrest.com/wp-content/uploads/2024/09/360_F_253816768_HCShTG3B5MLGS4HN3Rt4ZGkFx5sGXxwe.jpg
END:VEVENT
BEGIN:VEVENT
DTSTART;TZID=America/Chicago:20260121T190000
DTEND;TZID=America/Chicago:20260121T233000
DTSTAMP:20260422T123231
CREATED:20240929T184201Z
LAST-MODIFIED:20240929T184201Z
UID:10000594-1769022000-1769038200@houndsrest.com
SUMMARY:Cocktail Flight Night at Hound's Court!
DESCRIPTION:Come out to partake in a flight! Varying offerings will come weekly.
URL:https://houndsrest.com/event/cocktail-flight-night-at-hounds-court/2026-01-21/
LOCATION:Hound’s Court\, 120 N Neil St\, Champaign\, IL\, 61822\, United States
CATEGORIES:Featuring Alcohol
ATTACH;FMTTYPE=image/jpeg:https://houndsrest.com/wp-content/uploads/2024/09/image0.jpeg
END:VEVENT
BEGIN:VEVENT
DTSTART;TZID=America/Chicago:20260118T190000
DTEND;TZID=America/Chicago:20260118T200000
DTSTAMP:20260422T123231
CREATED:20240929T183017Z
LAST-MODIFIED:20240929T183017Z
UID:10000069-1768762800-1768766400@houndsrest.com
SUMMARY:Trivia Night at Hound's Court!
DESCRIPTION:Free Trivia with prizes; what more do you need!  Multi-round team trivia with Hound’s Rest gift certificates won for each round and for the overall winner!
URL:https://houndsrest.com/event/trivia-night-at-hounds-court/2026-01-18/
LOCATION:Hound’s Court\, 120 N Neil St\, Champaign\, IL\, 61822\, United States
CATEGORIES:Trivia
ATTACH;FMTTYPE=image/jpeg:https://houndsrest.com/wp-content/uploads/2024/09/360_F_253816768_HCShTG3B5MLGS4HN3Rt4ZGkFx5sGXxwe.jpg
END:VEVENT
BEGIN:VEVENT
DTSTART;TZID=America/Chicago:20260114T190000
DTEND;TZID=America/Chicago:20260114T233000
DTSTAMP:20260422T123231
CREATED:20240929T184201Z
LAST-MODIFIED:20240929T184201Z
UID:10000593-1768417200-1768433400@houndsrest.com
SUMMARY:Cocktail Flight Night at Hound's Court!
DESCRIPTION:Come out to partake in a flight! Varying offerings will come weekly.
URL:https://houndsrest.com/event/cocktail-flight-night-at-hounds-court/2026-01-14/
LOCATION:Hound’s Court\, 120 N Neil St\, Champaign\, IL\, 61822\, United States
CATEGORIES:Featuring Alcohol
ATTACH;FMTTYPE=image/jpeg:https://houndsrest.com/wp-content/uploads/2024/09/image0.jpeg
END:VEVENT
BEGIN:VEVENT
DTSTART;TZID=America/Chicago:20260111T190000
DTEND;TZID=America/Chicago:20260111T200000
DTSTAMP:20260422T123231
CREATED:20240929T183017Z
LAST-MODIFIED:20240929T183017Z
UID:10000068-1768158000-1768161600@houndsrest.com
SUMMARY:Trivia Night at Hound's Court!
DESCRIPTION:Free Trivia with prizes; what more do you need!  Multi-round team trivia with Hound’s Rest gift certificates won for each round and for the overall winner!
URL:https://houndsrest.com/event/trivia-night-at-hounds-court/2026-01-11/
LOCATION:Hound’s Court\, 120 N Neil St\, Champaign\, IL\, 61822\, United States
CATEGORIES:Trivia
ATTACH;FMTTYPE=image/jpeg:https://houndsrest.com/wp-content/uploads/2024/09/360_F_253816768_HCShTG3B5MLGS4HN3Rt4ZGkFx5sGXxwe.jpg
END:VEVENT
BEGIN:VEVENT
DTSTART;TZID=America/Chicago:20260107T190000
DTEND;TZID=America/Chicago:20260107T233000
DTSTAMP:20260422T123231
CREATED:20240929T184201Z
LAST-MODIFIED:20240929T184201Z
UID:10000592-1767812400-1767828600@houndsrest.com
SUMMARY:Cocktail Flight Night at Hound's Court!
DESCRIPTION:Come out to partake in a flight! Varying offerings will come weekly.
URL:https://houndsrest.com/event/cocktail-flight-night-at-hounds-court/2026-01-07/
LOCATION:Hound’s Court\, 120 N Neil St\, Champaign\, IL\, 61822\, United States
CATEGORIES:Featuring Alcohol
ATTACH;FMTTYPE=image/jpeg:https://houndsrest.com/wp-content/uploads/2024/09/image0.jpeg
END:VEVENT
BEGIN:VEVENT
DTSTART;TZID=America/Chicago:20260104T190000
DTEND;TZID=America/Chicago:20260104T200000
DTSTAMP:20260422T123231
CREATED:20240929T183017Z
LAST-MODIFIED:20240929T183017Z
UID:10000067-1767553200-1767556800@houndsrest.com
SUMMARY:Trivia Night at Hound's Court!
DESCRIPTION:Free Trivia with prizes; what more do you need!  Multi-round team trivia with Hound’s Rest gift certificates won for each round and for the overall winner!
URL:https://houndsrest.com/event/trivia-night-at-hounds-court/2026-01-04/
LOCATION:Hound’s Court\, 120 N Neil St\, Champaign\, IL\, 61822\, United States
CATEGORIES:Trivia
ATTACH;FMTTYPE=image/jpeg:https://houndsrest.com/wp-content/uploads/2024/09/360_F_253816768_HCShTG3B5MLGS4HN3Rt4ZGkFx5sGXxwe.jpg
END:VEVENT
BEGIN:VEVENT
DTSTART;TZID=America/Chicago:20251231T190000
DTEND;TZID=America/Chicago:20251231T233000
DTSTAMP:20260422T123231
CREATED:20240929T184201Z
LAST-MODIFIED:20240929T184201Z
UID:10000591-1767207600-1767223800@houndsrest.com
SUMMARY:Cocktail Flight Night at Hound's Court!
DESCRIPTION:Come out to partake in a flight! Varying offerings will come weekly.
URL:https://houndsrest.com/event/cocktail-flight-night-at-hounds-court/2025-12-31/
LOCATION:Hound’s Court\, 120 N Neil St\, Champaign\, IL\, 61822\, United States
CATEGORIES:Featuring Alcohol
ATTACH;FMTTYPE=image/jpeg:https://houndsrest.com/wp-content/uploads/2024/09/image0.jpeg
END:VEVENT
BEGIN:VEVENT
DTSTART;TZID=America/Chicago:20251228T190000
DTEND;TZID=America/Chicago:20251228T200000
DTSTAMP:20260422T123231
CREATED:20240929T183017Z
LAST-MODIFIED:20240929T183017Z
UID:10000066-1766948400-1766952000@houndsrest.com
SUMMARY:Trivia Night at Hound's Court!
DESCRIPTION:Free Trivia with prizes; what more do you need!  Multi-round team trivia with Hound’s Rest gift certificates won for each round and for the overall winner!
URL:https://houndsrest.com/event/trivia-night-at-hounds-court/2025-12-28/
LOCATION:Hound’s Court\, 120 N Neil St\, Champaign\, IL\, 61822\, United States
CATEGORIES:Trivia
ATTACH;FMTTYPE=image/jpeg:https://houndsrest.com/wp-content/uploads/2024/09/360_F_253816768_HCShTG3B5MLGS4HN3Rt4ZGkFx5sGXxwe.jpg
END:VEVENT
BEGIN:VEVENT
DTSTART;TZID=America/Chicago:20251224T190000
DTEND;TZID=America/Chicago:20251224T233000
DTSTAMP:20260422T123231
CREATED:20240929T184201Z
LAST-MODIFIED:20240929T184201Z
UID:10000590-1766602800-1766619000@houndsrest.com
SUMMARY:Cocktail Flight Night at Hound's Court!
DESCRIPTION:Come out to partake in a flight! Varying offerings will come weekly.
URL:https://houndsrest.com/event/cocktail-flight-night-at-hounds-court/2025-12-24/
LOCATION:Hound’s Court\, 120 N Neil St\, Champaign\, IL\, 61822\, United States
CATEGORIES:Featuring Alcohol
ATTACH;FMTTYPE=image/jpeg:https://houndsrest.com/wp-content/uploads/2024/09/image0.jpeg
END:VEVENT
BEGIN:VEVENT
DTSTART;TZID=America/Chicago:20251221T190000
DTEND;TZID=America/Chicago:20251221T200000
DTSTAMP:20260422T123231
CREATED:20240929T183017Z
LAST-MODIFIED:20240929T183017Z
UID:10000065-1766343600-1766347200@houndsrest.com
SUMMARY:Trivia Night at Hound's Court!
DESCRIPTION:Free Trivia with prizes; what more do you need!  Multi-round team trivia with Hound’s Rest gift certificates won for each round and for the overall winner!
URL:https://houndsrest.com/event/trivia-night-at-hounds-court/2025-12-21/
LOCATION:Hound’s Court\, 120 N Neil St\, Champaign\, IL\, 61822\, United States
CATEGORIES:Trivia
ATTACH;FMTTYPE=image/jpeg:https://houndsrest.com/wp-content/uploads/2024/09/360_F_253816768_HCShTG3B5MLGS4HN3Rt4ZGkFx5sGXxwe.jpg
END:VEVENT
BEGIN:VEVENT
DTSTART;TZID=America/Chicago:20251217T190000
DTEND;TZID=America/Chicago:20251217T233000
DTSTAMP:20260422T123231
CREATED:20240929T184201Z
LAST-MODIFIED:20240929T184201Z
UID:10000589-1765998000-1766014200@houndsrest.com
SUMMARY:Cocktail Flight Night at Hound's Court!
DESCRIPTION:Come out to partake in a flight! Varying offerings will come weekly.
URL:https://houndsrest.com/event/cocktail-flight-night-at-hounds-court/2025-12-17/
LOCATION:Hound’s Court\, 120 N Neil St\, Champaign\, IL\, 61822\, United States
CATEGORIES:Featuring Alcohol
ATTACH;FMTTYPE=image/jpeg:https://houndsrest.com/wp-content/uploads/2024/09/image0.jpeg
END:VEVENT
BEGIN:VEVENT
DTSTART;TZID=America/Chicago:20251214T190000
DTEND;TZID=America/Chicago:20251214T200000
DTSTAMP:20260422T123231
CREATED:20240929T183017Z
LAST-MODIFIED:20240929T183017Z
UID:10000064-1765738800-1765742400@houndsrest.com
SUMMARY:Trivia Night at Hound's Court!
DESCRIPTION:Free Trivia with prizes; what more do you need!  Multi-round team trivia with Hound’s Rest gift certificates won for each round and for the overall winner!
URL:https://houndsrest.com/event/trivia-night-at-hounds-court/2025-12-14/
LOCATION:Hound’s Court\, 120 N Neil St\, Champaign\, IL\, 61822\, United States
CATEGORIES:Trivia
ATTACH;FMTTYPE=image/jpeg:https://houndsrest.com/wp-content/uploads/2024/09/360_F_253816768_HCShTG3B5MLGS4HN3Rt4ZGkFx5sGXxwe.jpg
END:VEVENT
BEGIN:VEVENT
DTSTART;TZID=America/Chicago:20251210T190000
DTEND;TZID=America/Chicago:20251210T233000
DTSTAMP:20260422T123231
CREATED:20240929T184201Z
LAST-MODIFIED:20240929T184201Z
UID:10000588-1765393200-1765409400@houndsrest.com
SUMMARY:Cocktail Flight Night at Hound's Court!
DESCRIPTION:Come out to partake in a flight! Varying offerings will come weekly.
URL:https://houndsrest.com/event/cocktail-flight-night-at-hounds-court/2025-12-10/
LOCATION:Hound’s Court\, 120 N Neil St\, Champaign\, IL\, 61822\, United States
CATEGORIES:Featuring Alcohol
ATTACH;FMTTYPE=image/jpeg:https://houndsrest.com/wp-content/uploads/2024/09/image0.jpeg
END:VEVENT
BEGIN:VEVENT
DTSTART;TZID=America/Chicago:20251207T190000
DTEND;TZID=America/Chicago:20251207T200000
DTSTAMP:20260422T123231
CREATED:20240929T183017Z
LAST-MODIFIED:20240929T183017Z
UID:10000063-1765134000-1765137600@houndsrest.com
SUMMARY:Trivia Night at Hound's Court!
DESCRIPTION:Free Trivia with prizes; what more do you need!  Multi-round team trivia with Hound’s Rest gift certificates won for each round and for the overall winner!
URL:https://houndsrest.com/event/trivia-night-at-hounds-court/2025-12-07/
LOCATION:Hound’s Court\, 120 N Neil St\, Champaign\, IL\, 61822\, United States
CATEGORIES:Trivia
ATTACH;FMTTYPE=image/jpeg:https://houndsrest.com/wp-content/uploads/2024/09/360_F_253816768_HCShTG3B5MLGS4HN3Rt4ZGkFx5sGXxwe.jpg
END:VEVENT
BEGIN:VEVENT
DTSTART;TZID=America/Chicago:20251203T190000
DTEND;TZID=America/Chicago:20251203T233000
DTSTAMP:20260422T123231
CREATED:20240929T184201Z
LAST-MODIFIED:20240929T184201Z
UID:10000587-1764788400-1764804600@houndsrest.com
SUMMARY:Cocktail Flight Night at Hound's Court!
DESCRIPTION:Come out to partake in a flight! Varying offerings will come weekly.
URL:https://houndsrest.com/event/cocktail-flight-night-at-hounds-court/2025-12-03/
LOCATION:Hound’s Court\, 120 N Neil St\, Champaign\, IL\, 61822\, United States
CATEGORIES:Featuring Alcohol
ATTACH;FMTTYPE=image/jpeg:https://houndsrest.com/wp-content/uploads/2024/09/image0.jpeg
END:VEVENT
BEGIN:VEVENT
DTSTART;TZID=America/Chicago:20251130T190000
DTEND;TZID=America/Chicago:20251130T200000
DTSTAMP:20260422T123231
CREATED:20240929T183017Z
LAST-MODIFIED:20240929T183017Z
UID:10000062-1764529200-1764532800@houndsrest.com
SUMMARY:Trivia Night at Hound's Court!
DESCRIPTION:Free Trivia with prizes; what more do you need!  Multi-round team trivia with Hound’s Rest gift certificates won for each round and for the overall winner!
URL:https://houndsrest.com/event/trivia-night-at-hounds-court/2025-11-30/
LOCATION:Hound’s Court\, 120 N Neil St\, Champaign\, IL\, 61822\, United States
CATEGORIES:Trivia
ATTACH;FMTTYPE=image/jpeg:https://houndsrest.com/wp-content/uploads/2024/09/360_F_253816768_HCShTG3B5MLGS4HN3Rt4ZGkFx5sGXxwe.jpg
END:VEVENT
END:VCALENDAR