BEGIN:VCALENDAR
VERSION:2.0
PRODID:-//Hound&#039;s Rest LLC - ECPv6.15.17.1//NONSGML v1.0//EN
CALSCALE:GREGORIAN
METHOD:PUBLISH
X-ORIGINAL-URL:https://houndsrest.com
X-WR-CALDESC:Events for Hound&#039;s Rest LLC
REFRESH-INTERVAL;VALUE=DURATION:PT1H
X-Robots-Tag:noindex
X-PUBLISHED-TTL:PT1H
BEGIN:VTIMEZONE
TZID:America/Chicago
BEGIN:DAYLIGHT
TZOFFSETFROM:-0600
TZOFFSETTO:-0500
TZNAME:CDT
DTSTART:20240310T080000
END:DAYLIGHT
BEGIN:STANDARD
TZOFFSETFROM:-0500
TZOFFSETTO:-0600
TZNAME:CST
DTSTART:20241103T070000
END:STANDARD
BEGIN:DAYLIGHT
TZOFFSETFROM:-0600
TZOFFSETTO:-0500
TZNAME:CDT
DTSTART:20250309T080000
END:DAYLIGHT
BEGIN:STANDARD
TZOFFSETFROM:-0500
TZOFFSETTO:-0600
TZNAME:CST
DTSTART:20251102T070000
END:STANDARD
BEGIN:DAYLIGHT
TZOFFSETFROM:-0600
TZOFFSETTO:-0500
TZNAME:CDT
DTSTART:20260308T080000
END:DAYLIGHT
BEGIN:STANDARD
TZOFFSETFROM:-0500
TZOFFSETTO:-0600
TZNAME:CST
DTSTART:20261101T070000
END:STANDARD
END:VTIMEZONE
BEGIN:VEVENT
DTSTART;TZID=America/Chicago:20251217T190000
DTEND;TZID=America/Chicago:20251217T233000
DTSTAMP:20260422T140113
CREATED:20240929T184201Z
LAST-MODIFIED:20240929T184201Z
UID:10000589-1765998000-1766014200@houndsrest.com
SUMMARY:Cocktail Flight Night at Hound's Court!
DESCRIPTION:Come out to partake in a flight! Varying offerings will come weekly.
URL:https://houndsrest.com/event/cocktail-flight-night-at-hounds-court/2025-12-17/
LOCATION:Hound’s Court\, 120 N Neil St\, Champaign\, IL\, 61822\, United States
CATEGORIES:Featuring Alcohol
ATTACH;FMTTYPE=image/jpeg:https://houndsrest.com/wp-content/uploads/2024/09/image0.jpeg
END:VEVENT
BEGIN:VEVENT
DTSTART;TZID=America/Chicago:20251214T190000
DTEND;TZID=America/Chicago:20251214T200000
DTSTAMP:20260422T140113
CREATED:20240929T183017Z
LAST-MODIFIED:20240929T183017Z
UID:10000064-1765738800-1765742400@houndsrest.com
SUMMARY:Trivia Night at Hound's Court!
DESCRIPTION:Free Trivia with prizes; what more do you need!  Multi-round team trivia with Hound’s Rest gift certificates won for each round and for the overall winner!
URL:https://houndsrest.com/event/trivia-night-at-hounds-court/2025-12-14/
LOCATION:Hound’s Court\, 120 N Neil St\, Champaign\, IL\, 61822\, United States
CATEGORIES:Trivia
ATTACH;FMTTYPE=image/jpeg:https://houndsrest.com/wp-content/uploads/2024/09/360_F_253816768_HCShTG3B5MLGS4HN3Rt4ZGkFx5sGXxwe.jpg
END:VEVENT
BEGIN:VEVENT
DTSTART;TZID=America/Chicago:20251210T190000
DTEND;TZID=America/Chicago:20251210T233000
DTSTAMP:20260422T140113
CREATED:20240929T184201Z
LAST-MODIFIED:20240929T184201Z
UID:10000588-1765393200-1765409400@houndsrest.com
SUMMARY:Cocktail Flight Night at Hound's Court!
DESCRIPTION:Come out to partake in a flight! Varying offerings will come weekly.
URL:https://houndsrest.com/event/cocktail-flight-night-at-hounds-court/2025-12-10/
LOCATION:Hound’s Court\, 120 N Neil St\, Champaign\, IL\, 61822\, United States
CATEGORIES:Featuring Alcohol
ATTACH;FMTTYPE=image/jpeg:https://houndsrest.com/wp-content/uploads/2024/09/image0.jpeg
END:VEVENT
BEGIN:VEVENT
DTSTART;TZID=America/Chicago:20251207T190000
DTEND;TZID=America/Chicago:20251207T200000
DTSTAMP:20260422T140113
CREATED:20240929T183017Z
LAST-MODIFIED:20240929T183017Z
UID:10000063-1765134000-1765137600@houndsrest.com
SUMMARY:Trivia Night at Hound's Court!
DESCRIPTION:Free Trivia with prizes; what more do you need!  Multi-round team trivia with Hound’s Rest gift certificates won for each round and for the overall winner!
URL:https://houndsrest.com/event/trivia-night-at-hounds-court/2025-12-07/
LOCATION:Hound’s Court\, 120 N Neil St\, Champaign\, IL\, 61822\, United States
CATEGORIES:Trivia
ATTACH;FMTTYPE=image/jpeg:https://houndsrest.com/wp-content/uploads/2024/09/360_F_253816768_HCShTG3B5MLGS4HN3Rt4ZGkFx5sGXxwe.jpg
END:VEVENT
BEGIN:VEVENT
DTSTART;TZID=America/Chicago:20251203T190000
DTEND;TZID=America/Chicago:20251203T233000
DTSTAMP:20260422T140113
CREATED:20240929T184201Z
LAST-MODIFIED:20240929T184201Z
UID:10000587-1764788400-1764804600@houndsrest.com
SUMMARY:Cocktail Flight Night at Hound's Court!
DESCRIPTION:Come out to partake in a flight! Varying offerings will come weekly.
URL:https://houndsrest.com/event/cocktail-flight-night-at-hounds-court/2025-12-03/
LOCATION:Hound’s Court\, 120 N Neil St\, Champaign\, IL\, 61822\, United States
CATEGORIES:Featuring Alcohol
ATTACH;FMTTYPE=image/jpeg:https://houndsrest.com/wp-content/uploads/2024/09/image0.jpeg
END:VEVENT
BEGIN:VEVENT
DTSTART;TZID=America/Chicago:20251130T190000
DTEND;TZID=America/Chicago:20251130T200000
DTSTAMP:20260422T140113
CREATED:20240929T183017Z
LAST-MODIFIED:20240929T183017Z
UID:10000062-1764529200-1764532800@houndsrest.com
SUMMARY:Trivia Night at Hound's Court!
DESCRIPTION:Free Trivia with prizes; what more do you need!  Multi-round team trivia with Hound’s Rest gift certificates won for each round and for the overall winner!
URL:https://houndsrest.com/event/trivia-night-at-hounds-court/2025-11-30/
LOCATION:Hound’s Court\, 120 N Neil St\, Champaign\, IL\, 61822\, United States
CATEGORIES:Trivia
ATTACH;FMTTYPE=image/jpeg:https://houndsrest.com/wp-content/uploads/2024/09/360_F_253816768_HCShTG3B5MLGS4HN3Rt4ZGkFx5sGXxwe.jpg
END:VEVENT
BEGIN:VEVENT
DTSTART;TZID=America/Chicago:20251126T190000
DTEND;TZID=America/Chicago:20251126T233000
DTSTAMP:20260422T140113
CREATED:20240929T184201Z
LAST-MODIFIED:20240929T184201Z
UID:10000586-1764183600-1764199800@houndsrest.com
SUMMARY:Cocktail Flight Night at Hound's Court!
DESCRIPTION:Come out to partake in a flight! Varying offerings will come weekly.
URL:https://houndsrest.com/event/cocktail-flight-night-at-hounds-court/2025-11-26/
LOCATION:Hound’s Court\, 120 N Neil St\, Champaign\, IL\, 61822\, United States
CATEGORIES:Featuring Alcohol
ATTACH;FMTTYPE=image/jpeg:https://houndsrest.com/wp-content/uploads/2024/09/image0.jpeg
END:VEVENT
BEGIN:VEVENT
DTSTART;TZID=America/Chicago:20251123T190000
DTEND;TZID=America/Chicago:20251123T200000
DTSTAMP:20260422T140113
CREATED:20240929T183017Z
LAST-MODIFIED:20240929T183017Z
UID:10000061-1763924400-1763928000@houndsrest.com
SUMMARY:Trivia Night at Hound's Court!
DESCRIPTION:Free Trivia with prizes; what more do you need!  Multi-round team trivia with Hound’s Rest gift certificates won for each round and for the overall winner!
URL:https://houndsrest.com/event/trivia-night-at-hounds-court/2025-11-23/
LOCATION:Hound’s Court\, 120 N Neil St\, Champaign\, IL\, 61822\, United States
CATEGORIES:Trivia
ATTACH;FMTTYPE=image/jpeg:https://houndsrest.com/wp-content/uploads/2024/09/360_F_253816768_HCShTG3B5MLGS4HN3Rt4ZGkFx5sGXxwe.jpg
END:VEVENT
BEGIN:VEVENT
DTSTART;TZID=America/Chicago:20251119T190000
DTEND;TZID=America/Chicago:20251119T233000
DTSTAMP:20260422T140113
CREATED:20240929T184201Z
LAST-MODIFIED:20240929T184201Z
UID:10000585-1763578800-1763595000@houndsrest.com
SUMMARY:Cocktail Flight Night at Hound's Court!
DESCRIPTION:Come out to partake in a flight! Varying offerings will come weekly.
URL:https://houndsrest.com/event/cocktail-flight-night-at-hounds-court/2025-11-19/
LOCATION:Hound’s Court\, 120 N Neil St\, Champaign\, IL\, 61822\, United States
CATEGORIES:Featuring Alcohol
ATTACH;FMTTYPE=image/jpeg:https://houndsrest.com/wp-content/uploads/2024/09/image0.jpeg
END:VEVENT
BEGIN:VEVENT
DTSTART;TZID=America/Chicago:20251116T190000
DTEND;TZID=America/Chicago:20251116T200000
DTSTAMP:20260422T140113
CREATED:20240929T183017Z
LAST-MODIFIED:20240929T183017Z
UID:10000060-1763319600-1763323200@houndsrest.com
SUMMARY:Trivia Night at Hound's Court!
DESCRIPTION:Free Trivia with prizes; what more do you need!  Multi-round team trivia with Hound’s Rest gift certificates won for each round and for the overall winner!
URL:https://houndsrest.com/event/trivia-night-at-hounds-court/2025-11-16/
LOCATION:Hound’s Court\, 120 N Neil St\, Champaign\, IL\, 61822\, United States
CATEGORIES:Trivia
ATTACH;FMTTYPE=image/jpeg:https://houndsrest.com/wp-content/uploads/2024/09/360_F_253816768_HCShTG3B5MLGS4HN3Rt4ZGkFx5sGXxwe.jpg
END:VEVENT
BEGIN:VEVENT
DTSTART;TZID=America/Chicago:20251112T190000
DTEND;TZID=America/Chicago:20251112T233000
DTSTAMP:20260422T140113
CREATED:20240929T184201Z
LAST-MODIFIED:20240929T184201Z
UID:10000584-1762974000-1762990200@houndsrest.com
SUMMARY:Cocktail Flight Night at Hound's Court!
DESCRIPTION:Come out to partake in a flight! Varying offerings will come weekly.
URL:https://houndsrest.com/event/cocktail-flight-night-at-hounds-court/2025-11-12/
LOCATION:Hound’s Court\, 120 N Neil St\, Champaign\, IL\, 61822\, United States
CATEGORIES:Featuring Alcohol
ATTACH;FMTTYPE=image/jpeg:https://houndsrest.com/wp-content/uploads/2024/09/image0.jpeg
END:VEVENT
BEGIN:VEVENT
DTSTART;TZID=America/Chicago:20251109T190000
DTEND;TZID=America/Chicago:20251109T200000
DTSTAMP:20260422T140113
CREATED:20240929T183017Z
LAST-MODIFIED:20240929T183017Z
UID:10000059-1762714800-1762718400@houndsrest.com
SUMMARY:Trivia Night at Hound's Court!
DESCRIPTION:Free Trivia with prizes; what more do you need!  Multi-round team trivia with Hound’s Rest gift certificates won for each round and for the overall winner!
URL:https://houndsrest.com/event/trivia-night-at-hounds-court/2025-11-09/
LOCATION:Hound’s Court\, 120 N Neil St\, Champaign\, IL\, 61822\, United States
CATEGORIES:Trivia
ATTACH;FMTTYPE=image/jpeg:https://houndsrest.com/wp-content/uploads/2024/09/360_F_253816768_HCShTG3B5MLGS4HN3Rt4ZGkFx5sGXxwe.jpg
END:VEVENT
BEGIN:VEVENT
DTSTART;TZID=America/Chicago:20251105T190000
DTEND;TZID=America/Chicago:20251105T233000
DTSTAMP:20260422T140113
CREATED:20240929T184201Z
LAST-MODIFIED:20240929T184201Z
UID:10000583-1762369200-1762385400@houndsrest.com
SUMMARY:Cocktail Flight Night at Hound's Court!
DESCRIPTION:Come out to partake in a flight! Varying offerings will come weekly.
URL:https://houndsrest.com/event/cocktail-flight-night-at-hounds-court/2025-11-05/
LOCATION:Hound’s Court\, 120 N Neil St\, Champaign\, IL\, 61822\, United States
CATEGORIES:Featuring Alcohol
ATTACH;FMTTYPE=image/jpeg:https://houndsrest.com/wp-content/uploads/2024/09/image0.jpeg
END:VEVENT
BEGIN:VEVENT
DTSTART;TZID=America/Chicago:20251102T190000
DTEND;TZID=America/Chicago:20251102T200000
DTSTAMP:20260422T140113
CREATED:20240929T183017Z
LAST-MODIFIED:20240929T183017Z
UID:10000058-1762110000-1762113600@houndsrest.com
SUMMARY:Trivia Night at Hound's Court!
DESCRIPTION:Free Trivia with prizes; what more do you need!  Multi-round team trivia with Hound’s Rest gift certificates won for each round and for the overall winner!
URL:https://houndsrest.com/event/trivia-night-at-hounds-court/2025-11-02/
LOCATION:Hound’s Court\, 120 N Neil St\, Champaign\, IL\, 61822\, United States
CATEGORIES:Trivia
ATTACH;FMTTYPE=image/jpeg:https://houndsrest.com/wp-content/uploads/2024/09/360_F_253816768_HCShTG3B5MLGS4HN3Rt4ZGkFx5sGXxwe.jpg
END:VEVENT
BEGIN:VEVENT
DTSTART;TZID=America/Chicago:20251029T190000
DTEND;TZID=America/Chicago:20251029T233000
DTSTAMP:20260422T140113
CREATED:20240929T184201Z
LAST-MODIFIED:20240929T184201Z
UID:10000582-1761764400-1761780600@houndsrest.com
SUMMARY:Cocktail Flight Night at Hound's Court!
DESCRIPTION:Come out to partake in a flight! Varying offerings will come weekly.
URL:https://houndsrest.com/event/cocktail-flight-night-at-hounds-court/2025-10-29/
LOCATION:Hound’s Court\, 120 N Neil St\, Champaign\, IL\, 61822\, United States
CATEGORIES:Featuring Alcohol
ATTACH;FMTTYPE=image/jpeg:https://houndsrest.com/wp-content/uploads/2024/09/image0.jpeg
END:VEVENT
BEGIN:VEVENT
DTSTART;TZID=America/Chicago:20251026T190000
DTEND;TZID=America/Chicago:20251026T200000
DTSTAMP:20260422T140113
CREATED:20240929T183017Z
LAST-MODIFIED:20240929T183017Z
UID:10000057-1761505200-1761508800@houndsrest.com
SUMMARY:Trivia Night at Hound's Court!
DESCRIPTION:Free Trivia with prizes; what more do you need!  Multi-round team trivia with Hound’s Rest gift certificates won for each round and for the overall winner!
URL:https://houndsrest.com/event/trivia-night-at-hounds-court/2025-10-26/
LOCATION:Hound’s Court\, 120 N Neil St\, Champaign\, IL\, 61822\, United States
CATEGORIES:Trivia
ATTACH;FMTTYPE=image/jpeg:https://houndsrest.com/wp-content/uploads/2024/09/360_F_253816768_HCShTG3B5MLGS4HN3Rt4ZGkFx5sGXxwe.jpg
END:VEVENT
BEGIN:VEVENT
DTSTART;TZID=America/Chicago:20251022T190000
DTEND;TZID=America/Chicago:20251022T233000
DTSTAMP:20260422T140113
CREATED:20240929T184201Z
LAST-MODIFIED:20240929T184201Z
UID:10000581-1761159600-1761175800@houndsrest.com
SUMMARY:Cocktail Flight Night at Hound's Court!
DESCRIPTION:Come out to partake in a flight! Varying offerings will come weekly.
URL:https://houndsrest.com/event/cocktail-flight-night-at-hounds-court/2025-10-22/
LOCATION:Hound’s Court\, 120 N Neil St\, Champaign\, IL\, 61822\, United States
CATEGORIES:Featuring Alcohol
ATTACH;FMTTYPE=image/jpeg:https://houndsrest.com/wp-content/uploads/2024/09/image0.jpeg
END:VEVENT
BEGIN:VEVENT
DTSTART;TZID=America/Chicago:20251019T190000
DTEND;TZID=America/Chicago:20251019T200000
DTSTAMP:20260422T140113
CREATED:20240929T183017Z
LAST-MODIFIED:20240929T183017Z
UID:10000056-1760900400-1760904000@houndsrest.com
SUMMARY:Trivia Night at Hound's Court!
DESCRIPTION:Free Trivia with prizes; what more do you need!  Multi-round team trivia with Hound’s Rest gift certificates won for each round and for the overall winner!
URL:https://houndsrest.com/event/trivia-night-at-hounds-court/2025-10-19/
LOCATION:Hound’s Court\, 120 N Neil St\, Champaign\, IL\, 61822\, United States
CATEGORIES:Trivia
ATTACH;FMTTYPE=image/jpeg:https://houndsrest.com/wp-content/uploads/2024/09/360_F_253816768_HCShTG3B5MLGS4HN3Rt4ZGkFx5sGXxwe.jpg
END:VEVENT
BEGIN:VEVENT
DTSTART;TZID=America/Chicago:20251015T190000
DTEND;TZID=America/Chicago:20251015T233000
DTSTAMP:20260422T140113
CREATED:20240929T184201Z
LAST-MODIFIED:20240929T184201Z
UID:10000580-1760554800-1760571000@houndsrest.com
SUMMARY:Cocktail Flight Night at Hound's Court!
DESCRIPTION:Come out to partake in a flight! Varying offerings will come weekly.
URL:https://houndsrest.com/event/cocktail-flight-night-at-hounds-court/2025-10-15/
LOCATION:Hound’s Court\, 120 N Neil St\, Champaign\, IL\, 61822\, United States
CATEGORIES:Featuring Alcohol
ATTACH;FMTTYPE=image/jpeg:https://houndsrest.com/wp-content/uploads/2024/09/image0.jpeg
END:VEVENT
BEGIN:VEVENT
DTSTART;TZID=America/Chicago:20251012T190000
DTEND;TZID=America/Chicago:20251012T200000
DTSTAMP:20260422T140113
CREATED:20240929T183017Z
LAST-MODIFIED:20240929T183017Z
UID:10000055-1760295600-1760299200@houndsrest.com
SUMMARY:Trivia Night at Hound's Court!
DESCRIPTION:Free Trivia with prizes; what more do you need!  Multi-round team trivia with Hound’s Rest gift certificates won for each round and for the overall winner!
URL:https://houndsrest.com/event/trivia-night-at-hounds-court/2025-10-12/
LOCATION:Hound’s Court\, 120 N Neil St\, Champaign\, IL\, 61822\, United States
CATEGORIES:Trivia
ATTACH;FMTTYPE=image/jpeg:https://houndsrest.com/wp-content/uploads/2024/09/360_F_253816768_HCShTG3B5MLGS4HN3Rt4ZGkFx5sGXxwe.jpg
END:VEVENT
BEGIN:VEVENT
DTSTART;TZID=America/Chicago:20251008T190000
DTEND;TZID=America/Chicago:20251008T233000
DTSTAMP:20260422T140113
CREATED:20240929T184201Z
LAST-MODIFIED:20240929T184201Z
UID:10000579-1759950000-1759966200@houndsrest.com
SUMMARY:Cocktail Flight Night at Hound's Court!
DESCRIPTION:Come out to partake in a flight! Varying offerings will come weekly.
URL:https://houndsrest.com/event/cocktail-flight-night-at-hounds-court/2025-10-08/
LOCATION:Hound’s Court\, 120 N Neil St\, Champaign\, IL\, 61822\, United States
CATEGORIES:Featuring Alcohol
ATTACH;FMTTYPE=image/jpeg:https://houndsrest.com/wp-content/uploads/2024/09/image0.jpeg
END:VEVENT
BEGIN:VEVENT
DTSTART;TZID=America/Chicago:20251005T190000
DTEND;TZID=America/Chicago:20251005T200000
DTSTAMP:20260422T140113
CREATED:20240929T183017Z
LAST-MODIFIED:20240929T183017Z
UID:10000054-1759690800-1759694400@houndsrest.com
SUMMARY:Trivia Night at Hound's Court!
DESCRIPTION:Free Trivia with prizes; what more do you need!  Multi-round team trivia with Hound’s Rest gift certificates won for each round and for the overall winner!
URL:https://houndsrest.com/event/trivia-night-at-hounds-court/2025-10-05/
LOCATION:Hound’s Court\, 120 N Neil St\, Champaign\, IL\, 61822\, United States
CATEGORIES:Trivia
ATTACH;FMTTYPE=image/jpeg:https://houndsrest.com/wp-content/uploads/2024/09/360_F_253816768_HCShTG3B5MLGS4HN3Rt4ZGkFx5sGXxwe.jpg
END:VEVENT
BEGIN:VEVENT
DTSTART;TZID=America/Chicago:20251001T190000
DTEND;TZID=America/Chicago:20251001T233000
DTSTAMP:20260422T140113
CREATED:20240929T184201Z
LAST-MODIFIED:20240929T184201Z
UID:10000578-1759345200-1759361400@houndsrest.com
SUMMARY:Cocktail Flight Night at Hound's Court!
DESCRIPTION:Come out to partake in a flight! Varying offerings will come weekly.
URL:https://houndsrest.com/event/cocktail-flight-night-at-hounds-court/2025-10-01/
LOCATION:Hound’s Court\, 120 N Neil St\, Champaign\, IL\, 61822\, United States
CATEGORIES:Featuring Alcohol
ATTACH;FMTTYPE=image/jpeg:https://houndsrest.com/wp-content/uploads/2024/09/image0.jpeg
END:VEVENT
BEGIN:VEVENT
DTSTART;TZID=America/Chicago:20250928T190000
DTEND;TZID=America/Chicago:20250928T200000
DTSTAMP:20260422T140113
CREATED:20240929T183017Z
LAST-MODIFIED:20240929T183017Z
UID:10000053-1759086000-1759089600@houndsrest.com
SUMMARY:Trivia Night at Hound's Court!
DESCRIPTION:Free Trivia with prizes; what more do you need!  Multi-round team trivia with Hound’s Rest gift certificates won for each round and for the overall winner!
URL:https://houndsrest.com/event/trivia-night-at-hounds-court/2025-09-28/
LOCATION:Hound’s Court\, 120 N Neil St\, Champaign\, IL\, 61822\, United States
CATEGORIES:Trivia
ATTACH;FMTTYPE=image/jpeg:https://houndsrest.com/wp-content/uploads/2024/09/360_F_253816768_HCShTG3B5MLGS4HN3Rt4ZGkFx5sGXxwe.jpg
END:VEVENT
BEGIN:VEVENT
DTSTART;TZID=America/Chicago:20250924T190000
DTEND;TZID=America/Chicago:20250924T233000
DTSTAMP:20260422T140113
CREATED:20240929T184201Z
LAST-MODIFIED:20240929T184201Z
UID:10000577-1758740400-1758756600@houndsrest.com
SUMMARY:Cocktail Flight Night at Hound's Court!
DESCRIPTION:Come out to partake in a flight! Varying offerings will come weekly.
URL:https://houndsrest.com/event/cocktail-flight-night-at-hounds-court/2025-09-24/
LOCATION:Hound’s Court\, 120 N Neil St\, Champaign\, IL\, 61822\, United States
CATEGORIES:Featuring Alcohol
ATTACH;FMTTYPE=image/jpeg:https://houndsrest.com/wp-content/uploads/2024/09/image0.jpeg
END:VEVENT
BEGIN:VEVENT
DTSTART;TZID=America/Chicago:20250921T190000
DTEND;TZID=America/Chicago:20250921T200000
DTSTAMP:20260422T140113
CREATED:20240929T183017Z
LAST-MODIFIED:20240929T183017Z
UID:10000052-1758481200-1758484800@houndsrest.com
SUMMARY:Trivia Night at Hound's Court!
DESCRIPTION:Free Trivia with prizes; what more do you need!  Multi-round team trivia with Hound’s Rest gift certificates won for each round and for the overall winner!
URL:https://houndsrest.com/event/trivia-night-at-hounds-court/2025-09-21/
LOCATION:Hound’s Court\, 120 N Neil St\, Champaign\, IL\, 61822\, United States
CATEGORIES:Trivia
ATTACH;FMTTYPE=image/jpeg:https://houndsrest.com/wp-content/uploads/2024/09/360_F_253816768_HCShTG3B5MLGS4HN3Rt4ZGkFx5sGXxwe.jpg
END:VEVENT
BEGIN:VEVENT
DTSTART;TZID=America/Chicago:20250917T190000
DTEND;TZID=America/Chicago:20250917T233000
DTSTAMP:20260422T140113
CREATED:20240929T184201Z
LAST-MODIFIED:20240929T184201Z
UID:10000576-1758135600-1758151800@houndsrest.com
SUMMARY:Cocktail Flight Night at Hound's Court!
DESCRIPTION:Come out to partake in a flight! Varying offerings will come weekly.
URL:https://houndsrest.com/event/cocktail-flight-night-at-hounds-court/2025-09-17/
LOCATION:Hound’s Court\, 120 N Neil St\, Champaign\, IL\, 61822\, United States
CATEGORIES:Featuring Alcohol
ATTACH;FMTTYPE=image/jpeg:https://houndsrest.com/wp-content/uploads/2024/09/image0.jpeg
END:VEVENT
BEGIN:VEVENT
DTSTART;TZID=America/Chicago:20250914T190000
DTEND;TZID=America/Chicago:20250914T200000
DTSTAMP:20260422T140113
CREATED:20240929T183017Z
LAST-MODIFIED:20240929T183017Z
UID:10000051-1757876400-1757880000@houndsrest.com
SUMMARY:Trivia Night at Hound's Court!
DESCRIPTION:Free Trivia with prizes; what more do you need!  Multi-round team trivia with Hound’s Rest gift certificates won for each round and for the overall winner!
URL:https://houndsrest.com/event/trivia-night-at-hounds-court/2025-09-14/
LOCATION:Hound’s Court\, 120 N Neil St\, Champaign\, IL\, 61822\, United States
CATEGORIES:Trivia
ATTACH;FMTTYPE=image/jpeg:https://houndsrest.com/wp-content/uploads/2024/09/360_F_253816768_HCShTG3B5MLGS4HN3Rt4ZGkFx5sGXxwe.jpg
END:VEVENT
BEGIN:VEVENT
DTSTART;TZID=America/Chicago:20250910T190000
DTEND;TZID=America/Chicago:20250910T233000
DTSTAMP:20260422T140113
CREATED:20240929T184201Z
LAST-MODIFIED:20240929T184201Z
UID:10000575-1757530800-1757547000@houndsrest.com
SUMMARY:Cocktail Flight Night at Hound's Court!
DESCRIPTION:Come out to partake in a flight! Varying offerings will come weekly.
URL:https://houndsrest.com/event/cocktail-flight-night-at-hounds-court/2025-09-10/
LOCATION:Hound’s Court\, 120 N Neil St\, Champaign\, IL\, 61822\, United States
CATEGORIES:Featuring Alcohol
ATTACH;FMTTYPE=image/jpeg:https://houndsrest.com/wp-content/uploads/2024/09/image0.jpeg
END:VEVENT
BEGIN:VEVENT
DTSTART;TZID=America/Chicago:20250907T190000
DTEND;TZID=America/Chicago:20250907T200000
DTSTAMP:20260422T140113
CREATED:20240929T183017Z
LAST-MODIFIED:20240929T183017Z
UID:10000050-1757271600-1757275200@houndsrest.com
SUMMARY:Trivia Night at Hound's Court!
DESCRIPTION:Free Trivia with prizes; what more do you need!  Multi-round team trivia with Hound’s Rest gift certificates won for each round and for the overall winner!
URL:https://houndsrest.com/event/trivia-night-at-hounds-court/2025-09-07/
LOCATION:Hound’s Court\, 120 N Neil St\, Champaign\, IL\, 61822\, United States
CATEGORIES:Trivia
ATTACH;FMTTYPE=image/jpeg:https://houndsrest.com/wp-content/uploads/2024/09/360_F_253816768_HCShTG3B5MLGS4HN3Rt4ZGkFx5sGXxwe.jpg
END:VEVENT
END:VCALENDAR